Workbook

Sheet bil. ternakan
A3: BILANGAN TERNAKAN
A4: TAHUN 2023
A6: DAERAH | B6: KERBAU | C6: LEMBU PEDAGING | D6: LEMBU TENUSU | E6: JUMLAH LEMBU | F6: KAMBING PEDAGING | G6: KAMBING TENUSU | H6: BEBIRI | I6: BABI
A7: SEREMBAN | B7: 528 | C7: 3636 | D7: 1621 | E7: =SUM(C7:D7) -> 5257 | F7: 2357 | G7: 60 | H7: 816 | I7: 0
A8: JELEBU | B8: 146 | C8: 5430 | D8: 130 | E8: =SUM(C8:D8) -> 5560 | F8: 2231 | G8: 0 | H8: 4577 | I8: 0
A9: REMBAU | B9: 671 | C9: 4420 | D9: 259 | E9: =SUM(C9:D9) -> 4679 | F9: 2083 | G9: 120 | H9: 1789 | I9: 0
A10: KUALA PILAH | B10: 177 | C10: 1718 | D10: 558 | E10: =SUM(C10:D10) -> 2276 | F10: 2738 | G10: 0 | H10: 2562 | I10: 0
A11: JEMPOL | B11: 795 | C11: 17342 | D11: 163 | E11: =SUM(C11:D11) -> 17505 | F11: 2025 | G11: 0 | H11: 3869 | I11: 0
A12: TAMPIN | B12: 332 | C12: 6637 | D12: 381 | E12: =SUM(C12:D12) -> 7018 | F12: 1592 | G12: 0 | H12: 2354 | I12: 380
A13: PORT DICKSON | B13: 18 | C13: 4157 | D13: 946 | E13: =SUM(C13:D13) -> 5103 | F13: 2393 | G13: 30 | H13: 736 | I13: 0
A14: JUMLAH | B14: =SUM(B7:B13) -> 2667 | C14: =SUM(C7:C13) -> 43340 | D14: =SUM(D7:D13) -> 4058 | E14: =SUM(E7:E13) -> 47398 | F14: =SUM(F7:F13) -> 15419 | G14: =SUM(G7:G13) -> 210 | H14: =SUM(H7:H13) -> 16703 | I14: =SUM(I7:I13) -> 380

Sheet pedaging
A2: BANCI LEMBU PEDAGING
A3: TAHUN 2023
B5: Lembu K.K | I5: Lembu Kacukan Daging | P5: Jumlah | S5: Jumlah Penternak
A6: DAERAH | B6: Jantan | E6: Betina | H6: Jumlah | I6: Jantan | L6: Betina | O6: Jumlah
B7: <1 thn | C7: 1-2 thn | D7: >2 thn | E7: <1 thn | F7: 1-2 thn | G7: >2 thn | I7: <1 thn | J7: 1-2 thn | K7: >2 thn | L7: <1 thn | M7: 1-2 thn | N7: >2 thn | P7: Jantan | Q7: Betina | R7: Jumlah
A8: SEREMBAN | B8: 45 | C8: 116 | D8: 29 | E8: 50 | F8: 81 | G8: 117 | H8: =SUM(B8:G8) -> 438 | I8: 310 | J8: 944 | K8: 506 | L8: 256 | M8: 581 | N8: 601 | O8: =SUM(I8:N8) -> 3198 | P8: =+B8+C8+D8+I8+J8+K8 -> 1950 | Q8: =+E8+F8+G8+L8+M8+N8 -> 1686 | R8: =SUM(P8:Q8) -> 3636 | S8: 64 | T8: (1 TDK AKTIF) | U8: =+O8+H8 -> 3636 | W8: =+R8-U8 -> 0
A9: JELEBU | I9: 676 | J9: 766 | K9: 392 | L9: 850 | M9: 1306 | N9: 1440 | O9: =SUM(I9:N9) -> 5430 | P9: =+I9+J9+K9 -> 1834 | Q9: =+L9+M9+N9 -> 3596 | R9: =SUM(P9:Q9) -> 5430 | S9: 160 | T9: (13 TDK AKTIF) | U9: =+O9+H9 -> 5430 | W9: =+R9-U9 -> 0
A10: REMBAU | B10: 3 | C10: 51 | D10: 5 | E10: 3 | F10: 10 | G10: 24 | H10: =SUM(B10:G10) -> 96 | I10: 365 | J10: 456 | K10: 470 | L10: 569 | M10: 772 | N10: 1692 | O10: =SUM(I10:N10) -> 4324 | P10: =+B10+C10+D10+I10+J10+K10 -> 1350 | Q10: =+E10+F10+G10+L10+M10+N10 -> 3070 | R10: =SUM(P10:Q10) -> 4420 | S10: 123 | U10: =+O10+H10 -> 4420 | W10: =+R10-U10 -> 0 | Y10: 7.84 | Z10: 9.943 | AA10: 10.86 | AB10: 21.05 | AC10: 28.62 | AD10: 21.69 | AE10: =SUM(Y10:AD10) -> 100.003 | AH10: 4747 | AK10: -
A11: KUALA PILAH | B11: 135 | C11: 187 | D11: 229 | E11: 578 | F11: 189 | G11: 260 | H11: =SUM(B11:G11) -> 1578 | I11: 5 | J11: 17 | K11: 7 | L11: 111 | M11: 0 | N11: 0 | O11: =SUM(I11:N11) -> 140 | P11: =+B11+C11+D11+I11+J11+K11 -> 580 | Q11: =+E11+F11+G11+L11+M11+N11 -> 1138 | R11: =SUM(P11:Q11) -> 1718 | S11: 43 | U11: =+O11+H11 -> 1718 | W11: =+R11-U11 -> 0
A12: JEMPOL | I12: 2545 | J12: 1901 | K12: 1451 | L12: 2737 | M12: 2707 | N12: 6001 | O12: =SUM(I12:N12) -> 17342 | P12: =+I12+J12+K12 -> 5897 | Q12: =+L12+M12+N12 -> 11445 | R12: =SUM(P12:Q12) -> 17342 | S12: 188 | T12: (13 TDK AKTIF) | U12: =+O12+H12 -> 17342 | W12: =+R12-U12 -> 0
A13: TAMPIN | B13: 991 | C13: 1053 | D13: 442 | E13: 1165 | F13: 1384 | G13: 1602 | H13: =SUM(B13:G13) -> 6637 | P13: =+B13+C13+D13 -> 2486 | Q13: =+E13+F13+G13 -> 4151 | R13: =SUM(P13:Q13) -> 6637 | S13: 137
A14: PORT DICKSON | B14: 92 | C14: 110 | D14: 71 | E14: 169 | F14: 394 | G14: 195 | H14: =SUM(B14:G14) -> 1031 | I14: 294 | J14: 359 | K14: 249 | L14: 349 | M14: 994 | N14: 881 | O14: =SUM(I14:N14) -> 3126 | P14: =+B14+C14+D14+I14+J14+K14 -> 1175 | Q14: =+E14+F14+G14+L14+M14+N14 -> 2982 | R14: =SUM(P14:Q14) -> 4157 | S14: 143 | T14: (1 TDK AKTIF) | U14: =+O14+H14 -> 4157 | W14: =+R14-U14 -> 0
A15: JUMLAH | B15: =SUM(B8:B14) -> 1266 | C15: =SUM(C8:C14) -> 1517 | D15: =SUM(D8:D14) -> 776 | E15: =SUM(E8:E14) -> 1965 | F15: =SUM(F8:F14) -> 2058 | G15: =SUM(G8:G14) -> 2198 | H15: =SUM(H8:H14) -> 9780 | I15: =SUM(I8:I14) -> 4195 | ... S15: =SUM(S8:S14) -> 858 | U15: =+O15+H15 -> 43340 | W15: =+R15-U15 -> 0

Sheet tenusu
A2: BANCI LEMBU TENUSU
A3: TAHUN 2023
B6: Lembu Tenusu /LID | I6: Lembu Kacukan Tenusu | P6: Jumlah | S6: Jumlah Penternak
A7: DAERAH | B7: Jantan | E7: Betina | H7: Jumlah | I7: Jantan | L7: Betina | O7: Jumlah
B8: <1 thn | C8: 1-2 thn | D8: >2 thn | E8: <1 thn | F8: 1-2 thn | G8: >2 thn | I8: <1 thn | J8: 1-2 thn | K8: >2 thn | L8: <1 thn | M8: 1-2 thn | N8: >2 thn | P8: Jantan | Q8: Betina | R8: Jumlah
A9: SEREMBAN | I9: 119 | J9: 142 | K9: 94 | L9: 161 | M9: 283 | N9: 822 | O9: =SUM(I9:N9) -> 1621 | P9: =+I9+J9+K9 -> 355 | Q9: =+L9+M9+N9 -> 1266 | R9: =SUM(P9:Q9) -> 1621 | S9: 47 | T9: (4 TDK AKTIF)
A10: JELEBU | I10: 20 | J10: 6 | K10: 5 | L10: 20 | M10: 12 | N10: 67 | O10: =SUM(I10:N10) -> 130 | P10: =+I10+J10+K10 -> 31 | Q10: =+L10+M10+N10 -> 99 | R10: =SUM(P10:Q10) -> 130 | S10: 3 | T10: ( 1 TDK AKTIF)
A11: REMBAU | I11: 18 | J11: 4 | K11: 10 | L11: 17 | M11: 52 | N11: 158 | O11: =SUM(I11:N11) -> 259 | P11: =+I11+J11+K11 -> 32 | Q11: =+L11+M11+N11 -> 227 | R11: =SUM(P11:Q11) -> 259 | S11: 4
A12: KUALA PILAH | I12: 0 | J12: 70 | K12: 5 | L12: 81 | M12: 43 | N12: 359 | O12: =SUM(I12:N12) -> 558 | P12: =+I12+J12+K12 -> 75 | Q12: =+L12+M12+N12 -> 483 | R12: =SUM(P12:Q12) -> 558 | S12: 1
A13: JEMPOL | I13: 31 | J13: 10 | K13: 10 | L13: 27 | M13: 29 | N13: 56 | O13: =SUM(I13:N13) -> 163 | P13: =+I13+J13+K13 -> 51 | Q13: =+L13+M13+N13 -> 112 | R13: =SUM(P13:Q13) -> 163 | S13: 4 | T13: ( 1 TDK AKTIF)
A14: TAMPIN | I14: 32 | J14: 31 | K14: 16 | L14: 76 | M14: 109 | N14: 117 | O14: =SUM(I14:N14) -> 381 | P14: =+I14+J14+K14 -> 79 | Q14: =+L14+M14+N14 -> 302 | R14: =SUM(P14:Q14) -> 381 | S14: 17
A15: PORT DICKSON | I15: 76 | J15: 55 | K15: 59 | L15: 110 | M15: 318 | N15: 328 | O15: =SUM(I15:N15) -> 946 | P15: =+I15+J15+K15 -> 190 | Q15: =+L15+M15+N15 -> 756 | R15: =SUM(P15:Q15) -> 946 | S15: 24 | T15: ( 1 TDK AKTIF)
A16: JUMLAH | I16: =SUM(I9:I15) -> 296 | J16: =SUM(J9:J15) -> 318 | K16: =SUM(K9:K15) -> 199 | L16: =SUM(L9:L15) -> 492 | M16: =SUM(M9:M15) -> 846 | N16: =SUM(N9:N15) -> 1907 | O16: =SUM(O9:O15) -> 4058 | P16: =SUM(P9:P15) -> 813 | ... S16: =SUM(S9:S15) -> 100

Sheet kerbau
A2: BANCI KERBAU
A3: TAHUN 2023
B5: Sawah | I5: Murrah | P5: Jumlah | S5: Jumlah Penternak
A6: DAERAH | B6: Jantan | E6: Betina | H6: Jumlah | I6: Jantan | L6: Betina | O6: Jumlah
B7: <1 thn | C7: 1-2 thn | D7: >2 thn | E7: <1 thn | F7: 1-2 thn | G7: >2 thn | I7: <1 thn | J7: 1-2 thn | K7: >2 thn | L7: <1 thn | M7: 1-2 thn | N7: >2 thn | P7: Jantan | Q7: Betina | R7: Jumlah
A8: SEREMBAN | B8: 70 | C8: 121 | D8: 49 | E8: 72 | F8: 101 | G8: 115 | H8: =SUM(B8:G8) -> 528 | P8: =+B8+C8+D8 -> 240 | Q8: =+E8+F8+G8 -> 288 | R8: =SUM(P8:Q8) -> 528 | S8: 8
A9: JELEBU | B9: 19 | C9: 25 | D9: 10 | E9: 21 | F9: 33 | G9: 38 | H9: =SUM(B9:G9) -> 146 | P9: =+B9+C9+D9 -> 54 | Q9: =+E9+F9+G9 -> 92 | R9: =SUM(P9:Q9) -> 146 | S9: 8
A10: REMBAU | B10: 5 | C10: 8 | D10: 9 | E10: 25 | F10: 25 | G10: 30 | H10: =SUM(B10:G10) -> 102 | I10: 43 | J10: 56 | K10: 45 | L10: 91 | M10: 113 | N10: 221 | O10: =SUM(I10:N10) -> 569 | P10: =+B10+C10+D10+I10+J10+K10 -> 166 | Q10: =+E10+F10+G10+L10+M10+N10 -> 505 | R10: =SUM(P10:Q10) -> 671 | S10: 24
A11: KUALA PILAH | B11: 18 | C11: 12 | D11: 17 | E11: 38 | F11: 27 | G11: 65 | H11: =SUM(B11:G11) -> 177 | P11: =+B11+C11+D11 -> 47 | Q11: =+E11+F11+G11 -> 130 | R11: =SUM(P11:Q11) -> 177 | S11: 12
A12: JEMPOL | B12: 120 | C12: 71 | D12: 70 | E12: 144 | F12: 134 | G12: 256 | H12: =SUM(B12:G12) -> 795 | P12: =+B12+C12+D12 -> 261 | Q12: =+E12+F12+G12 -> 534 | R12: =SUM(P12:Q12) -> 795 | S12: 17 | T12: ( 2 tdk aktif)
A13: TAMPIN | B13: 42 | C13: 39 | D13: 32 | E13: 67 | F13: 74 | G13: 78 | H13: =SUM(B13:G13) -> 332 | P13: =+B13+C13+D13 -> 113 | Q13: =+E13+F13+G13 -> 219 | R13: =SUM(P13:Q13) -> 332 | S13: 15 | T13: ( 1 tdk aktif)
A14: PORT DICKSON | B14: 0 | C14: 4 | D14: 2 | E14: 2 | F14: 3 | G14: 7 | H14: =SUM(B14:G14) -> 18 | P14: =+B14+C14+D14 -> 6 | Q14: =+E14+F14+G14 -> 12 | R14: =SUM(P14:Q14) -> 18 | S14: 2
A15: JUMLAH | B15: =SUM(B8:B14) -> 274 | C15: =SUM(C8:C14) -> 280 | D15: =SUM(D8:D14) -> 189 | E15: =SUM(E8:E14) -> 369 | F15: =SUM(F8:F14) -> 397 | G15: =SUM(G8:G14) -> 589 | H15: =SUM(H8:H14) -> 2098 | I15: =SUM(I8:I14) -> 43 | ... S15: =SUM(S8:S14) -> 86

Sheet kambing
A1: BANCIAN KAMBING PEDAGING
A2: TAHUN 2023
A5: DAERAH | B5: Jantan | F5: Betina | J5: Jumlah | N5: Jumlah Penternak
B6: <6bln | C6: 6-12bln | D6: >1 thn | E6: Jumlah | F6: <6bln | G6: 6-12bln | H6: >1 thn | I6: Jumlah | J6: <6bln | K6: 6-12bln | L6: >1 thn | M6: Jumlah
A7: SEREMBAN | B7: 180 | C7: 347 | D7: 292 | E7: =SUM(B7:D7) -> 819 | F7: 244 | G7: 361 | H7: 933 | I7: =SUM(F7:H7) -> 1538 | J7: =+B7+F7 -> 424 | K7: =+C7+G7 -> 708 | L7: =+D7+H7 -> 1225 | M7: =SUM(J7:L7) -> 2357 | N7: 77 | O7: ( 2 TDK AKTIF)
A8: JELEBU | B8: 266 | C8: 277 | D8: 297 | E8: =SUM(B8:D8) -> 840 | F8: 301 | G8: 423 | H8: 667 | I8: =SUM(F8:H8) -> 1391 | J8: =+B8+F8 -> 567 | K8: =+C8+G8 -> 700 | L8: =+D8+H8 -> 964 | M8: =SUM(J8:L8) -> 2231 | N8: 101 | O8: ( 1 5 TDK AKTIF)
A9: REMBAU | B9: 101 | C9: 201 | D9: 218 | E9: =SUM(B9:D9) -> 520 | F9: 228 | G9: 375 | H9: 960 | I9: =SUM(F9:H9) -> 1563 | J9: =+B9+F9 -> 329 | K9: =+C9+G9 -> 576 | L9: =+D9+H9 -> 1178 | M9: =SUM(J9:L9) -> 2083 | N9: 68
A10: KUALA PILAH | B10: 369 | C10: 307 | D10: 134 | E10: =SUM(B10:D10) -> 810 | F10: 679 | G10: 954 | H10: 295 | I10: =SUM(F10:H10) -> 1928 | J10: =+B10+F10 -> 1048 | K10: =+C10+G10 -> 1261 | L10: =+D10+H10 -> 429 | M10: =SUM(J10:L10) -> 2738 | N10: 113
A11: JEMPOL | B11: 408 | C11: 217 | D11: 195 | E11: =SUM(B11:D11) -> 820 | F11: 417 | G11: 251 | H11: 537 | I11: =SUM(F11:H11) -> 1205 | J11: =+B11+F11 -> 825 | K11: =+C11+G11 -> 468 | L11: =+D11+H11 -> 732 | M11: =SUM(J11:L11) -> 2025 | N11: 54 | O11: ( 3 TDK AKTIF)
A12: TAMPIN | B12: 263 | C12: 245 | D12: 100 | E12: =SUM(B12:D12) -> 608 | F12: 297 | G12: 334 | H12: 353 | I12: =SUM(F12:H12) -> 984 | J12: =+B12+F12 -> 560 | K12: =+C12+G12 -> 579 | L12: =+D12+H12 -> 453 | M12: =SUM(J12:L12) -> 1592 | N12: 58 | O12: ( 2 TDK AKTIF)
A13: PORT DICKSON | B13: 125 | C13: 277 | D13: 217 | E13: =SUM(B13:D13) -> 619 | F13: 189 | G13: 494 | H13: 1091 | I13: =SUM(F13:H13) -> 1774 | J13: =+B13+F13 -> 314 | K13: =+C13+G13 -> 771 | L13: =+D13+H13 -> 1308 | M13: =SUM(J13:L13) -> 2393 | N13: 88
A14: JUMLAH | B14: =SUM(B7:B13) -> 1712 | C14: =SUM(C7:C13) -> 1871 | D14: =SUM(D7:D13) -> 1453 | E14: =SUM(E7:E13) -> 5036 | F14: =SUM(F7:F13) -> 2355 | G14: =SUM(G7:G13) -> 3192 | H14: =SUM(H7:H13) -> 4836 | I14: =SUM(I7:I13) -> 10383 | ... N14: =SUM(N7:N13) -> 559

Sheet kambing tenusu
A2: BANCIAN KAMBING SUSU
A3: TAHUN 2023
A5: DAERAH | C5: Jantan | G5: Betina | K5: Jumlah | N5: Jumlah Penternak
B6: <6bln | C6: 6-12bln | D6: >1 thn | E6: Jumlah | F6: <6bln | G6: 6-12bln | H6: >1 thn | I6: Jumlah | J6: <6bln | K6: 6-12bln | L6: >1 thn | M6: Jumlah
A7: SEREMBAN | B7: 10 | C7: 3 | D7: 2 | E7: =SUM(B7:D7) -> 15 | F7: 10 | G7: 5 | H7: 30 | I7: =SUM(F7:H7) -> 45 | J7: =+B7+F7 -> 20 | K7: =+C7+G7 -> 8 | L7: =+D7+H7 -> 32 | M7: =SUM(J7:L7) -> 60 | N7: 1
A8: JELEBU | B8: 0 | C8: 0 | D8: 0 | E8: 0 | F8: 0 | G8: 0 | H8: 0 | I8: =SUM(F8:H8) -> 0 | J8: 0 | K8: 0 | L8: 0 | M8: 0 | N8: 0
A9: REMBAU | B9: 9 | C9: 15 | D9: 11 | E9: =SUM(B9:D9) -> 35 | F9: 15 | G9: 10 | H9: 60 | I9: =SUM(F9:H9) -> 85 | J9: =+B9+F9 -> 24 | K9: =+C9+G9 -> 25 | L9: =+D9+H9 -> 71 | M9: =SUM(J9:L9) -> 120 | N9: 1
A10: KUALA PILAH | B10: 0 | C10: 0 | D10: 0 | E10: =SUM(B10:D10) -> 0 | F10: 0 | G10: 0 | H10: 0 | I10: =SUM(F10:H10) -> 0 | J10: 0 | K10: 0 | L10: 0 | M10: =SUM(J10:L10) -> 0 | N10: 0
A11: JEMPOL | B11: 0 | C11: 0 | D11: 0 | E11: =SUM(B11:D11) -> 0 | F11: 0 | G11: 0 | H11: 0 | I11: =SUM(F11:H11) -> 0 | J11: 0 | K11: 0 | L11: 0 | M11: =SUM(J11:L11) -> 0 | N11: 0
A12: TAMPIN | B12: 0 | C12: 0 | D12: 0 | E12: =SUM(B12:D12) -> 0 | F12: 0 | G12: 0 | H12: 0 | I12: =SUM(F12:H12) -> 0 | J12: 0 | K12: 0 | L12: 0 | M12: =SUM(J12:L12) -> 0 | N12: 0
A13: PORT DICKSON | B13: 6 | C13: 0 | D13: 3 | E13: =SUM(B13:D13) -> 9 | F13: 6 | G13: 2 | H13: 13 | I13: =SUM(F13:H13) -> 21 | J13: =+B13+F13 -> 12 | K13: =+C13+G13 -> 2 | L13: =+D13+H13 -> 16 | M13: =SUM(J13:L13) -> 30 | N13: 4
A14: JUMLAH | B14: =SUM(B7:B13) -> 25 | C14: =SUM(C7:C13) -> 18 | D14: =SUM(D7:D13) -> 16 | E14: =SUM(E7:E13) -> 59 | F14: =SUM(F7:F13) -> 31 | G14: =SUM(G7:G13) -> 17 | H14: =SUM(H7:H13) -> 103 | I14: =SUM(I7:I13) -> 151 | ... N14: =SUM(N7:N13) -> 6

Sheet bebiri 
A2: BANCIAN BEBIRI
A3: TAHUN 2023
A5: DAERAH | B5: Jantan | F5: Betina | J5: Jumlah Besar | N5: Jumlah Penternak
B6: <6bln | C6: 6-12bln | D6: >1 thn | E6: Jumlah | F6: <6bln | G6: 6-12bln | H6: >1 thn | I6: Jumlah | J6: <6bln | K6: 6-12bln | L6: >1 thn | M6: Jumlah
A7: SEREMBAN | B7: 102 | C7: 134 | D7: 96 | E7: =SUM(B7:D7) -> 332 | F7: 116 | G7: 129 | H7: 239 | I7: =SUM(F7:H7) -> 484 | J7: =+B7+F7 -> 218 | K7: =+C7+G7 -> 263 | L7: =+D7+H7 -> 335 | M7: =SUM(J7:L7) -> 816 | N7: 21
A8: JELEBU | B8: 582 | C8: 703 | D8: 524 | E8: =SUM(B8:D8) -> 1809 | F8: 581 | G8: 746 | H8: 1441 | I8: =SUM(F8:H8) -> 2768 | J8: =+B8+F8 -> 1163 | K8: =+C8+G8 -> 1449 | L8: =+D8+H8 -> 1965 | M8: =SUM(J8:L8) -> 4577 | N8: 130 | O8: ( 1 4 TDK AKTIF)
A9: REMBAU | B9: 93 | C9: 187 | D9: 450 | E9: =SUM(B9:D9) -> 730 | F9: 125 | G9: 334 | H9: 600 | I9: =SUM(F9:H9) -> 1059 | J9: =+B9+F9 -> 218 | K9: =+C9+G9 -> 521 | L9: =+D9+H9 -> 1050 | M9: =SUM(J9:L9) -> 1789 | N9: 40
A10: KUALA PILAH | B10: 325 | C10: 239 | D10: 128 | E10: =SUM(B10:D10) -> 692 | F10: 650 | G10: 783 | H10: 437 | I10: =SUM(F10:H10) -> 1870 | J10: =+B10+F10 -> 975 | K10: =+C10+G10 -> 1022 | L10: =+D10+H10 -> 565 | M10: =SUM(J10:L10) -> 2562 | N10: 99
A11: JEMPOL | B11: 567 | C11: 400 | D11: 446 | E11: =SUM(B11:D11) -> 1413 | F11: 687 | G11: 597 | H11: 1172 | I11: =SUM(F11:H11) -> 2456 | J11: =+B11+F11 -> 1254 | K11: =+C11+G11 -> 997 | L11: =+D11+H11 -> 1618 | M11: =SUM(J11:L11) -> 3869 | N11: 66 | O11: ( 1 TDK AKTIF)
A12: TAMPIN | B12: 373 | C12: 357 | D12: 177 | E12: =SUM(B12:D12) -> 907 | F12: 480 | G12: 456 | H12: 511 | I12: =SUM(F12:H12) -> 1447 | J12: =+B12+F12 -> 853 | K12: =+C12+G12 -> 813 | L12: =+D12+H12 -> 688 | M12: =SUM(J12:L12) -> 2354 | N12: 72
A13: PORT DICKSON | B13: 73 | C13: 63 | D13: 37 | E13: =SUM(B13:D13) -> 173 | F13: 73 | G13: 150 | H13: 340 | I13: =SUM(F13:H13) -> 563 | J13: =+B13+F13 -> 146 | K13: =+C13+G13 -> 213 | L13: =+D13+H13 -> 377 | M13: =SUM(J13:L13) -> 736 | N13: 15
A14: JUMLAH | B14: =SUM(B7:B13) -> 2115 | C14: =SUM(C7:C13) -> 2083 | D14: =SUM(D7:D13) -> 1858 | E14: =SUM(E7:E13) -> 6056 | F14: =SUM(F7:F13) -> 2712 | G14: =SUM(G7:G13) -> 3195 | H14: =SUM(H7:H13) -> 4740 | I14: =SUM(I7:I13) -> 10647 | ... N14: =SUM(N7:N13) -> 443

Sheet babi
B3: BANCI BABI
B4: TAHUN 2023
B6: DAERAH | C6: BAKA | D6: BETINA | E6: LAIN-LAIN | F6: JUMLAH | G6: JUMLAH PENTERNAK
B7: SEREMBAN | C7: ₋ | D7: ₋ | E7: ₋ | F7: ₋ | G7: ₋
B10: JELEBU | C10: ₋ | D10: ₋ | E10: ₋ | F10: ₋ | G10: ₋
B13: REMBAU | C13: ₋ | D13: ₋ | E13: ₋ | F13: ₋ | G13: ₋
B16: KUALA PILAH | C16: ₋ | D16: ₋ | E16: ₋ | F16: ₋ | G16: ₋
B19: JEMPOL | C19: ₋ | D19: ₋ | E19: ₋ | F19: ₋ | G19: ₋
B22: TAMPIN | C22: 10 | D22: 150 | E22: 220 | F22: =SUM(C22:E22) -> 380 | G22: 1
B25: PORT DICKSON | C25: ₋ | D25: ₋ | E25: ₋ | F25: ₋ | G25: ₋
B28: JUMLAH | G28: 1
B35: kategori lain-lain:
B36: anak betina -120 ekor
B37: anak jantan - 100 ekor

Sheet ayam
A1: BANCI AYAM
A2: TAHUN 2023
A4: DAERAH | B4: Ayam Kampong | D4: Ayam Pedaging | F4: Ayam Penelur | H4: Ayam Baka/Pembiak | J4: Jumlah Keseluruhan
B5: Ternakan | C5: Penternak | D5: Ternakan | E5: Penternak | F5: Ternakan | G5: Penternak | H5: Ternakan | I5: Penternak | J5: Ternakan | K5: Penternak
A6: SEREMBAN | B6: 24720 | C6: 18 | D6: 2072700 | E6: 18 | F6: 1650000 | G6: 3 | H6: 0 | I6: 0 | J6: =+B6+D6+F6+H6 -> 3747420 | K6: =+C6+E6+G6+I6 -> 39
A7: JELEBU | B7: 86489 | C7: 94 | D7: 2222900 | E7: 20 | F7: 0 | G7: 0 | H7: 0 | I7: 0 | J7: =+B7+D7+F7+H7 -> 2309389 | K7: =+C7+E7+G7+I7 -> 114
A8: REMBAU | B8: 4556 | C8: 26 | D8: 870500 | E8: 10 | F8: 1222080 | G8: 2 | H8: 578520 | I8: 4 | J8: =+B8+D8+F8+H8 -> 2675656 | K8: =+C8+E8+G8+I8 -> 42
A9: KUALA PILAH | B9: 6926 | C9: 78 | D9: 712000 | E9: 4 | F9: 800000 | G9: 1 | H9: 184000 | I9: 2 | J9: =+B9+D9+F9+H9 -> 1702926 | K9: =+C9+E9+G9+I9 -> 85
A10: JEMPOL | B10: 3185 | C10: 14 | D10: 2323100 | E10: 19 | F10: 0 | G10: 0 | H10: 160000 | I10: 1 | J10: =+B10+D10+F10+H10 -> 2486285 | K10: =+C10+E10+G10+I10 -> 34
A11: TAMPIN | B11: 1645 | C11: 13 | D11: 7691000 | E11: 25 | F11: 950000 | G11: 1 | H11: 1935000 | I11: 13 | J11: =+B11+D11+F11+H11 -> 10577645 | K11: =+C11+E11+G11+I11 -> 52
A12: PORT DICKSON | B12: 37427 | C12: 24 | D12: 4033500 | E12: 58 | F12: 1515936 | G12: 2 | H12: 648512 | I12: 3 | J12: =+B12+D12+F12+H12 -> 6235375 | K12: =+C12+E12+G12+I12 -> 87
A13: JUMLAH | B13: =SUM(B6:B12) -> 164948 | C13: =SUM(C6:C12) -> 267 | D13: =SUM(D6:D12) -> 19925700 | E13: =SUM(E6:E12) -> 154 | F13: =SUM(F6:F12) -> 6138016 | G13: =SUM(G6:G12) -> 9 | H13: =SUM(H6:H12) -> 3506032 | I13: =SUM(I6:I12) -> 23 | ... K13: =SUM(K6:K12) -> 453
A14: PENAMBAHAN KAPASITI EKOR/ BIJI 34 BUAH LADANG:
A15: **** BANCI AYAM DAGING & AYAM PENELUR & AYAM BAKA | H15: ***BANCI AYAM KAMPUNG
A16: DAERAH SEREMBAN | C16: DAERAH JELEBU | E16: DAERAH TAMPIN | H16: Daerah Rembau - 1 penternak tdk aktif
A17: JD /SBN /08 - 32,000 EKOR | C17: JD/JLB/03 - 30,000 EKOR | E17: JD/TAM/16 - 20,000 EKOR | H17: Daerah Seremban - 2 penternak tdk aktif
A18: JD/SBN/15 - 28,000 EKOR | C18: JD/JLB/11 - 4,800 EKOR | E18: JD/TAM/20 - 84,000 EKOR | H18: Daerah Jelebu - 6 penternak tdk aktif
A19: JD/SBN/21 - 3,700 EKOR | C19: JD/JLB/13 - 10,000 EKOR | E19: JD/TAM26 - 3,000 EKOR | H19: Daerah Jempol - 1 penternak tkd aktif
C20: JD/JLB/15 - 42,000 EKOR | E20: JD/TAM/28 - 10,000 EKOR
A21: DAERAH JEMPOL | C21: JD/JLB/31 - 20,000 EKOR | E21: JD/TAM/39 - 276000 EKOR
A22: JD/ JEM/01 - 1,000 EKOR | C22: JD/JLB/32 - 140,000 EKOR | E22: JD/TAM/ 44 - 240,000 EKOR | H22: PENGURANGAN KAPASITI AYAM DAGING
A23: JD/JEM/06 - 15,000 EKOR | C23: JD/JLB/34 - 14,600 EKOR | E23: JD/TAM/ 45 - 240,000 EKOR | H23: JD /JEM / 19 - 16,000 EKOR - | J23: SYARIKAT RAMIDA MENGURANGKAN POPULASI DISEBABKAN TIADA TENAGA KERJA YANG CUKUP UNTUK MENJAGA TERNAKAN.
A24: JD/ JEM /22 - 20,300 EKOR | E24: JD/TAM/46 - 280,000 EKOR | H24: (SYARIKAT RAMIDA SDN BHD)
A25: JD / JEM/23 - 7,000 EKOR | E25: JD/TAM/47 - 840,000 EKOR
A26: JD/JEM/24 - 30,414 EKOR | E26: JD/TAM/48 - 680,000 EKOR
E27: JT/TAM/03 - 100,000 BIJI | H27: JD/REM/06 - 120,000 EKOR - | J27: REBAN KOSONG DAN
A28: DAERAH PORT DICKSON | C28: DAERAH REMBAU | E28: JB/TAM/04 - 25,720 EKOR | H28: (CHEW CHEE KHONG / FARMS | J28: BUAT PENANGGUHAN SELAMA
A29: JD/PD/22 -20,000 EKOR | C29: JD/REM/14 - 9,000 EKOR | E29: JB/TAM/13 - 24,000 EKOR | H29: BEST FOOD INDUSTRIES SDN. BHD) | J29: 2 TAHUN UNTUK PENAMBAHBAIKKAN REBAN.
A30: JD/PD/24 - 20,000 EKOR | C30: JT/REM/31 - 103,680 BIJI | E30: JB/TAM/32 - 32000 EKOR | H30: JD/PD/61 - 4,000 EKOR
A31: JD/PD/25 - 2,000 EKOR | E31: JB/TAM/33 - 32,000 EKOR | H31: JD/PD/77 - 6,000 EKOR
A32: JD/PD/37 - 50,000 EKOR | E32: JB/TAM/35 - 32,000 EKOR | H32: JD/PD/90 - 15,000 EKOR
A33: JD/PD/44 - 5,000 EKOR | E33: JB/TAM/40 - 32,000 EKOR | H33: JD/TAM/ 30 - 260000 EOR
A34: JD/PD/74 - 10,000 EKOR | E34: JB/TAM/ 41 - 32,000 EKOR
A41: note : AK/REM/34 -AYAM KAMPUNG KAPASITI LULUS PERMOHONAN (50,000 EKOR)
B42: TAPI TUKAR JURUSAN AYAM PEDAGING 2,000 EKOR
A116: *****BANCI AYAM DAGING
A117: PENAMBAHAN KAPASITI 5 BUAH LADANG
A125: PENGURANGAN KAPASITI AYAM DAGING
A126: JD/JEM / 19 - 16,000 EKOR -

Sheet itik
A1: BANCI ITIK
A2: TAHUN 2023
A4: DAERAH | B4: Itik Pembiak | D4: Itik Pedaging | F4: Itik Penelur | H4: Jumlah Keseluruhan
B5: Ternakan | C5: Penternak | D5: Ternakan | E5: Penternak | F5: Ternakan | G5: Penternak | H5: Ternakan | I5: Penternak
A6: SEREMBAN | B6: 0 | C6: 0 | D6: 500 | E6: 2 | F6: 1750 | G6: 5 | H6: =+B6+D6+F6 -> 2250 | I6: =+C6+E6+G6 -> 7
A7: JELEBU | B7: 0 | C7: 0 | D7: 31197 | E7: 33 | F7: 500 | G7: 10 | H7: =+B7+D7+F7 -> 31697 | I7: =+C7+E7+G7 -> 43
A8: REMBAU | B8: 0 | C8: 0 | D8: 185 | E8: 7 | F8: 1077 | G8: 6 | H8: =+B8+D8+F8 -> 1262 | I8: =+C8+E8+G8 -> 13
A9: KUALA PILAH | B9: 0 | C9: 0 | D9: 120 | E9: 1 | F9: 357 | G9: 9 | H9: =+B9+D9+F9 -> 477 | I9: =+C9+E9+G9 -> 10
A10: JEMPOL | B10: 0 | C10: 0 | D10: 365 | E10: 3 | F10: 620 | G10: 4 | H10: =+B10+D10+F10 -> 985 | I10: =+C10+E10+G10 -> 7
A11: TAMPIN | B11: 0 | C11: 0 | D11: 300 | E11: 6 | F11: 40250 | G11: 4 | H11: =+B11+D11+F11 -> 40550 | I11: =+C11+E11+G11 -> 10
A12: PORT DICKSON | B12: 0 | C12: 0 | D12: 258 | E12: 10 | F12: 65 | G12: 2 | H12: =+B12+D12+F12 -> 323 | I12: =+C12+E12+G12 -> 12
A13: JUMLAH | B13: =SUM(B7:B12) -> 0 | C13: =SUM(C7:C12) -> 0 | D13: =SUM(D6:D12) -> 32925 | E13: =SUM(E6:E12) -> 62 | F13: =SUM(F6:F12) -> 44619 | G13: =SUM(G6:G12) -> 40 | H13: =SUM(H6:H12) -> 77544 | I13: =SUM(I6:I12) -> 102
A15: *****ITIK DAGING
A16: Daerah Rembau 5 penternak tdk aktif
A17: Daerah Jelebu 3 penternak tdk aktif
A18: Daerah KP 1 penternak tdk aktif
A21: *****ITIK TELOR
A22: Daerah Jelebu 1 penternak tdk aktif
A23: Daerah Seremban 2 penternak tdk aktif
A24: Daerah Rembau 2 penternak tdk aktif
A25: Daerah Jempol 1 penternak tdk aktif

Sheet puyuh
A2: BANCI PUYUH
A3: TAHUN 2023
A5: DAERAH | B5: Puyuh Pedaging | D5: Puyuh Baka | F5: Puyuh Penelur | H5: Jumlah Keseluruhan
B6: Ternakan | C6: Penternak | D6: Ternakan | E6: Penternak | F6: Ternakan | G6: Penternak | H6: Ternakan | I6: Penternak
A7: SEREMBAN | B7: 1400 | C7: 2 | D7: 0 | E7: 0 | F7: 0 | G7: 0 | H7: =+B7+D7+F7 -> 1400 | I7: =+C7+E7+G7 -> 2
A8: JELEBU | B8: 0 | C8: 0 | D8: 0 | E8: 0 | F8: 0 | G8: 0 | H8: =+B8+D8+F8 -> 0 | I8: =+C8+E8+G8 -> 0
A9: REMBAU | B9: 150000 | C9: 1 | D9: 0 | E9: 0 | F9: 0 | G9: 0 | H9: =+B9+D9+F9 -> 150000 | I9: =+C9+E9+G9 -> 1
A10: KUALA PILAH | B10: 0 | C10: 0 | D10: 0 | E10: 0 | F10: 0 | G10: 0 | H10: =+B10+D10+F10 -> 0 | I10: =+C10+E10+G10 -> 0
A11: JEMPOL | B11: 500 | C11: 1 | D11: 0 | E11: 0 | F11: 0 | G11: 0 | H11: =+B11+D11+F11 -> 500 | I11: =+C11+E11+G11 -> 1
A12: TAMPIN | B12: 0 | C12: 0 | D12: 0 | E12: 0 | F12: 0 | G12: 0 | H12: =+B12+D12+F12 -> 0 | I12: =+C12+E12+G12 -> 0
A13: PORT DICKSON | B13: 0 | C13: 0 | D13: 0 | E13: 0 | F13: 0 | G13: 0 | H13: =+B13+D13+F13 -> 0 | I13: =+C13+E13+G13 -> 0
A14: JUMLAH | B14: =SUM(B7:B13) -> 151900 | C14: =SUM(C7:C13) -> 4 | D14: =SUM(D7:D13) -> 0 | E14: =SUM(E7:E13) -> 0 | F14: =SUM(F7:F13) -> 0 | G14: ₋ | H14: =SUM(H7:H13) -> 151900 | I14: =SUM(I7:I13) -> 4
A17: * 1 BUAH LADANG PUYUH DAGING & 1 BUAH LADANG PUYUH BAKA KOSONG TIADA TERNAKAN
A19: SEREMBAN
A20: PY/SBN/11 ( PUYUH BAKA) - REBAN KOSONG TIADA TERNAKAN
A21: PY/SBN/42 (PUYUH DAGING) - REBAN KOSONG TIADA TERNAKAN

Sheet aneka
A1: BANCI ANEKA HAIWAN
A2: TAHUN 2023
A4: DAERAH | B4: Kuda | F4: Jumlah Penternak | G4: Rusa | K4: Jumlah Penternak | L4: Arnab | P4: Jumlah Penternak
B5: Jantan | C5: Betina | D5: Anak | E5: Jumlah | G5: Jantan | H5: Betina | I5: Anak | J5: Jumlah | L5: Jantan | M5: Betina | N5: Anak | O5: Jumlah
A6: SEREMBAN | B6: 39 | C6: 33 | D6: 0 | E6: =SUM(B6:D6) -> 72 | F6: 6 | G6: 99 | H6: 161 | I6: 0 | J6: =SUM(G6:I6) -> 260 | K6: 4 | L6: 100 | M6: 1500 | N6: 3080 | O6: =SUM(L6:N6) -> 4680 | P6: 3
A7: JELEBU | B7: 0 | C7: 0 | D7: 0 | E7: 0 | F7: 0 | G7: 5 | H7: 30 | I7: 5 | J7: =SUM(G7:I7) -> 40 | K7: 5 | L7: 119 | M7: 173 | N7: 208 | O7: =SUM(L7:N7) -> 500 | P7: 4
A8: REMBAU | B8: 28 | C8: 58 | D8: 2 | E8: 88 | F8: 4 | G8: 2 | H8: 17 | I8: 3 | J8: =SUM(G8:I8) -> 22 | K8: 2 | L8: 25 | M8: 45 | N8: 15 | O8: =SUM(L8:N8) -> 85 | P8: 3
A9: KUALA PILAH | B9: 8 | C9: 12 | D9: 0 | E9: =SUM(B9:D9) -> 20 | F9: 2 | G9: 3 | H9: 5 | I9: 0 | J9: =SUM(G9:I9) -> 8 | K9: 2 | L9: 4 | M9: 11 | N9: 15 | O9: =SUM(L9:N9) -> 30 | P9: 2
A10: JEMPOL | B10: 0 | C10: 0 | D10: 0 | E10: 0 | F10: 0 | G10: 6 | H10: 34 | I10: 24 | J10: =SUM(G10:I10) -> 64 | K10: 5 | L10: 70 | M10: 379 | N10: 309 | O10: =SUM(L10:N10) -> 758 | P10: 3
A11: TAMPIN | B11: 0 | C11: 0 | D11: 0 | E11: 0 | F11: 0 | G11: 11 | H11: 26 | I11: 22 | J11: =SUM(G11:I11) -> 59 | K11: 4 | L11: 30 | M11: 800 | N11: 30 | O11: =SUM(L11:N11) -> 860 | P11: 1
A12: PORT DICKSON | B12: 13 | C12: 9 | D12: 0 | E12: =SUM(B12:D12) -> 22 | F12: 4 | G12: 40 | H12: 63 | I12: 28 | J12: =SUM(G12:I12) -> 131 | K12: 6 | L12: 90 | M12: 200 | N12: 98 | O12: =SUM(L12:N12) -> 388 | P12: 7
A13: JUMLAH | B13: =SUM(B6:B12) -> 88 | C13: =SUM(C6:C12) -> 112 | D13: =SUM(D6:D12) -> 2 | E13: =SUM(E6:E12) -> 202 | F13: =SUM(F6:F12) -> 16 | G13: =SUM(G6:G12) -> 166 | H13: =SUM(H6:H12) -> 336 | I13: =SUM(I6:I12) -> 82 | ... P13: =SUM(P6:P12) -> 23
A15: *****KUDA | G15: ******RUSA | L15: ******ARNAB
A16: Daerah Port Dickson 1 penternak tdk aktif | G16: Daerah Jempol 1 penternak tdk aktif | L16: Daerah Seremban 1 penternak tdk aktif
G17: Daerah Jelebu 1 penternak tdk aktif | L17: Daerah Jelebu 4 penternak tdk aktif
L18: Daerah Jempol 12 penternak tdk aktif

Sheet pel. aneka haiwan
A1: BANCIAN ANEKA HAIWAN & ANEKA UNGGAS
I2: TAHUN 2023
A4: Mukim / Spesis | B4: Landak | D4: Katak | F4: Labi-Labi | H4: Unta | J4: Ostrich | L4: Belanda | N4: Angsa | P4: Merpati | R4: Walit
B5: Ter | C5: Pen | D5: Ter | E5: Pen | F5: Ter | G5: Pen | H5: Ter | I5: Pen | J5: Ter | K5: Pen | L5: Ter | M5: Pen | N5: Ter | O5: Pen | P5: Ter | Q5: Pen | R5: Bil. Pen
A6: SEREMBAN | B6: 0 | C6: 0 | D6: 0 | E6: 0 | F6: 0 | G6: 0 | H6: 0 | I6: 0 | J6: 6 | K6: 1 | L6: 0 | M6: 0 | N6: 980 | O6: 4 | P6: 0 | Q6: 0 | R6: 123
A7: JELEBU | B7: 0 | C7: 0 | D7: 0 | E7: 0 | F7: 0 | G7: 0 | H7: 0 | I7: 0 | J7: 0 | K7: 0 | L7: 0 | M7: 0 | N7: 0 | O7: 0 | P7: 0 | Q7: 0 | R7: 13
A8: REMBAU | B8: 0 | C8: 0 | D8: 0 | E8: 0 | F8: 0 | G8: 0 | H8: 0 | I8: 0 | J8: 0 | K8: 0 | L8: 0 | M8: 0 | N8: 51 | O8: 6 | P8: 0 | Q8: 0 | R8: 3
A9: KUALA PILAH | B9: 0 | C9: 0 | D9: 0 | E9: 0 | F9: 0 | G9: 0 | H9: 0 | I9: 0 | J9: 3 | K9: 1 | L9: 0 | M9: 0 | N9: 6 | O9: 1 | P9: 0 | Q9: 0 | R9: 6 | T9: *(5 TDK AKTIF)
A10: JEMPOL | B10: 10 | C10: 1 | D10: 0 | E10: 0 | F10: 0 | G10: 0 | H10: 0 | I10: 0 | J10: 0 | K10: 0 | L10: 0 | M10: 0 | N10: 18 | O10: 1 | P10: 0 | Q10: 0 | R10: 102
A11: TAMPIN | B11: 0 | C11: 0 | D11: 0 | E11: 0 | F11: 0 | G11: 0 | H11: 0 | I11: 0 | J11: 0 | K11: 0 | L11: 0 | M11: 0 | N11: 57 | O11: 11 | P11: 0 | Q11: 0 | R11: 24
A12: PORT DICKSON | B12: 0 | C12: 0 | D12: 0 | E12: 0 | F12: 0 | G12: 0 | H12: 0 | I12: 0 | J12: 16 | K12: 3 | L12: 0 | M12: 0 | N12: 161 | O12: 6 | P12: 0 | Q12: 0 | R12: 60 | T12: *(22 TDK AKTIF)
A13: Jumlah | B13: =SUM(B6:B12) -> 10 | C13: =SUM(C6:C12) -> 1 | D13: 0 | E13: 0 | F13: =SUM(F6:F12) -> 0 | G13: =SUM(G6:G12) -> 0 | H13: 0 | I13: 0 | J13: =SUM(J6:J12) -> 25 | K13: =SUM(K6:K12) -> 5 | L13: =SUM(L6:L12) -> 0 | M13: =SUM(M6:M12) -> 0 | N13: =SUM(N6:N12) -> 1273 | O13: =SUM(O6:O12) -> 29 | P13: =SUM(P6:P12) -> 0 | Q13: =SUM(Q6:Q12) -> 0 | R13: =SUM(R6:R12) -> 331
B14: (1 tdk aktif) | N14: (5 tdk aktif)
A19: Mukim / Spesis | B19: Ayam Katek | D19: Ayam Selasih | F19: Api-api | H19: Ayam Turki | J19: Serama | L19: Merak | N19: Mutiara | P19: Ayam Kuang | R19: Ayam Piru
B20: Ter | C20: Pen | D20: Ter | E20: Pen | F20: Ter | G20: Pen | H20: Ter | I20: Pen | J20: Ter | K20: Pen | L20: Ter | M20: Pen | N20: Ter | O20: Pen | P20: Ter | Q20: Pen | R20: Ter | S20: Pen
A21: SEREMBAN | B21: 0 | C21: 0 | D21: 0 | E21: 0 | F21: 0 | G21: 0 | H21: 0 | I21: 0 | J21: 0 | K21: 0 | L21: 0 | M21: 0 | N21: 0 | O21: 0 | P21: 0 | Q21: 0 | R21: 230 | S21: 4
A22: JELEBU | B22: 0 | C22: 0 | D22: 0 | E22: 0 | F22: 0 | G22: 0 | H22: 0 | I22: 0 | J22: 0 | K22: 0 | L22: 0 | M22: 0 | N22: 0 | O22: 0 | P22: 0 | Q22: 0 | R22: 0 | S22: 0
A23: REMBAU | B23: 0 | C23: 0 | D23: 0 | E23: 0 | F23: 0 | G23: 0 | H23: 0 | I23: 0 | J23: 0 | K23: 0 | L23: 0 | M23: 0 | N23: 0 | O23: 0 | P23: 0 | Q23: 0 | R23: 55 | S23: 1
A24: KUALA PILAH | B24: 0 | C24: 0 | D24: 0 | E24: 0 | F24: 0 | G24: 0 | H24: 0 | I24: 0 | J24: 0 | K24: 0 | L24: 1 | M24: 1 | N24: 56 | O24: 2 | P24: 0 | Q24: 0 | R24: 0 | S24: 0
A25: JEMPOL | B25: 0 | C25: 0 | D25: 0 | E25: 0 | F25: 0 | G25: 0 | H25: 0 | I25: 0 | J25: 0 | K25: 0 | L25: 0 | M25: 0 | N25: 2 | O25: 1 | P25: 0 | Q25: 0 | R25: 0 | S25: 0
A26: TAMPIN | B26: 0 | C26: 0 | D26: 0 | E26: 0 | F26: 0 | G26: 0 | H26: 0 | I26: 0 | J26: 0 | K26: 0 | L26: 0 | M26: 0 | N26: 0 | O26: 0 | P26: 0 | Q26: 0 | R26: 0 | S26: 0
A27: PORT DICKSON | B27: 0 | C27: 0 | D27: 0 | E27: 0 | F27: 0 | G27: 0 | H27: 0 | I27: 0 | J27: 0 | K27: 0 | L27: 0 | M27: 0 | N27: 0 | O27: 0 | P27: 0 | Q27: 0 | R27: 41 | S27: 2
A28: Jumlah | B28: =SUM(B21:B27) -> 0 | C28: =SUM(C21:C27) -> 0 | D28: =SUM(D21:D27) -> 0 | E28: =SUM(E21:E27) -> 0 | F28: =SUM(F21:F27) -> 0 | G28: =SUM(G21:G27) -> 0 | H28: =SUM(H21:H27) -> 0 | I28: =SUM(I21:I27) -> 0 | ... S28: =SUM(S21:S27) -> 7
R29: (3 tdk aktif)
B30: Pen - Bilangan Penternak
B31: Ter - Bilangan Ternakan

Sheet angsa
A1: BANCIAN PENGUSAHA TERNAKAN ANGSA DI NEGERI SEMBILAN
A2: TAHUN 2021 | B2: TAHUN 2023
A4: BIL | B4: NAMA PENTERNAK | C4: NO K.P | D4: NO TEL | E4: ALAMAT RUMAH/PREMIS | F4: DAERAH | G4: MUKIM | H4: PARLIMEN | I4: DUN | J4: ANGSA | K4: GPS (LADANG)
A6: 1 | B6: BASRI BIN JANTAN | E6: PEDAS, REMBAU | F6: REMBAU | G6: PEDAS | H6: REMBAU | I6: KOTA | J6: 6 | K6: 2.62609, 102.05418
A7: 2 | B7: SEETKUTHBUDEEN | D7: 016-3397264 | E7: 77, KG BINTONGAN, REMBAU | F7: REMBAU | G7: SELEMAK | H7: REMBAU | I7: KOTA | J7: 0 | K7: 2.5958, 102.11804
A8: 3 | B8: ZED EDLIN BIN ZAINUDIN | C8: 780417-08-6453 | D8: 017-4974769 | E8: KG BONGEK TENGAH, 71300 REMBAU | F8: REMBAU | G8: BONGEK | H8: REMBAU | I8: KOTA | J8: 0 | K8: 2.5551, 102.1153
A9: 4 | B9: ZAKARIA BIN TALIB'' | C9: 700909045129 | D9: 01126061516 | E9: MADRASAH AZ ZAKIRIN, KG PADANG BESAR, BONGEK | F9: REMBAU | G9: BONGEK | H9: REMBAU | I9: KOTA | J9: 20 | K9: 2.5586, 102.1369
A10: 5 | B10: ZAKUAN ZULKIFLI | D10: 0123696948 | E10: 746 C, KG PERIGI JERNIH | F10: REMBAU | G10: TG KLING | H10: REMBAU | I10: CHEMBONG | J10: 6 | K10: 2.5674, 102.1073
A11: 6 | B11: SULAIMAN BIN HJ JAMIL | D11: 019-9466198 | E11: KG AYER MELINTANG, KOTA | F11: REMBAU | G11: LEGONG ILIR | H11: REMBAU | I11: KOTA | J11: 3 | K11: 2.4984, 102.11009
A12: 7 | B12: MOHAMMAD EKHRAM BIN OTHMAN | D12: 0178869409 | E12: KG TENGAH PENAJIS | F12: REMBAU | G12: NERASAU | H12: REMBAU | I12: KOTA | J12: 0 | K12: 2.5205, 102.1161
A13: 8 | B13: ABD RAZAK BIN YAAKOB | D13: 017-2420147 | E13: JALAN BATU HAMPAR 1, TEPI JALAN BESAR | F13: REMBAU | G13: SENAMA | H13: REMBAU | I13: CHEMBONG | J13: 8 | K13: 2.5851, 102.09602
A14: 9 | B14: MOHSEN BIN ISMAIL | C14: 620830-71-5345 | D14: 018-3985345 | E14: KG SENAMA MASJID,71300 REMBAU | F14: REMBAU | G14: SENAMA | H14: REMBAU | I14: CHEMBONG | J14: 0 | K14: 2.5796, 102.1055
A15: 10 | B15: NORAINI BINTI HUSSAIN | C15: 560220-05-5202 | D15: 0133727924 | E15: KG BARU LUBOK CHINA, | F15: REMBAU | G15: TITIAN BINTANGOR | H15: REMBAU | I15: KOTA | J15: 8 | K15: 2.4635, 102.0685
A16: 11 | B16: TRANS ECO FARM SDN BHD | D16: 136104256 | E16: LOT 2773, JALAN KAMPUNG SERI PARIT, BANDAR BARU LUKUT, | F16: PORT DICKSON | G16: LUKUT | H16: TELUK KEMANG | I16: LUKUT | J16: 4
A17: 12 | B17: ZUL AZIZAN BIN ISAM | C17: 750723-055279 | D17: 1151121975 | E17: 108 KG SUNGAI RAYA PASIR PANJANG | F17: PORT DICKSON | G17: PASIR PANJANG | H17: TELUK KEMANG | I17: LINGGI | J17: 7
A18: 13 | B18: THIRUMANICKAVASAGA THEVAR A/L SUBRAMANIAM | C18: 800614-05-5539 | D18: 013-2741782 | E18: LOT 2705, BATU 21, JALAN ROBERT MANIAM 1, KAMPUNG SENGKANG, PASIR PANJANG | F18: PORT DICKSON | G18: PASIR PANJANG | H18: TELUK KEMANG | I18: LINGGI | J18: 45
A19: 14 | B19: PACIFIC CIRCUS & ACROBATICS SDN BHD (TAMAN AURORA) | C19: 531118-08-5007 | D19: 019-8334598 | E19: LOT 3636 BATU 9 JALAN PANATAI KAMPUNG SUNGAI MENYALA 71050 PORT DICKSON | F19: PORT DICKSON | G19: PASIR PANJANG | H19: TELUK KEMANG | I19: PASIR PANJANG | J19: 5
A20: 15 | B20: AKB SERVICES SDN BHD | C20: S8824047B | D20: 1151456883 | E20: NO 1 B, JALAN KG SAWAH, LOT 1541 BUKIT PELANDOK | F20: PORT DICKSON | G20: PORT DICKSON | H20: TELUK KEMANG | I20: CHUAH | J20: 95
A21: 16 | B21: WONG SU HUI | C21: 980217 05 5122 | D21: 012-6699393 | E21: LOT 11886 KG SRI PARIT PORT DICKSON | F21: PORT DICKSON | G21: PORT DICKSON | H21: TELUK KEMANG | I21: LUKUT | J21: 5
A22: 17 | B22: LUSIL HAKIMI | C22: 870103-01-5539 | D22: 019-7007260 | E22: 48, KG TENGAH, TJG IPOH | F22: KUALA PILAH | G22: SERI MENANTI | H22: KUALA PILAH | I22: SERI MENANTI | J22: 6 | K22: N2.715056N E102.185121
A23: 18 | B23: KHAIRANI BINTI MOHD KHALID | C23: 691226-10-5370 | D23: 012-3397192 | E23: NO 3922, TAMAN PUAN CHIK, 72200 BAHAU | F23: JEMPOL | G23: KUALA JEMPOL | H23: JEMPOL | I23: BAHAU | J23: 18 | K23: N2.818467 E102.333861
A24: 19 | B24: SITI HAJAR BINTI AB. RAHIM | D24: 06-4628009 | E24: NO.195, FELDA PALONG SATU, GEMAS | F24: JEMPOL | G24: ROMPIN | H24: JEMPOL | I24: PALONG
A25: 20 | B25: INNOVATIVE NEXUS FARMING SDN BHD | D25: 06-7999806 | E25: LOT 4943, JALAN PAJAM, KG BATANG BENAR | F25: SEREMBAN | G25: SETUL | H25: SEREMBAN | I25: NILAI | J25: 900 | K25: 2.8648, 101.8388
A26: 21 | B26: PATMAVATHY A/P PALANY | C26: 641127-05-5042 | D26: 018-2775042 | E26: NO. 5, KG BEMBAN HILIR, MAMBAU | F26: SEREMBAN | G26: RASAH | H26: RASAH | I26: MAMBAU | J26: 50 | K26: 2.6440, 101.9243
A27: 22 | B27: ROZI BIN NORDIN | D27: 012-3874048 | E27: LOT 212, KAMPUNG MENDUM, LENGGENG | F27: SEREMBAN | G27: LENGGENG | H27: SEREMBAN | I27: LENGGENG | J27: 20 | K27: 2.8480, 101.9618
A28: 23 | B28: AZAH BINTI YUSOF | D28: 016-9260335 | E28: LOT 3202, KG. SG. MACHANG ULU | F28: SEREMBAN | G28: LENGGENG | H28: SEREMBAN | I28: LENGGENG | J28: 10 | K28: 2.8711, 101.9329
A29: 24 | B29: NOR SHAMSUDIN BIN MOH IDRIS | C29: 610831-05-5159 | D29: 013-5867310 | E29: NO. 59, KG. LONDAH, GEMAS | F29: TAMPIN | G29: GEMAS | H29: TAMPIN | I29: GEMAS | J29: 10 | K29: 2.3810, 102.3527
A30: 25 | B30: SAHARUDIN BIN MOHAMAD | C30: 710308-05-5701 | D30: 012-6955191 | E30: NO. 9, FELDA SG. KELAMAH, GEMAS | F30: TAMPIN | G30: GEMAS | H30: TAMPIN | I30: GEMAS | J30: 6 | K30: 2.3535, 102.3052
A31: 26 | B31: NAZHARUL SHIMA BINTI ABD RASHID | C31: 720927-05-5222 | D31: 06-4316412 | E31: KG. GEDOK SAWAH, GEMENCHEH | F31: TAMPIN | G31: GEMENCHEH | H31: TAMPIN | I31: GEMENCHEH | J31: 8 | K31: 2.3327, 102.2612
A32: 27 | B32: MERIAM BINTI AB. RAHMAN | C32: 550208-05-5374 | D32: 012-3869072 | E32: KG. GEMENCHEH LAMA, GEMENCHEH | F32: TAMPIN | G32: GEMENCHEH | H32: TAMPIN | I32: GEMENCHEH | J32: 2
A33: 28 | B33: AIZUDDIN BIN MUHAMAD ZAKARIAH | C33: 881018-05-5601 | D33: 019-2858356 | E33: KG. SG. KEPONG, 73200 GEMENCHEH | F33: TAMPIN | G33: GEMENCHEH | H33: TAMPIN | I33: GEMENCHEH | J33: 2 | K33: 2.547623, 102.35944
A34: 29 | B34: MOHD ROSNAM BIN HJ MANSOR | C34: 540514-05-5111 | D34: 012-9248109 | E34: KG. REPAH , TAMPIN | F34: TAMPIN | G34: REPAH | H34: TAMPIN | I34: REPAH | J34: 6 | K34: 2.2914, 102.1408
A35: 30 | B35: MOHD RIZAL BIN YUSOFF | C35: 800220-05-5085 | D35: 019-6828002 | E35: BT. 5 1/2, JLN TAMPIN GEMAS, TAMPIN | F35: TAMPIN | G35: REPAH | H35: TAMPIN | I35: REPAH | J35: 4 | K35: 2.2914, 102.1408
A36: 31 | B36: MUHAMMAD NURDIN BIN OTHMAN | C36: 940623-04-5185 | D36: 011-23097224 | E36: BT. 3 1/2, KG. SERI REPAH, TAMPIN | F36: TAMPIN | G36: REPAH | H36: TAMPIN | I36: REPAH | J36: 4 | K36: 2.5146, 102.2418
A37: 32 | B37: BAHARIN BIN TAHIR | C37: 711203-05-5185 | E37: NO. 41, JLN. KHURSIAH, KG. ULU YUH, TAMPIN | F37: TAMPIN | G37: REPAH | H37: TAMPIN | I37: REPAH | J37: 6
A38: 33 | B38: MIHAD BIN MAULUD | D38: 019-2929142 | E38: BT. 3 1/2, KG. SRI REPAH, TAMPIN | F38: TAMPIN | G38: TAMPIN TENGAH | H38: TAMPIN | I38: REPAH | J38: 4 | K38: 2.510801, 102.240747
A39: 34 | B39: SIVACHANDRAN A/L SANDERAN | C39: 891105-04-5419 | D39: 014-6677526 | E39: PT 55, JLN. DATO YAKUB AWANG, KG. TENGAH AIR KUNING SELATAN, 73200 GEMENCHEH | F39: TAMPIN | G39: TEBONG | H39: TAMPIN | I39: REPAH | J39: 5 | K39: 2.476534, 102.467317
A40: JUMLAH | J40: =SUM(J6:J39) -> 1273

Sheet AYAM MUTIARA
A1: BANCIAN PENGUSAHA TERNAKAN AYAM MUTIARA DI NEGERI SEMBILAN
A2: TAHUN 2021 | E2: TAHUN 2023
A4: BIL | B4: NAMA PENTERNAK | C4: NO K.P | D4: NO TEL | E4: ALAMAT RUMAH/PREMIS | F4: DAERAH | G4: MUKIM | H4: PARLIMEN | I4: DUN | J4: AYAM | K4: GPS (LADANG)
J5: MUTIARA
A6: 1 | B6: KAMAL AZAM BIN MOKHTAR | C6: 670501-05-5249 | D6: 012-2631174 | E6: 45, KG ULU BENDUL | F6: KUALA PILAH | G6: SERI MENANTI | H6: KUALA PILAH | I6: SERI MENANTI | J6: 50 | K6: 2.73846N 102.10394E
A7: 2 | B7: IMRAN ZAKI (MBI) | D7: 019-6833183 | E7: KG. AMPANG TINGGI | F7: KUALA PILAH | G7: PILAH | H7: KUALA PILAH | I7: KUALA PILAH | J7: 6 | K7: 2.736058N 102.220226E
A8: 3 | B8: KHAIRANI BINTI MOHD KHALID | C8: 691226-10-5370 | D8: 012-3397192 | E8: NO 3922, TAMAN PUAN CHIK, 72200 BAHAU | F8: JEMPOL | G8: BAHAU | H8: JEMPOL | I8: KUALA JEMPOL | J8: 2 | K8: 2.818467N 102.333861E
A9: JUMLAH | J9: =SUM(J6:J8) -> 58

Sheet LANDAK
A1: BANCIAN PENGUSAHA TERNAKAN LANDAK DI NEGERI SEMBILAN
A2: TAHUN 2021 | D2: TAHUN 2023
A4: BIL | B4: NAMA PENTERNAK | C4: NO K.P | D4: NO TEL | E4: ALAMAT RUMAH/PREMIS | F4: DAERAH | G4: MUKIM | H4: PARLIMEN | I4: DUN | J4: LANDAK | K4: GPS (LADANG)
A6: 1 | B6: AZIZ BIN ZAKARIA | C6: 600304-05-5051 | D6: 011-4912500 | E6: NO 201, FELDA RAJA ALAIS 4 | F6: JEMPOL | G6: SERTING ILIR | H6: JEMPOL | I6: SERTING | J6: 10 | K6: N2.894201,E102.3907098
A7: 2 | B7: IZAN BIN ABD JABAR | C7: 841129-01-6975 | D7: 010-4222055 | E7: LADANG FELDA PASOH 2 | F7: JEMPOL | G7: SERTING ULU | H7: JEMPOL | I7: SG LUI | K7: N2.953984, E102.29447
A8: JUMLAH | J8: =SUM(J6:J7) -> 10

Sheet AYAM PIRU
A1: BANCIAN PENGUSAHA TERNAKAN AYAM PIRU DI NEGERI SEMBILAN
A2: TAHUN 2021 | D2: TAHUN 2023
A4: BIL | B4: NAMA PENTERNAK | C4: NO K.P | D4: NO TEL | E4: ALAMAT RUMAH/PREMIS | F4: DAERAH | G4: MUKIM | H4: PARLIMEN | I4: DUN | J4: AYAM PIRU | K4: GPS (LADANG)
A6: 1 | B6: MOHSEN BIN ISMAIL | C6: 620830-71-5345 | D6: 018-3985345 | E6: KG SENAMA MASJID,71300 REMBAU | F6: REMBAU | G6: SENAMA | H6: REMBAU | I6: CHEMBONG | J6: 0 | K6: 2.5807, 102.1077
A7: 2 | B7: HASNUL BIN OTHMAN | C7: 670303-05-5029 | D7: 012-6500309 | E7: KG BATU, 71300 REMBAU | F7: REMBAU | G7: SELEMAK | H7: REMBAU | I7: KOTA | J7: 55 | K7: 2.5899, 102.1209
A8: 3 | B8: AKB SERVICES SDN BHD | C8: S8824047B | D8: 1151456883 | E8: NO 1 B, JALAN KG SAWAH, LOT 1541 BUKIT PELANDOK | F8: PORT DICKSON | G8: PORT DICKSON | H8: TELUK KEMANG | I8: CHUAH | J8: 30
A9: 4 | B9: KAN TAI SIANG | C9: 790315-05-5479 | E9: LOT 982, KEBUN JIMAH, LUKUT, PORT DICKSON, NS. | F9: PORT DICKSON | G9: JIMAH | H9: TELUK KEMANG | I9: LUKUT | J9: 0
A10: 5 | B10: PACIFIC CIRCUS & ACROBATICS SDN BHD (TAMAN AURORA) | C10: 531118-08-5007 | D10: 019-8334598 | E10: LOT 3636 BATU 9 JALAN PANATAI KAMPUNG SUNGAI MENYALA 71050 PORT DICKSON | F10: PORT DICKSON | G10: PASIR PANJANG | H10: TELUK KEMANG | I10: PASIR PANJANG | J10: 11
A11: 6 | B11: SETHU A/L VEERAMUTHU | D11: 102009950 | E11: LOT 3269, MUKIM LABU | F11: SEREMBAN | G11: LABU | H11: RASAH | I11: LABU | J11: 60 | K11: 2.73384, 101.8969
A12: 7 | B12: ROZI BIN NORDIN | D12: 012-3874048 | E12: LOT 212, KAMPUNG MENDUM, LENGGENG | F12: SEREMBAN | G12: LENGGENG | H12: SEREMBAN | I12: LENGGENG | J12: 50 | K12: 2.8480, 101.9618
A13: 8 | B13: SATHISH KUMAR A/L SELVAMANI | C13: 931222-05-5409 | D13: 102660603 | E13: LOT 1564 BT 6 JALAN JELEBU 71770 SEREMBAN NEGERI SEMBILAN | F13: SEREMBAN | G13: LENGGENG | H13: SEREMBAN | I13: SIKAMAT | J13: 1 | K13: 2.7578 102.00066
A14: 9 | B14: PATMAVATHY A/P PALANY | C14: 641127-05-5042 | D14: 018-2775042 | E14: NO. 5, KG BEMBAN HILIR, MAMBAU | F14: SEREMBAN | G14: RASAH | H14: RASAH | I14: MAMBAU | J14: 80 | K14: 2.6440, 101.9243
A15: 10 | B15: KOMARAVELU A/L SADASIVAM | D15: 016-9090403 | E15: KG. BEMBAN HILIR, MAMBAU | F15: SEREMBAN | G15: RASAH | H15: RASAH | I15: MAMBAU | J15: 40 | K15: 2.6443 101.9043
A16: JUMLAH | J16: =SUM(J6:J15) -> 327

Sheet OSTRICH
A1: BANCIAN PENGUSAHA TERNAKAN OSTRICH DI NEGERI SEMBILAN
A2: TAHUN 2021 | D2: TAHUN 2023
A4: BIL | B4: NAMA PENTERNAK | C4: NO K.P | D4: NO TEL | E4: ALAMAT RUMAH/PREMIS | F4: DAERAH | G4: MUKIM | H4: PARLIMEN | I4: DUN | J4: OSTRICH | K4: GPS (LADANG)
A6: 1 | B6: AKB SERVICES SDN BHD | C6: S8824047B | D6: 011-51456883 | E6: NO 1 B, JALAN KG SAWAH, LOT 1541 BUKIT PELANDOK | F6: PORT DICKSON | G6: PORT DICKSON | H6: TELUK KEMANG | I6: CHUAH | J6: 1
A7: 2 | B7: PACIFIC CIRCUS & ACROBATICS SDN BHD (TAMAN AURORA) | C7: 531118-08-5007 | D7: 019-8334598 | E7: LOT 3636 BATU 9 JALAN PANATAI KAMPUNG SUNGAI MENYALA 71050 PORT DICKSON | F7: PORT DICKSON | G7: PASIR PANJANG | H7: TELUK KEMANG | I7: PASIR PANJANG | J7: 3
A8: 3 | B8: PD OSTRICH FARM | C8: 640221-06-5269 | D8: 012-7723491 | E8: LOT 1419, JLN KEMANG 13 BATU 9 JLN PANTAI 71050 | F8: PORT DICKSON | G8: TELUK KEMANG | H8: TELUK KEMANG | I8: TEUK KEMANG | J8: 12
A9: 4 | B9: IMRAN ZAKI (MBI) | D9: 013-9573111 | E9: KG. JUASSEH TENGAH. | F9: KUALA PILAH | G9: PILAH | H9: KUALA PILAH | I9: PILAH | J9: 3 | K9: 2.811323N 102..280823E
A10: 5 | B10: JELITA OSTRICH FARM | C10: 531219105601 | D10: 019-2120365 | E10: LOT 1504, BATU 6, MUKIM PANTAI | F10: SEREMBAN | G10: PANTAI | H10: SEREMBAN | I10: SIKAMAT | J10: 6 | K10: 2.7604, 101.9927
A11: JUMLAH | J11: =SUM(J6:J10) -> 25

Sheet AYAM KUANG
A1: BANCIAN PENGUSAHA TERNAKAN AYAM KUANG DI NEGERI SEMBILAN
A2: TAHUN 2021 | D2: TAHUN 2023
A4: BIL | B4: NAMA PENTERNAK | C4: NO K.P | D4: NO TEL | E4: ALAMAT RUMAH/PREMIS | F4: DAERAH | G4: MUKIM | H4: PARLIMEN | I4: DUN | J4: AYAM KUANG | K4: GPS (LADANG)
A7: JUMLAH | J7: =SUM(J6) -> 0

Sheet MERAK
A1: BANCIAN PENGUSAHA TERNAKAN MERAK DI NEGERI SEMBILAN
A2: TAHUN 2021 | D2: TAHUN 2023
A4: BIL | B4: NAMA PENTERNAK | C4: NO K.P | D4: NO TEL | E4: ALAMAT RUMAH | F4: DAERAH | G4: MUKIM | H4: PARLIMEN | I4: DUN | J4: MERAK | K4: GPS (LADANG)
A6: 1 | B6: LADANG ALAM WARISAN | C6: 870103-01-5539 | D6: 013-7391193 | E6: 48, KG TENGAH, TJG IPOH | F6: KUALA PILAH | G6: SERI MENANTI | H6: KUALA PILAH | I6: SERI MENANTI | J6: 1
A7: JUMLAH | J7: =SUM(J6) -> 1

Sheet WALIT
A1: BANCIAN PENGUSAHA TERNAKAN WALIT DI NEGERI SEMBILAN
A2: TAHUN 2021 | D2: TAHUN 2023
A4: BIL | B4: NAMA PENTERNAK | C4: NO K.P | D4: NO TEL | E4: ALAMAT RUMAH | F4: DAERAH | G4: MUKIM | H4: PARLIMEN | I4: DUN | J4: WALIT | K4: GPS (LADANG)
A6: 1 | B6: CHONG KWI FATT | C6: 680524-05-5187 | D6: 013-3447350 | E6: LOT 857, KM1, JLN SIMPANG PERTANG | F6: JELEBU | G6: PERTANG | H6: JELEBU | I6: PERTANG | K6: 2.949293 | L6: 2.259665
A7: 2 | B7: FAH TIEW SEAI | C7: 800910-05-5103 | D7: 013-6336388 | E7: NO: 14, JLN BR 1, TAMAN BUNGA RAYA | F7: JELEBU | G7: PERTANG | H7: JELEBU | I7: PERTANG | K7: 3.098655 | L7: 2.216605
A8: 3 | B8: NG GOK SWEE | C8: 540312-05-5084 | D8: 019-6634551 | E8: NO: 13, JLN BR 1, TAMAN BUNGA RAYA | F8: JELEBU | G8: PERTANG | H8: JELEBU | I8: PERTANG | K8: 3.096997 | L8: 2.21878
A9: 4 | B9: LEONG KAR HONG | C9: 690805-05-5107 | D9: 013-2353087 | E9: NO: 63, TAMAN SRI PERTANG | F9: JELEBU | G9: PERTANG | H9: JELEBU | I9: PERTANG | K9: 2.944092 | L9: 102.25724
A10: 5 | B10: WONG MEOW WHA | C10: 570909-05-5105 | D10: 016-3844884 | E10: LOT 2078, CHEMPEDAK | F10: JELEBU | G10: GELAMI LEMI | H10: JELEBU | I10: CHENNAH | K10: 2.973908 | L10: 102.0601
A11: 6 | B11: YAP KEAT FUI | C11: 650503-05-5199 | D11: 012-3066609 | E11: LOT 795, DURIAN GASING | F11: JELEBU | G11: ULU TRIANG | H11: JELEBU | I11: CHENNAH | K11: 2.943111 | L11: 102.03948
A12: 7 | B12: LEE AH PIANG | C12: 630227-05-5171 | D12: 012-6188330 | E12: PT NO: 1086, LOT 20 DESA PERMAI | F12: JELEBU | G12: GELAMI LEMI | H12: JELEBU | I12: CHENNAH | K12: 3.126643 | L12: 102.22022
A13: 8 | B13: YAP AH KIEW | C13: 400808-05-5045 | D13: 012-3066609 | E13: RUMAH KEBUN FELDA TITI | F13: JELEBU | G13: GELAMI LEMI | H13: JELEBU | I13: CHENNAH | K13: 2.988111 | L13: 102.06006
A14: 9 | B14: CHUA BOON HON | C14: 801230-05-5171 | D14: 012-3675285 | E14: LOT3301, KAMPUNG CHEMPEDAK | F14: JELEBU | G14: GELAMI LEMI | H14: JELEBU | I14: CHENNAH | K14: 2.975356 | L14: 102.05958
A15: 10 | B15: CHIN KET KEONG | C15: 690713-05-5193 | D15: 012-3393870 | E15: LOT 7220, KAMPUNG BARU SINGKON | F15: JELEBU | G15: GELAMI LEMI | H15: JELEBU | I15: CHENNAH | K15: 2.98807 | L15: 102.08313
A16: 11 | B16: SIM SIEW LING | C16: 861020-59-5166 | D16: 014-7848391 | E16: LOT 6415, KG JELONDONG | F16: JELEBU | G16: GELAMI LEMI | H16: JELEBU | I16: CHENNAH | K16: 2.99948 | L16: 102.03214
A17: 12 | B17: LIM AH ENG | C17: 641214-05-5032 | D17: 014-7848391 | E17: KG SEPERI TENGAH | F17: JELEBU | G17: ULU TRIANG | H17: JELEBU | I17: CHENNAH | K17: 2.982785 | L17: 102.04978
... A23: 18 | B23: CHONG MENG CHIN | C23: 651023-05-5063 | D23: 019-6227733 | E23: NO. 23A , JALAN RIA, TAMAN RIA | F23: JEMPOL | G23: JELAI | H23: JEMPOL | I23: JERAM PADANG | K23: 2.8062374 | L23: 102.40978
A24: 19 | B24: CHONG MENG THONG | C24: 721106-05-5115 | E24: NO 97, JALAN BESAR | F24: JEMPOL | G24: JELAI | H24: JEMPOL | I24: JERAM PADANG | K24: 2.8108134 | L24: 102.40108
A25: 20 | B25: CHONG MENG CHIN | C25: 651023-05-5063 | D25: 019-6227733 | E25: NO.16, TINGKAT 1 & 2 , | F25: JEMPOL | G25: JELAI | H25: JEMPOL | I25: JERAM PADANG | K25: 2.8053561 | L25: 102.38625
A26: 21 | B26: CHONG MENG THONG | C26: 721106-05-5115 | D26: 012-9198980 | E26: NO.4, TINGKAT 2, JALAN MEWAH | F26: JEMPOL | G26: JELAI | H26: JEMPOL | I26: JERAM PADANG | K26: 2.811025 | L26: 2.39989
A27: 22 | B27: LAM YIN HOCK | C27: 780804-04-5483 | D27: 019-6511148 | E27: 283,TINGKAT ATAS, JALAN SERTING UTAMA 7 | F27: JEMPOL | G27: JELAI | H27: JEMPOL | I27: JERAM PADANG | K27: 2.891413 | L27: 2.407915
A28: 23 | B28: ALVIN GOH CHEE KEONG | C28: 800121-06-5683 | D28: 012-3619876 | E28: NO.16, TAMAN SORNAM | F28: JEMPOL | G28: JELAI | H28: JEMPOL | I28: JERAM PADANG | K28: 2.808399 | L28: 2.389825
A29: 24 | B29: ALVIN GOH CHEE KEONG | C29: 800121-06-5683 | D29: 012-3619876 | E29: NO.23, TAMAN SORNAM | F29: JEMPOL | G29: JELAI | H29: JEMPOL | I29: JERAM PADANG | K29: 2.808147 | L29: 2.389205
A30: 25 | B30: ALVIN GOH CHEE KEONG | C30: 800121-06-5683 | D30: 012-3619876 | E30: NO.4, TAMAN MUHIBAH | F30: JEMPOL | G30: JELAI | H30: JEMPOL | I30: JERAM PADANG | K30: 2.804895 | L30: 2.410643
A31: 26 | B31: CHIN KOON TEEN | C31: 611101-05-5709 | D31: 019-6216689 | E31: NO:9 TAMAN SORNAM | F31: JEMPOL | G31: JELAI | H31: JEMPOL | I31: JERAM PADANG | K31: 2.807886 | L31: 2.499998
A32: 27 | B32: CHIN KOON TEEN | C32: 611101-05-5709 | D32: 019-6216689 | E32: NO: 43, TAMAN SORNAM | F32: JEMPOL | G32: JELAI | H32: JEMPOL | I32: JERAM PADANG | K32: 2.807197 | L32: 2.38977
A33: 28 | B33: MOHD DZHUDDIN B IDRIS | C33: 781203-14-5299 | D33: 017-3174783 | E33: JALAN MERPATI 3, | F33: JEMPOL | G33: JELAI | H33: JEMPOL | I33: BAHAU | K33: 2.91469 | L33: 2.275357
A34: 29 | B34: YONG YON KONG | C34: 660508-05-5349 | D34: 019-6200330 | E34: NO: 157B | F34: JEMPOL | G34: JELAI | H34: JEMPOL | I34: BAHAU | K34: 2.815996 | L34: 2.40384
A35: 30 | B35: CHONG KIAU | C35: 590811-05-5391 | D35: 019-6222208 | E35: NOP: 19, LORONG 2 | F35: JEMPOL | G35: JELAI | H35: JEMPOL | I35: BAHAU | K35: 2.80797 | L35: 2.393402
A36: 31 | B36: TEYPIOW FEE | C36: 571203-04-5495 | D36: 012-6352511 | E36: NO: 12, JALAN BESAR BAHAU | F36: JEMPOL | G36: JELAI | H36: JEMPOL | I36: BAHAU | K36: 2.809737 | L36: 2.400928
... A50: 45 | B50: SIN YOK LIN | C50: 580326-05-5401 | D50: 012-2768663 | E50: NO: 3273, JALAN MEDANG UTAMA | F50: JEMPOL | G50: JELAI | H50: JEMPOL | I50: BAHAU | K50: 2.809323 | L50: 102.4121
A51: 46 | B51: LEW TEK MING | C51: 721107-05-5301 | D51: 12.652189 | E51: PT 1162, JALAN PUTERI 1 | F51: JEMPOL | G51: JELAI | H51: JEMPOL | I51: BAHAU | K51: 2.792768 | L51: 102.42713
A52: 47 | B52: LEW MING MING | C52: 710922-05-5179 | D52: 018-2763213 | E52: NO: 3, TAMAN LELAYANG | F52: JEMPOL | G52: JELAI | H52: JEMPOL | I52: BAHAU | K52: 2.866548 | L52: 102.52267
A53: 48 | B53: LIAW MING KEE | C53: 640302-05-5599 | D53: 012-3186183 | E53: PPT 1152, JALAN PUTERI 1 | F53: JEMPOL | G53: JELAI | H53: JEMPOL | I53: BAHAU | K53: 2.784185 | L53: 102.24295
A54: 49 | B54: NG AH YING | C54: 490320-05-5022 | D54: 012-6238906 | E54: NO: 1, TINGKAT ATAS | F54: JEMPOL | G54: JELAI | H54: JEMPOL | I54: BAHAU | K54: 2.808616 | L54: 102.3881
A55: 50 | B55: LEE KIM KEONG | C55: 720809-05-0905 | D55: 012-2159139 | E55: NO: 23A, JALAN RIA 2 | F55: JEMPOL | G55: JELAI | H55: JEMPOL | I55: BAHAU | K55: 2.80618 | L55: 102.40913
A56: 51 | B56: CHONG THIAM FOO | C56: 710619-05-5301 | D56: 012-2159139 | E56: NO: 15, TAMAN KWANG HUP | F56: JEMPOL | G56: JELAI | H56: JEMPOL | I56: BAHAU | K56: 2.80732 | L56: 102.4102
A57: 52 | B57: CHONG THIAM FOO | C57: 710619-05-5301 | D57: 012-2159139 | E57: NO: 16,TAMAN KWANG HUP | F57: JEMPOL | G57: JELAI | H57: JEMPOL | I57: BAHAU | K57: 2.80701 | L57: 102.41047
A58: 53 | B58: WONG YOKE CHONG | C58: 600530-05-5361 | D58: 019-6363433 | E58: NO: 20, TAMAN KWANG HUP | F58: JEMPOL | G58: JELAI | H58: JEMPOL | I58: BAHAU | K58: 2.807243 | L58: 102.41114
A59: 54 | B59: SIN YOK LIN | C59: 580326-05-5401 | D59: 012-2768663 | E59: NO: 3274, JALAN MEDANG UTAMA | F59: JEMPOL | G59: JELAI | H59: JEMPOL | I59: BAHAU | K59: 2.80934 | L59: 102.41219
A60: 55 | B60: CHONG KOON SANG | C60: 420709-10-5071 | D60: 019-6605663 | E60: NO: 41, LADANG GEDDES | F60: JEMPOL | G60: JELAI | H60: JEMPOL | I60: BAHAU | K60: 2.866761 | L60: 102.52314
...

Sheet semb. direkod
A1: SEMBELIHAN TERNAKAN YANG DIREKOD
A2: TAHUN 2023
A4: RUMAH SEMBELIH | B4: KERBAU | C4: LEMBU | D4: KAMBING | E4: BEBIRI | F4: BABI
A5: RUMAH SEMBELIH SENAWANG | B5: =+semb.kerbau!O5 -> 21 | C5: =+'semb. lembu'!O6 -> 551 | D5: =+'semb. kambing'!O6 -> 10 | E5: =+'semb. bebiri'!O5 -> 1 | F5: 0
A6: RUMAH SEMBELIH JELEBU | B6: =+semb.kerbau!O6 -> 9 | C6: =+'semb. lembu'!O7 -> 330 | D6: =+'semb. kambing'!O7 -> 4 | E6: =+'semb. bebiri'!O6 -> 0 | F6: 0
A7: RUMAH SEMBELIH KUALA PILAH | B7: =+semb.kerbau!O7 -> 154 | C7: =+'semb. lembu'!O8 -> 1424 | D7: =+'semb. kambing'!O8 -> 250 | E7: =+'semb. bebiri'!O7 -> 8 | F7: 0
A8: JUMLAH | B8: =SUM(B5:B7) -> 184 | C8: =SUM(C5:C7) -> 2305 | D8: =SUM(D5:D7) -> 264 | E8: =SUM(E5:E7) -> 9 | F8: 0

Sheet semb.kerbau
D1: SEMBELIHAN BULANAN TERNAKAN KERBAU YANG DIREKOD
G2: TAHUN 2023
B4: RUMAH SEMBELIH | C4: Jan | D4: Feb | E4: Mac | F4: Apr | G4: Mei | H4: Jun | I4: Jul | J4: Ogos | K4: Sep | L4: Okt | M4: Nov | N4: Dis | O4: Jumlah
B5: Rumah Sembelih Senawang | C5: 1 | D5: 0 | E5: 2 | F5: 9 | G5: 0 | H5: 3 | I5: 6 | J5: 0 | K5: 0 | L5: 0 | M5: 0 | N5: 0 | O5: =SUM(C5:N5) -> 21
B6: Rumah Sembelih Jelebu | C6: 0 | D6: 0 | E6: 0 | F6: 5 | G6: 0 | H6: 4 | I6: 0 | J6: 0 | K6: 0 | L6: 0 | M6: 0 | N6: 0 | O6: =SUM(C6:N6) -> 9
B7: Rumah Sembelih Kuala Pilah | C7: 18 | D7: 17 | E7: 18 | F7: 18 | G7: 7 | H7: 9 | I7: 21 | J7: 9 | K7: 25 | L7: 7 | M7: 2 | N7: 3 | O7: =SUM(C7:N7) -> 154
B8: JUMLAH | C8: =SUM(C5:C7) -> 19 | D8: =SUM(D5:D7) -> 17 | E8: =SUM(E5:E7) -> 20 | F8: =SUM(F5:F7) -> 32 | G8: =SUM(G5:G7) -> 7 | H8: =SUM(H5:H7) -> 16 | I8: =SUM(I5:I7) -> 27 | J8: =SUM(J5:J7) -> 9 | ... O8: =SUM(O5:O7) -> 184

Sheet semb. lembu
D2: SEMBELIHAN BULANAN TERNAKAN LEMBU YANG DIREKOD
G3: TAHUN 2023
B5: RUMAH SEMBELIH | C5: Jan | D5: Feb | E5: Mac | F5: Apr | G5: Mei | H5: Jun | I5: Jul | J5: Ogos | K5: Sep | L5: Okt | M5: Nov | N5: Dis | O5: Jumlah
B6: Rumah Sembelih Senawang | C6: 36 | D6: 26 | E6: 50 | F6: 111 | G6: 31 | H6: 88 | I6: 56 | J6: 27 | K6: 18 | L6: 35 | M6: 41 | N6: 32 | O6: =SUM(C6:N6) -> 551
B7: Rumah Sembelih Jelebu | C7: 54 | D7: 50 | E7: 69 | F7: 30 | G7: 47 | H7: 69 | I7: 11 | J7: 0 | K7: 0 | L7: 0 | M7: 0 | N7: 0 | O7: =SUM(C7:N7) -> 330
B8: Rumah Sembelih Kuala Pilah | C8: 139 | D8: 112 | E8: 140 | F8: 131 | G8: 133 | H8: 217 | I8: 76 | J8: 91 | K8: 152 | L8: 71 | M8: 70 | N8: 92 | O8: =SUM(C8:N8) -> 1424
B9: JUMLAH | C9: =SUM(C6:C8) -> 229 | D9: =SUM(D6:D8) -> 188 | E9: =SUM(E6:E8) -> 259 | F9: =SUM(F6:F8) -> 272 | G9: =SUM(G6:G8) -> 211 | H9: =SUM(H6:H8) -> 374 | I9: =SUM(I6:I8) -> 143 | J9: =SUM(J6:J8) -> 118 | ... O9: =SUM(O6:O8) -> 2305

Sheet semb. kambing
D2: SEMBELIHAN BULANAN TERNAKAN KAMBING YANG DIREKOD
G3: TAHUN 2023
B5: RUMAH SEMBELIH | C5: Jan | D5: Feb | E5: Mac | F5: Apr | G5: Mei | H5: Jun | I5: Jul | J5: Ogos | K5: Sep | L5: Okt | M5: Nov | N5: Dis | O5: Jumlah
B6: Rumah Sembelih Senawang | C6: 1 | D6: 1 | E6: 0 | F6: 0 | G6: 0 | H6: 0 | I6: 1 | J6: 0 | K6: 0 | L6: 0 | M6: 7 | N6: 0 | O6: =SUM(C6:N6) -> 10
B7: Rumah Sembelih Jelebu | C7: 0 | D7: 0 | E7: 0 | F7: 0 | G7: 0 | H7: 4 | I7: 0 | J7: 0 | K7: 0 | L7: 0 | M7: 0 | N7: 0 | O7: =SUM(C7:N7) -> 4
B8: Rumah Sembelih Kuala Pilah | C8: 15 | D8: 6 | E8: 13 | F8: 21 | G8: 11 | H8: 32 | I8: 16 | J8: 12 | K8: 14 | L8: 16 | M8: 84 | N8: 10 | O8: =SUM(C8:N8) -> 250
B9: JUMLAH | C9: =SUM(C6:C8) -> 16 | D9: =SUM(D6:D8) -> 7 | E9: =SUM(E6:E8) -> 13 | F9: =SUM(F6:F8) -> 21 | G9: =SUM(G6:G8) -> 11 | H9: =SUM(H6:H8) -> 36 | I9: =SUM(I6:I8) -> 17 | J9: =SUM(J6:J8) -> 12 | ... O9: =SUM(O6:O8) -> 264

Sheet semb. bebiri
D1: SEMBELIHAN BULANAN TERNAKAN BEBIRI YANG DIREKOD
G2: TAHUN 2023
B4: RUMAH SEMBELIH | C4: Jan | D4: Feb | E4: Mac | F4: Apr | G4: Mei | H4: Jun | I4: Jul | J4: Ogos | K4: Sep | L4: Okt | M4: Nov | N4: Dis | O4: Jumlah
B5: Rumah Sembelih Senawang | C5: 0 | D5: 1 | E5: 0 | F5: 0 | G5: 0 | H5: 0 | I5: 0 | J5: 0 | K5: 0 | L5: 0 | M5: 0 | N5: 0 | O5: =SUM(C5:N5) -> 1
B6: Rumah Sembelih Jelebu | C6: 0 | D6: 0 | E6: 0 | F6: 0 | G6: 0 | H6: 0 | I6: 0 | J6: 0 | K6: 0 | L6: 0 | M6: 0 | N6: 0 | O6: =SUM(C6:N6) -> 0
B7: Rumah Sembelih Kuala Pilah | C7: 8 | D7: 0 | E7: 0 | F7: 0 | G7: 0 | H7: 0 | I7: 0 | J7: 0 | K7: 0 | L7: 0 | M7: 0 | N7: 0 | O7: =SUM(C7:N7) -> 8
B8: JUMLAH | C8: =SUM(C5:C7) -> 8 | D8: =SUM(D5:D7) -> 1 | E8: =SUM(E5:E7) -> 0 | F8: =SUM(F5:F7) -> 0 | G8: =SUM(G5:G7) -> 0 | H8: =SUM(H5:H7) -> 0 | I8: =SUM(I5:I7) -> 0 | J8: =SUM(J5:J7) -> 0 | ... O8: =SUM(O5:O7) -> 9

Sheet mukim ruminan nw
F1: BANCIAN RUMINAN MENGIKUT MUKIM
A3: DATA BANCIAN - DAERAH JELEBU
A4: TAHUN 2023
A6: DAERAH | B6: Lembu Pedaging | D6: Lembu Tenusu | F6: Kerbau | H6: Kambing | J6: Kambing Susu | L6: Bebiri | N6: Rusa
B7: Penternak | C7: Ternakan | D7: Penternak | E7: Ternakan | F7: Penternak | G7: Ternakan | H7: Penternak | I7: Ternakan | J7: Penternak | K7: Ternakan | L7: Penternak | M7: Ternakan | N7: Penternak | O7: Ternakan
A8: Kuala Klawang | H8: 30 | I8: 556 | L8: 14 | M8: 225
A9: Hulu Klawang | B9: 18 | C9: 393 | F9: 2 | G9: 11 | H9: 2 | I9: 18 | L9: 13 | M9: 273 | N9: 2 | O9: 10
A10: Ulu Triang | B10: 8 | C10: 126 | D10: 1 | E10: 20 | H10: 5 | I10: 151 | L10: 6 | M10: 107
A11: Triang Ulu
A12: Glami Lemi | B12: 6 | C12: 132 | D12: 1 | E12: 57 | H12: 6 | I12: 80 | L12: 6 | M12: 621
A13: Peradong | B13: 17 | C13: 402 | H13: 12 | I13: 255 | L13: 21 | M13: 1345
A14: Pertang | B14: 42 | C14: 1560 | D14: 1 | E14: 53 | F14: 2 | G14: 39 | H14: 16 | I14: 321 | L14: 31 | M14: 972 | N14: 2 | O14: 6
A15: Triang Hilir | B15: 51 | C15: 2151 | F15: 4 | G15: 96 | H15: 19 | I15: 373 | L15: 36 | M15: 1016
A16: Klawang | B16: 10 | C16: 225 | D16: 0 | E16: 0 | H16: 2 | I16: 28
A17: Kenaboi | B17: 8 | C17: 441 | H17: 9 | I17: 449 | L17: 3 | M17: 18 | N17: 1 | O17: 24
A18: Jumlah | B18: =SUM(B8:B17) -> 160 | C18: =SUM(C9:C17) -> 5430 | D18: =SUM(D8:D17) -> 3 | E18: =SUM(E8:E17) -> 130 | F18: =SUM(F8:F17) -> 8 | G18: =SUM(G8:G17) -> 146 | H18: =SUM(H8:H17) -> 101 | I18: =SUM(I8:I17) -> 2231 | J18: 0 | K18: 0 | L18: =SUM(L8:L17) -> 130 | M18: =SUM(M8:M17) -> 4577 | N18: =SUM(N8:N17) -> 5 | O18: =SUM(O8:O17) -> 40
B19: * 13 PENTERNAK TDK AKTIF | D19: * 1 PENTERNAK TDK AKTIF | H19: * 15 PENTERNAK TDK AKTIF | L19: * 14 PENTERNAK TDK AKTIF | N19: * 1 PENTERNAK TDK AKTIF
A21: DATA BANCIAN - DAERAH JEMPOL
A22: TAHUN 2023
A24: DAERAH | B24: Lembu Pedaging | D24: Lembu Tenusu | F24: Kerbau | H24: Kambing | J24: Kambing Susu | L24: Bebiri | N24: Rusa
B25: Penternak | C25: Ternakan | D25: Penternak | E25: Ternakan | F25: Penternak | G25: Ternakan | H25: Penternak | I25: Ternakan | J25: Penternak | K25: Ternakan | L25: Penternak | M25: Ternakan | N25: Penternak | O25: Ternakan
A26: Jelai | B26: 7 | C26: 339 | F26: 1 | G26: 61 | H26: 2 | I26: 55 | L26: 2 | M26: 46
A27: Jempol
A28: Kuala Jempol | B28: 9 | C28: 353 | D28: 1 | E28: 3 | F28: 3 | G28: 24 | H28: 2 | I28: 77 | L28: 8 | M28: 191
A29: Rompin | B29: 91 | C29: 8891 | D29: 2 | E29: 93 | F29: 4 | G29: 492 | H29: 27 | I29: 935 | L29: 26 | M29: 2163 | N29: 2 | O29: 32
A30: Serting Hilir | B30: 39 | C30: 4595 | D30: 1 | E30: 67 | F30: 3 | G30: 41 | H30: 9 | I30: 380 | L30: 9 | M30: 332 | N30: 1 | O30: 14
A31: Simpang Pertang
A32: Serting Ulu | B32: 42 | C32: 3164 | F32: 6 | G32: 177 | H32: 14 | I32: 578 | L32: 21 | M32: 1137 | N32: 1 | O32: 3
A33: Palong | N33: 1 | O33: 15
A34: Jumlah | B34: =SUM(B26:B32) -> 188 | C34: =SUM(C26:C32) -> 17342 | D34: =SUM(D26:D32) -> 4 | E34: =SUM(E26:E32) -> 163 | F34: =SUM(F26:F32) -> 17 | G34: =SUM(G26:G32) -> 795 | H34: =SUM(H26:H32) -> 54 | I34: =SUM(I26:I32) -> 2025 | J34: 0 | K34: 0 | L34: =SUM(L26:L32) -> 66 | M34: =SUM(M26:M32) -> 3869 | N34: =SUM(N26:N33) -> 5 | O34: =SUM(O26:O33) -> 64
B35: * 13 PENTERNAK TDK AKTIF | D35: * 1 PENTERNAK TDK AKTIF | H35: * 3 PENTERNAK TDK AKTIF | L35: * 1 PENTERNAK TDK AKTIF | N35: * 1 PENTERNAK TDK AKTIF
A37: DATA BANCIAN - DAERAH TAMPIN
A38: TAHUN 2023
A40: DAERAH | B40: Lembu Pedaging | D40: Lembu Tenusu | F40: Kerbau | H40: Kambing | J40: Kambing Susu | L40: Bebiri | N40: Rusa | P40: Babi
B41: Penternak | C41: Ternakan | D41: Penternak | E41: Ternakan | F41: Penternak | G41: Ternakan | H41: Penternak | I41: Ternakan | J41: Penternak | K41: Ternakan | L41: Penternak | M41: Ternakan | N41: Penternak | O41: Ternakan | P41: Penternak | Q41: Ternakan
A42: Air Kuning | B42: 8 | C42: 1252 | D42: 3 | E42: 68 | F42: 1 | G42: 8 | H42: 5 | I42: 118 | L42: 7 | M42: 278 | P42: 1 | Q42: 380
A43: Gemencheh | B43: 34 | C43: 1373 | D43: 8 | E43: 163 | F43: 3 | G43: 60 | H43: 18 | I43: 492 | L43: 25 | M43: 893 | N43: 2 | O43: 26
A44: Gemas | B44: 70 | C44: 3028 | D44: 5 | E44: 145 | F44: 3 | G44: 23 | H44: 23 | I44: 623 | L44: 25 | M44: 741 | N44: 1 | O44: 8
A45: Keru | B45: 6 | C45: 208 | H45: 3 | I45: 80 | L45: 3 | M45: 95
A46: Repah | B46: 14 | C46: 383 | F46: 4 | G46: 88 | H46: 5 | I46: 134 | L46: 9 | M46: 255
...

Sheet Mukim unggas (1)
B1: BANCIAN AYAM DAN ITIK MENGIKUT MUKIM
B3: DATA BANCIAN - DAERAH REMBAU
B4: TAHUN 2023
B6: Mukim / Spesis | C6: Ayam daging | E6: Ayam Telor | G6: Ayam Baka | I6: Ayam Kampong | K6: Itik Daging | M6: Itik Telor | O6: Itik Pembiak
C7: Penternak | D7: Ternakan | E7: Penternak | F7: Ternakan | G7: Penternak | H7: Ternakan | I7: Penternak | J7: Ternakan | K7: Penternak | L7: Ternakan | M7: Penternak | N7: Ternakan | O7: Penternak | P7: Ternakan
B8: Batu Hampar | I8: 3 | J8: 170 | K8: 0 | L8: 0
B9: Bongek
B10: Chembong | C10: 2 | D10: 194500
B11: Chengkau | I11: 5 | J11: 145 | K11: 1 | L11: 15
B12: Gadong | C12: 2 | D12: 136000 | G12: 2 | H12: 104120 | I12: 5 | J12: 3209 | K12: 1 | L12: 40 | M12: 1 | N12: 90
B13: Kundur | I13: 2 | J13: 94
B14: Legong Hilir | I14: 6 | J14: 113 | K14: 1 | L14: 30 | M14: 2 | N14: 67
B15: Legong Hulu
B16: Miku
B17: Nerasau | I17: 1 | J17: 30
B18: Pedas | C18: 3 | D18: 170000 | G18: 1 | H18: 224400 | K18: 0 | L18: 0
B19: Pilin
B20: Selemak | G20: 1 | H20: 250000
B21: Semerbok | C21: 1 | D21: 40000 | I21: 1 | J21: 30
B22: Senama | K22: 1 | L22: 25
B23: Seperi | I23: 1 | J23: 700
B24: Tanjong Keling | I24: 2 | J24: 65 | K24: 1 | L24: 15 | M24: 1 | N24: 20
B25: Titian Bintangor | C25: 2 | D25: 330000 | E25: 2 | F25: 1222080 | K25: 2 | L25: 60 | M25: 2 | N25: 900
B26: Kota
