Workbook

Sheet bil. ternakan
A3: BILANGAN TERNAKAN
A4: TAHUN 2023
A6: DAERAH | B6: KERBAU | C6: LEMBU PEDAGING | D6: LEMBU TENUSU | E6: JUMLAH LEMBU | F6: KAMBING PEDAGING | G6: KAMBING TENUSU | H6: BEBIRI | I6: BABI
A7: SEREMBAN | B7: 528 | C7: 3636 | D7: 1621 | E7: =SUM(C7:D7) -> 5257 | F7: 2357 | G7: 60 | H7: 816 | I7: 0
A8: JELEBU | B8: 146 | C8: 5430 | D8: 130 | E8: =SUM(C8:D8) -> 5560 | F8: 2231 | G8: 0 | H8: 4577 | I8: 0
A9: REMBAU | B9: 671 | C9: 4420 | D9: 259 | E9: =SUM(C9:D9) -> 4679 | F9: 2083 | G9: 120 | H9: 1789 | I9: 0
A10: KUALA PILAH | B10: 177 | C10: 1718 | D10: 558 | E10: =SUM(C10:D10) -> 2276 | F10: 2738 | G10: 0 | H10: 2562 | I10: 0
A11: JEMPOL | B11: 795 | C11: 17342 | D11: 163 | E11: =SUM(C11:D11) -> 17505 | F11: 2025 | G11: 0 | H11: 3869 | I11: 0
A12: TAMPIN | B12: 332 | C12: 6637 | D12: 381 | E12: =SUM(C12:D12) -> 7018 | F12: 1592 | G12: 0 | H12: 2354 | I12: 380
A13: PORT DICKSON | B13: 18 | C13: 4157 | D13: 946 | E13: =SUM(C13:D13) -> 5103 | F13: 2393 | G13: 30 | H13: 736 | I13: 0
A14: JUMLAH | B14: =SUM(B7:B13) -> 2667 | C14: =SUM(C7:C13) -> 43340 | D14: =SUM(D7:D13) -> 4058 | E14: =SUM(E7:E13) -> 47398 | F14: =SUM(F7:F13) -> 15419 | G14: =SUM(G7:G13) -> 210 | H14: =SUM(H7:H13) -> 16703 | I14: =SUM(I7:I13) -> 380

Sheet pedaging
A2: BANCI LEMBU PEDAGING
A3: TAHUN 2023
B5: Lembu K.K | I5: Lembu Kacukan Daging | P5: Jumlah | S5: Jumlah Penternak
A6: DAERAH | B6: Jantan | E6: Betina | H6: Jumlah | I6: Jantan | L6: Betina | O6: Jumlah
B7: <1 thn | C7: 1-2 thn | D7: >2 thn | E7: <1 thn | F7: 1-2 thn | G7: >2 thn | I7: <1 thn | J7: 1-2 thn | K7: >2 thn | L7: <1 thn | M7: 1-2 thn | N7: >2 thn | P7: Jantan | Q7: Betina | R7: Jumlah
A8: SEREMBAN | B8: 45 | C8: 116 | D8: 29 | E8: 50 | F8: 81 | G8: 117 | H8: =SUM(B8:G8) -> 438 | I8: 310 | J8: 944 | K8: 506 | L8: 256 | M8: 581 | N8: 601 | O8: =SUM(I8:N8) -> 3198 | P8: =+B8+C8+D8+I8+J8+K8 -> 1950 | Q8: =+E8+F8+G8+L8+M8+N8 -> 1686 | R8: =SUM(P8:Q8) -> 3636 | S8: 64 | T8: (1 TDK AKTIF) | U8: =+O8+H8 -> 3636 | W8: =+R8-U8 -> 0
A9: JELEBU | I9: 676 | J9: 766 | K9: 392 | L9: 850 | M9: 1306 | N9: 1440 | O9: =SUM(I9:N9) -> 5430 | P9: =+I9+J9+K9 -> 1834 | Q9: =+L9+M9+N9 -> 3596 | R9: =SUM(P9:Q9) -> 5430 | S9: 160 | T9: (13 TDK AKTIF) | U9: =+O9+H9 -> 5430 | W9: =+R9-U9 -> 0
A10: REMBAU | B10: 3 | C10: 51 | D10: 5 | E10: 3 | F10: 10 | G10: 24 | H10: =SUM(B10:G10) -> 96 | I10: 365 | J10: 456 | K10: 470 | L10: 569 | M10: 772 | N10: 1692 | O10: =SUM(I10:N10) -> 4324 | P10: =+B10+C10+D10+I10+J10+K10 -> 1350 | Q10: =+E10+F10+G10+L10+M10+N10 -> 3070 | R10: =SUM(P10:Q10) -> 4420 | S10: 123 | U10: =+O10+H10 -> 4420 | W10: =+R10-U10 -> 0 | Y10: 7.84 | Z10: 9.943 | AA10: 10.86 | AB10: 21.05 | AC10: 28.62 | AD10: 21.69 | AE10: =SUM(Y10:AD10) -> 100.003 | AH10: 4747 | AK10: -
A11: KUALA PILAH | B11: 135 | C11: 187 | D11: 229 | E11: 578 | F11: 189 | G11: 260 | H11: =SUM(B11:G11) -> 1578 | I11: 5 | J11: 17 | K11: 7 | L11: 111 | M11: 0 | N11: 0 | O11: =SUM(I11:N11) -> 140 | P11: =+B11+C11+D11+I11+J11+K11 -> 580 | Q11: =+E11+F11+G11+L11+M11+N11 -> 1138 | R11: =SUM(P11:Q11) -> 1718 | S11: 43 | U11: =+O11+H11 -> 1718 | W11: =+R11-U11 -> 0
A12: JEMPOL | I12: 2545 | J12: 1901 | K12: 1451 | L12: 2737 | M12: 2707 | N12: 6001 | O12: =SUM(I12:N12) -> 17342 | P12: =+I12+J12+K12 -> 5897 | Q12: =+L12+M12+N12 -> 11445 | R12: =SUM(P12:Q12) -> 17342 | S12: 188 | T12: (13 TDK AKTIF) | U12: =+O12+H12 -> 17342 | W12: =+R12-U12 -> 0
A13: TAMPIN | B13: 991 | C13: 1053 | D13: 442 | E13: 1165 | F13: 1384 | G13: 1602 | H13: =SUM(B13:G13) -> 6637 | P13: =+B13+C13+D13 -> 2486 | Q13: =+E13+F13+G13 -> 4151 | R13: =SUM(P13:Q13) -> 6637 | S13: 137
A14: PORT DICKSON | B14: 92 | C14: 110 | D14: 71 | E14: 169 | F14: 394 | G14: 195 | H14: =SUM(B14:G14) -> 1031 | I14: 294 | J14: 359 | K14: 249 | L14: 349 | M14: 994 | N14: 881 | O14: =SUM(I14:N14) -> 3126 | P14: =+B14+C14+D14+I14+J14+K14 -> 1175 | Q14: =+E14+F14+G14+L14+M14+N14 -> 2982 | R14: =SUM(P14:Q14) -> 4157 | S14: 143 | T14: (1 TDK AKTIF) | U14: =+O14+H14 -> 4157 | W14: =+R14-U14 -> 0
A15: JUMLAH | B15: =SUM(B8:B14) -> 1266 | C15: =SUM(C8:C14) -> 1517 | D15: =SUM(D8:D14) -> 776 | E15: =SUM(E8:E14) -> 1965 | F15: =SUM(F8:F14) -> 2058 | G15: =SUM(G8:G14) -> 2198 | H15: =SUM(H8:H14) -> 9780 | I15: =SUM(I8:I14) -> 4195 | ... S15: =SUM(S8:S14) -> 858 | U15: =+O15+H15 -> 43340 | W15: =+R15-U15 -> 0

Sheet tenusu
A2: BANCI LEMBU TENUSU
A3: TAHUN 2023
B6: Lembu Tenusu /LID | I6: Lembu Kacukan Tenusu | P6: Jumlah | S6: Jumlah Penternak
A7: DAERAH | B7: Jantan | E7: Betina | H7: Jumlah | I7: Jantan | L7: Betina | O7: Jumlah
B8: <1 thn | C8: 1-2 thn | D8: >2 thn | E8: <1 thn | F8: 1-2 thn | G8: >2 thn | I8: <1 thn | J8: 1-2 thn | K8: >2 thn | L8: <1 thn | M8: 1-2 thn | N8: >2 thn | P8: Jantan | Q8: Betina | R8: Jumlah
A9: SEREMBAN | I9: 119 | J9: 142 | K9: 94 | L9: 161 | M9: 283 | N9: 822 | O9: =SUM(I9:N9) -> 1621 | P9: =+I9+J9+K9 -> 355 | Q9: =+L9+M9+N9 -> 1266 | R9: =SUM(P9:Q9) -> 1621 | S9: 47 | T9: (4 TDK AKTIF)
A10: JELEBU | I10: 20 | J10: 6 | K10: 5 | L10: 20 | M10: 12 | N10: 67 | O10: =SUM(I10:N10) -> 130 | P10: =+I10+J10+K10 -> 31 | Q10: =+L10+M10+N10 -> 99 | R10: =SUM(P10:Q10) -> 130 | S10: 3 | T10: ( 1 TDK AKTIF)
A11: REMBAU | I11: 18 | J11: 4 | K11: 10 | L11: 17 | M11: 52 | N11: 158 | O11: =SUM(I11:N11) -> 259 | P11: =+I11+J11+K11 -> 32 | Q11: =+L11+M11+N11 -> 227 | R11: =SUM(P11:Q11) -> 259 | S11: 4
A12: KUALA PILAH | I12: 0 | J12: 70 | K12: 5 | L12: 81 | M12: 43 | N12: 359 | O12: =SUM(I12:N12) -> 558 | P12: =+I12+J12+K12 -> 75 | Q12: =+L12+M12+N12 -> 483 | R12: =SUM(P12:Q12) -> 558 | S12: 1
A13: JEMPOL | I13: 31 | J13: 10 | K13: 10 | L13: 27 | M13: 29 | N13: 56 | O13: =SUM(I13:N13) -> 163 | P13: =+I13+J13+K13 -> 51 | Q13: =+L13+M13+N13 -> 112 | R13: =SUM(P13:Q13) -> 163 | S13: 4 | T13: ( 1 TDK AKTIF)
A14: TAMPIN | I14: 32 | J14: 31 | K14: 16 | L14: 76 | M14: 109 | N14: 117 | O14: =SUM(I14:N14) -> 381 | P14: =+I14+J14+K14 -> 79 | Q14: =+L14+M14+N14 -> 302 | R14: =SUM(P14:Q14) -> 381 | S14: 17
A15: PORT DICKSON | I15: 76 | J15: 55 | K15: 59 | L15: 110 | M15: 318 | N15: 328 | O15: =SUM(I15:N15) -> 946 | P15: =+I15+J15+K15 -> 190 | Q15: =+L15+M15+N15 -> 756 | R15: =SUM(P15:Q15) -> 946 | S15: 24 | T15: ( 1 TDK AKTIF)
A16: JUMLAH | I16: =SUM(I9:I15) -> 296 | J16: =SUM(J9:J15) -> 318 | K16: =SUM(K9:K15) -> 199 | L16: =SUM(L9:L15) -> 492 | M16: =SUM(M9:M15) -> 846 | N16: =SUM(N9:N15) -> 1907 | O16: =SUM(O9:O15) -> 4058 | P16: =SUM(P9:P15) -> 813 | ... S16: =SUM(S9:S15) -> 100

Sheet kerbau
A2: BANCI KERBAU
A3: TAHUN 2023
B5: Sawah | I5: Murrah | P5: Jumlah | S5: Jumlah Penternak
A6: DAERAH | B6: Jantan | E6: Betina | H6: Jumlah | I6: Jantan | L6: Betina | O6: Jumlah
B7: <1 thn | C7: 1-2 thn | D7: >2 thn | E7: <1 thn | F7: 1-2 thn | G7: >2 thn | I7: <1 thn | J7: 1-2 thn | K7: >2 thn | L7: <1 thn | M7: 1-2 thn | N7: >2 thn | P7: Jantan | Q7: Betina | R7: Jumlah
A8: SEREMBAN | B8: 70 | C8: 121 | D8: 49 | E8: 72 | F8: 101 | G8: 115 | H8: =SUM(B8:G8) -> 528 | P8: =+B8+C8+D8 -> 240 | Q8: =+E8+F8+G8 -> 288 | R8: =SUM(P8:Q8) -> 528 | S8: 8
A9: JELEBU | B9: 19 | C9: 25 | D9: 10 | E9: 21 | F9: 33 | G9: 38 | H9: =SUM(B9:G9) -> 146 | P9: =+B9+C9+D9 -> 54 | Q9: =+E9+F9+G9 -> 92 | R9: =SUM(P9:Q9) -> 146 | S9: 8
A10: REMBAU | B10: 5 | C10: 8 | D10: 9 | E10: 25 | F10: 25 | G10: 30 | H10: =SUM(B10:G10) -> 102 | I10: 43 | J10: 56 | K10: 45 | L10: 91 | M10: 113 | N10: 221 | O10: =SUM(I10:N10) -> 569 | P10: =+B10+C10+D10+I10+J10+K10 -> 166 | Q10: =+E10+F10+G10+L10+M10+N10 -> 505 | R10: =SUM(P10:Q10) -> 671 | S10: 24
A11: KUALA PILAH | B11: 18 | C11: 12 | D11: 17 | E11: 38 | F11: 27 | G11: 65 | H11: =SUM(B11:G11) -> 177 | P11: =+B11+C11+D11 -> 47 | Q11: =+E11+F11+G11 -> 130 | R11: =SUM(P11:Q11) -> 177 | S11: 12
A12: JEMPOL | B12: 120 | C12: 71 | D12: 70 | E12: 144 | F12: 134 | G12: 256 | H12: =SUM(B12:G12) -> 795 | P12: =+B12+C12+D12 -> 261 | Q12: =+E12+F12+G12 -> 534 | R12: =SUM(P12:Q12) -> 795 | S12: 17 | T12: ( 2 tdk aktif)
A13: TAMPIN | B13: 42 | C13: 39 | D13: 32 | E13: 67 | F13: 74 | G13: 78 | H13: =SUM(B13:G13) -> 332 | P13: =+B13+C13+D13 -> 113 | Q13: =+E13+F13+G13 -> 219 | R13: =SUM(P13:Q13) -> 332 | S13: 15 | T13: ( 1 tdk aktif)
A14: PORT DICKSON | B14: 0 | C14: 4 | D14: 2 | E14: 2 | F14: 3 | G14: 7 | H14: =SUM(B14:G14) -> 18 | P14: =+B14+C14+D14 -> 6 | Q14: =+E14+F14+G14 -> 12 | R14: =SUM(P14:Q14) -> 18 | S14: 2
A15: JUMLAH | B15: =SUM(B8:B14) -> 274 | C15: =SUM(C8:C14) -> 280 | D15: =SUM(D8:D14) -> 189 | E15: =SUM(E8:E14) -> 369 | F15: =SUM(F8:F14) -> 397 | G15: =SUM(G8:G14) -> 589 | H15: =SUM(H8:H14) -> 2098 | I15: =SUM(I8:I14) -> 43 | ... S15: =SUM(S8:S14) -> 86

Sheet kambing
A1: BANCIAN KAMBING PEDAGING
A2: TAHUN 2023
A5: DAERAH | B5: Jantan | F5: Betina | J5: Jumlah | N5: Jumlah Penternak
B6: <6bln | C6: 6-12bln | D6: >1 thn | E6: Jumlah | F6: <6bln | G6: 6-12bln | H6: >1 thn | I6: Jumlah | J6: <6bln | K6: 6-12bln | L6: >1 thn | M6: Jumlah
A7: SEREMBAN | B7: 180 | C7: 347 | D7: 292 | E7: =SUM(B7:D7) -> 819 | F7: 244 | G7: 361 | H7: 933 | I7: =SUM(F7:H7) -> 1538 | J7: =+B7+F7 -> 424 | K7: =+C7+G7 -> 708 | L7: =+D7+H7 -> 1225 | M7: =SUM(J7:L7) -> 2357 | N7: 77 | O7: ( 2 TDK AKTIF)
A8: JELEBU | B8: 266 | C8: 277 | D8: 297 | E8: =SUM(B8:D8) -> 840 | F8: 301 | G8: 423 | H8: 667 | I8: =SUM(F8:H8) -> 1391 | J8: =+B8+F8 -> 567 | K8: =+C8+G8 -> 700 | L8: =+D8+H8 -> 964 | M8: =SUM(J8:L8) -> 2231 | N8: 101 | O8: ( 1 5 TDK AKTIF)
A9: REMBAU | B9: 101 | C9: 201 | D9: 218 | E9: =SUM(B9:D9) -> 520 | F9: 228 | G9: 375 | H9: 960 | I9: =SUM(F9:H9) -> 1563 | J9: =+B9+F9 -> 329 | K9: =+C9+G9 -> 576 | L9: =+D9+H9 -> 1178 | M9: =SUM(J9:L9) -> 2083 | N9: 68
A10: KUALA PILAH | B10: 369 | C10: 307 | D10: 134 | E10: =SUM(B10:D10) -> 810 | F10: 679 | G10: 954 | H10: 295 | I10: =SUM(F10:H10) -> 1928 | J10: =+B10+F10 -> 1048 | K10: =+C10+G10 -> 1261 | L10: =+D10+H10 -> 429 | M10: =SUM(J10:L10) -> 2738 | N10: 113
A11: JEMPOL | B11: 408 | C11: 217 | D11: 195 | E11: =SUM(B11:D11) -> 820 | F11: 417 | G11: 251 | H11: 537 | I11: =SUM(F11:H11) -> 1205 | J11: =+B11+F11 -> 825 | K11: =+C11+G11 -> 468 | L11: =+D11+H11 -> 732 | M11: =SUM(J11:L11) -> 2025 | N11: 54 | O11: ( 3 TDK AKTIF)
A12: TAMPIN | B12: 263 | C12: 245 | D12: 100 | E12: =SUM(B12:D12) -> 608 | F12: 297 | G12: 334 | H12: 353 | I12: =SUM(F12:H12) -> 984 | J12: =+B12+F12 -> 560 | K12: =+C12+G12 -> 579 | L12: =+D12+H12 -> 453 | M12: =SUM(J12:L12) -> 1592 | N12: 58 | O12: ( 2 TDK AKTIF)
A13: PORT DICKSON | B13: 125 | C13: 277 | D13: 217 | E13: =SUM(B13:D13) -> 619 | F13: 189 | G13: 494 | H13: 1091 | I13: =SUM(F13:H13) -> 1774 | J13: =+B13+F13 -> 314 | K13: =+C13+G13 -> 771 | L13: =+D13+H13 -> 1308 | M13: =SUM(J13:L13) -> 2393 | N13: 88
A14: JUMLAH | B14: =SUM(B7:B13) -> 1712 | C14: =SUM(C7:C13) -> 1871 | D14: =SUM(D7:D13) -> 1453 | E14: =SUM(E7:E13) -> 5036 | F14: =SUM(F7:F13) -> 2355 | G14: =SUM(G7:G13) -> 3192 | H14: =SUM(H7:H13) -> 4836 | I14: =SUM(I7:I13) -> 10383 | ... N14: =SUM(N7:N13) -> 559

Sheet kambing tenusu
A2: BANCIAN KAMBING SUSU
A3: TAHUN 2023
A5: DAERAH | C5: Jantan | G5: Betina | K5: Jumlah | N5: Jumlah Penternak
B6: <6bln | C6: 6-12bln | D6: >1 thn | E6: Jumlah | F6: <6bln | G6: 6-12bln | H6: >1 thn | I6: Jumlah | J6: <6bln | K6: 6-12bln | L6: >1 thn | M6: Jumlah
A7: SEREMBAN | B7: 10 | C7: 3 | D7: 2 | E7: =SUM(B7:D7) -> 15 | F7: 10 | G7: 5 | H7: 30 | I7: =SUM(F7:H7) -> 45 | J7: =+B7+F7 -> 20 | K7: =+C7+G7 -> 8 | L7: =+D7+H7 -> 32 | M7: =SUM(J7:L7) -> 60 | N7: 1
A8: JELEBU | B8: 0 | C8: 0 | D8: 0 | E8: 0 | F8: 0 | G8: 0 | H8: 0 | I8: =SUM(F8:H8) -> 0 | J8: 0 | K8: 0 | L8: 0 | M8: 0 | N8: 0
A9: REMBAU | B9: 9 | C9: 15 | D9: 11 | E9: =SUM(B9:D9) -> 35 | F9: 15 | G9: 10 | H9: 60 | I9: =SUM(F9:H9) -> 85 | J9: =+B9+F9 -> 24 | K9: =+C9+G9 -> 25 | L9: =+D9+H9 -> 71 | M9: =SUM(J9:L9) -> 120 | N9: 1
A10: KUALA PILAH | B10: 0 | C10: 0 | D10: 0 | E10: =SUM(B10:D10) -> 0 | F10: 0 | G10: 0 | H10: 0 | I10: =SUM(F10:H10) -> 0 | J10: 0 | K10: 0 | L10: 0 | M10: =SUM(J10:L10) -> 0 | N10: 0
A11: JEMPOL | B11: 0 | C11: 0 | D11: 0 | E11: =SUM(B11:D11) -> 0 | F11: 0 | G11: 0 | H11: 0 | I11: =SUM(F11:H11) -> 0 | J11: 0 | K11: 0 | L11: 0 | M11: =SUM(J11:L11) -> 0 | N11: 0
A12: TAMPIN | B12: 0 | C12: 0 | D12: 0 | E12: =SUM(B12:D12) -> 0 | F12: 0 | G12: 0 | H12: 0 | I12: =SUM(F12:H12) -> 0 | J12: 0 | K12: 0 | L12: 0 | M12: =SUM(J12:L12) -> 0 | N12: 0
A13: PORT DICKSON | B13: 6 | C13: 0 | D13: 3 | E13: =SUM(B13:D13) -> 9 | F13: 6 | G13: 2 | H13: 13 | I13: =SUM(F13:H13) -> 21 | J13: =+B13+F13 -> 12 | K13: =+C13+G13 -> 2 | L13: =+D13+H13 -> 16 | M13: =SUM(J13:L13) -> 30 | N13: 4
A14: JUMLAH | B14: =SUM(B7:B13) -> 25 | C14: =SUM(C7:C13) -> 18 | D14: =SUM(D7:D13) -> 16 | E14: =SUM(E7:E13) -> 59 | F14: =SUM(F7:F13) -> 31 | G14: =SUM(G7:G13) -> 17 | H14: =SUM(H7:H13) -> 103 | I14: =SUM(I7:I13) -> 151 | ... N14: =SUM(N7:N13) -> 6

Sheet bebiri 
A2: BANCIAN BEBIRI
A3: TAHUN 2023
A5: DAERAH | B5: Jantan | F5: Betina | J5: Jumlah Besar | N5: Jumlah Penternak
B6: <6bln | C6: 6-12bln | D6: >1 thn | E6: Jumlah | F6: <6bln | G6: 6-12bln | H6: >1 thn | I6: Jumlah | J6: <6bln | K6: 6-12bln | L6: >1 thn | M6: Jumlah
A7: SEREMBAN | B7: 102 | C7: 134 | D7: 96 | E7: =SUM(B7:D7) -> 332 | F7: 116 | G7: 129 | H7: 239 | I7: =SUM(F7:H7) -> 484 | J7: =+B7+F7 -> 218 | K7: =+C7+G7 -> 263 | L7: =+D7+H7 -> 335 | M7: =SUM(J7:L7) -> 816 | N7: 21
A8: JELEBU | B8: 582 | C8: 703 | D8: 524 | E8: =SUM(B8:D8) -> 1809 | F8: 581 | G8: 746 | H8: 1441 | I8: =SUM(F8:H8) -> 2768 | J8: =+B8+F8 -> 1163 | K8: =+C8+G8 -> 1449 | L8: =+D8+H8 -> 1965 | M8: =SUM(J8:L8) -> 4577 | N8: 130 | O8: ( 1 4 TDK AKTIF)
A9: REMBAU | B9: 93 | C9: 187 | D9: 450 | E9: =SUM(B9:D9) -> 730 | F9: 125 | G9: 334 | H9: 600 | I9: =SUM(F9:H9) -> 1059 | J9: =+B9+F9 -> 218 | K9: =+C9+G9 -> 521 | L9: =+D9+H9 -> 1050 | M9: =SUM(J9:L9) -> 1789 | N9: 40
A10: KUALA PILAH | B10: 325 | C10: 239 | D10: 128 | E10: =SUM(B10:D10) -> 692 | F10: 650 | G10: 783 | H10: 437 | I10: =SUM(F10:H10) -> 1870 | J10: =+B10+F10 -> 975 | K10: =+C10+G10 -> 1022 | L10: =+D10+H10 -> 565 | M10: =SUM(J10:L10) -> 2562 | N10: 99
A11: JEMPOL | B11: 567 | C11: 400 | D11: 446 | E11: =SUM(B11:D11) -> 1413 | F11: 687 | G11: 597 | H11: 1172 | I11: =SUM(F11:H11) -> 2456 | J11: =+B11+F11 -> 1254 | K11: =+C11+G11 -> 997 | L11: =+D11+H11 -> 1618 | M11: =SUM(J11:L11) -> 3869 | N11: 66 | O11: ( 1 TDK AKTIF)
A12: TAMPIN | B12: 373 | C12: 357 | D12: 177 | E12: =SUM(B12:D12) -> 907 | F12: 480 | G12: 456 | H12: 511 | I12: =SUM(F12:H12) -> 1447 | J12: =+B12+F12 -> 853 | K12: =+C12+G12 -> 813 | L12: =+D12+H12 -> 688 | M12: =SUM(J12:L12) -> 2354 | N12: 72
A13: PORT DICKSON | B13: 73 | C13: 63 | D13: 37 | E13: =SUM(B13:D13) -> 173 | F13: 73 | G13: 150 | H13: 340 | I13: =SUM(F13:H13) -> 563 | J13: =+B13+F13 -> 146 | K13: =+C13+G13 -> 213 | L13: =+D13+H13 -> 377 | M13: =SUM(J13:L13) -> 736 | N13: 15
A14: JUMLAH | B14: =SUM(B7:B13) -> 2115 | C14: =SUM(C7:C13) -> 2083 | D14: =SUM(D7:D13) -> 1858 | E14: =SUM(E7:E13) -> 6056 | F14: =SUM(F7:F13) -> 2712 | G14: =SUM(G7:G13) -> 3195 | H14: =SUM(H7:H13) -> 4740 | I14: =SUM(I7:I13) -> 10647 | ... N14: =SUM(N7:N13) -> 443

Sheet babi
B3: BANCI BABI
B4: TAHUN 2023
B6: DAERAH | C6: BAKA | D6: BETINA | E6: LAIN-LAIN | F6: JUMLAH | G6: JUMLAH PENTERNAK
B7: SEREMBAN | C7: ₋ | D7: ₋ | E7: ₋ | F7: ₋ | G7: ₋
B10: JELEBU | C10: ₋ | D10: ₋ | E10: ₋ | F10: ₋ | G10: ₋
B13: REMBAU | C13: ₋ | D13: ₋ | E13: ₋ | F13: ₋ | G13: ₋
B16: KUALA PILAH | C16: ₋ | D16: ₋ | E16: ₋ | F16: ₋ | G16: ₋
B19: JEMPOL | C19: ₋ | D19: ₋ | E19: ₋ | F19: ₋ | G19: ₋
B22: TAMPIN | C22: 10 | D22: 150 | E22: 220 | F22: =SUM(C22:E22) -> 380 | G22: 1
B25: PORT DICKSON | C25: ₋ | D25: ₋ | E25: ₋ | F25: ₋ | G25: ₋
B28: JUMLAH | G28: 1
B35: kategori lain-lain:
B36: anak betina -120 ekor
B37: anak jantan - 100 ekor

Sheet ayam
A1: BANCI AYAM
A2: TAHUN 2023
A4: DAERAH | B4: Ayam Kampong | D4: Ayam Pedaging | F4: Ayam Penelur | H4: Ayam Baka/Pembiak | J4: Jumlah Keseluruhan
B5: Ternakan | C5: Penternak | D5: Ternakan | E5: Penternak | F5: Ternakan | G5: Penternak | H5: Ternakan | I5: Penternak | J5: Ternakan | K5: Penternak
A6: SEREMBAN | B6: 24720 | C6: 18 | D6: 2072700 | E6: 18 | F6: 1650000 | G6: 3 | H6: 0 | I6: 0 | J6: =+B6+D6+F6+H6 -> 3747420 | K6: =+C6+E6+G6+I6 -> 39
A7: JELEBU | B7: 86489 | C7: 94 | D7: 2222900 | E7: 20 | F7: 0 | G7: 0 | H7: 0 | I7: 0 | J7: =+B7+D7+F7+H7 -> 2309389 | K7: =+C7+E7+G7+I7 -> 114
A8: REMBAU | B8: 4556 | C8: 26 | D8: 870500 | E8: 10 | F8: 1222080 | G8: 2 | H8: 578520 | I8: 4 | J8: =+B8+D8+F8+H8 -> 2675656 | K8: =+C8+E8+G8+I8 -> 42
A9: KUALA PILAH | B9: 6926 | C9: 78 | D9: 712000 | E9: 4 | F9: 800000 | G9: 1 | H9: 184000 | I9: 2 | J9: =+B9+D9+F9+H9 -> 1702926 | K9: =+C9+E9+G9+I9 -> 85
A10: JEMPOL | B10: 3185 | C10: 14 | D10: 2323100 | E10: 19 | F10: 0 | G10: 0 | H10: 160000 | I10: 1 | J10: =+B10+D10+F10+H10 -> 2486285 | K10: =+C10+E10+G10+I10 -> 34
A11: TAMPIN | B11: 1645 | C11: 13 | D11: 7691000 | E11: 25 | F11: 950000 | G11: 1 | H11: 1935000 | I11: 13 | J11: =+B11+D11+F11+H11 -> 10577645 | K11: =+C11+E11+G11+I11 -> 52
A12: PORT DICKSON | B12: 37427 | C12: 24 | D12: 4033500 | E12: 58 | F12: 1515936 | G12: 2 | H12: 648512 | I12: 3 | J12: =+B12+D12+F12+H12 -> 6235375 | K12: =+C12+E12+G12+I12 -> 87
A13: JUMLAH | B13: =SUM(B6:B12) -> 164948 | C13: =SUM(C6:C12) -> 267 | D13: =SUM(D6:D12) -> 19925700 | E13: =SUM(E6:E12) -> 154 | F13: =SUM(F6:F12) -> 6138016 | G13: =SUM(G6:G12) -> 9 | H13: =SUM(H6:H12) -> 3506032 | I13: =SUM(I6:I12) -> 23 | ... K13: =SUM(K6:K12) -> 453
A14: PENAMBAHAN KAPASITI EKOR/ BIJI 34 BUAH LADANG:
A15: **** BANCI AYAM DAGING & AYAM PENELUR & AYAM BAKA | H15: ***BANCI AYAM KAMPUNG
A16: DAERAH SEREMBAN | C16: DAERAH JELEBU | E16: DAERAH TAMPIN | H16: Daerah Rembau - 1 penternak tdk aktif
A17: JD /SBN /08 - 32,000 EKOR | C17: JD/JLB/03 - 30,000 EKOR | E17: JD/TAM/16 - 20,000 EKOR | H17: Daerah Seremban - 2 penternak tdk aktif
A18: JD/SBN/15 - 28,000 EKOR | C18: JD/JLB/11 - 4,800 EKOR | E18: JD/TAM/20 - 84,000 EKOR | H18: Daerah Jelebu - 6 penternak tdk aktif
A19: JD/SBN/21 - 3,700 EKOR | C19: JD/JLB/13 - 10,000 EKOR | E19: JD/TAM26 - 3,000 EKOR | H19: Daerah Jempol - 1 penternak tkd aktif
C20: JD/JLB/15 - 42,000 EKOR | E20: JD/TAM/28 - 10,000 EKOR
A21: DAERAH JEMPOL | C21: JD/JLB/31 - 20,000 EKOR | E21: JD/TAM/39 - 276000 EKOR
A22: JD/ JEM/01 - 1,000 EKOR | C22: JD/JLB/32 - 140,000 EKOR | E22: JD/TAM/ 44 - 240,000 EKOR | H22: PENGURANGAN KAPASITI AYAM DAGING
A23: JD/JEM/06 - 15,000 EKOR | C23: JD/JLB/34 - 14,600 EKOR | E23: JD/TAM/ 45 - 240,000 EKOR | H23: JD /JEM / 19 - 16,000 EKOR - | J23: SYARIKAT RAMIDA MENGURANGKAN POPULASI DISEBABKAN TIADA TENAGA KERJA YANG CUKUP UNTUK MENJAGA TERNAKAN.
A24: JD/ JEM /22 - 20,300 EKOR | E24: JD/TAM/46 - 280,000 EKOR | H24: (SYARIKAT RAMIDA SDN BHD)
A25: JD / JEM/23 - 7,000 EKOR | E25: JD/TAM/47 - 840,000 EKOR
A26: JD/JEM/24 - 30,414 EKOR | E26: JD/TAM/48 - 680,000 EKOR
E27: JT/TAM/03 - 100,000 BIJI | H27: JD/REM/06 - 120,000 EKOR - | J27: REBAN KOSONG DAN
A28: DAERAH PORT DICKSON | C28: DAERAH REMBAU | E28: JB/TAM/04 - 25,720 EKOR | H28: (CHEW CHEE KHONG / FARMS | J28: BUAT PENANGGUHAN SELAMA
A29: JD/PD/22 -20,000 EKOR | C29: JD/REM/14 - 9,000 EKOR | E29: JB/TAM/13 - 24,000 EKOR | H29: BEST FOOD INDUSTRIES SDN. BHD) | J29: 2 TAHUN UNTUK PENAMBAHBAIKKAN REBAN.
A30: JD/PD/24 - 20,000 EKOR | C30: JT/REM/31 - 103,680 BIJI | E30: JB/TAM/32 - 32000 EKOR | H30: JD/PD/61 - 4,000 EKOR
A31: JD/PD/25 - 2,000 EKOR | E31: JB/TAM/33 - 32,000 EKOR | H31: JD/PD/77 - 6,000 EKOR
A32: JD/PD/37 - 50,000 EKOR | E32: JB/TAM/35 - 32,000 EKOR | H32: JD/PD/90 - 15,000 EKOR
A33: JD/PD/44 - 5,000 EKOR | E33: JB/TAM/40 - 32,000 EKOR | H33: JD/TAM/ 30 - 260000 EOR
A34: JD/PD/74 - 10,000 EKOR | E34: JB/TAM/ 41 - 32,000 EKOR
A41: note : AK/REM/34 -AYAM KAMPUNG KAPASITI LULUS PERMOHONAN (50,000 EKOR)
B42: TAPI TUKAR JURUSAN AYAM PEDAGING 2,000 EKOR
A116: *****BANCI AYAM DAGING
A117: PENAMBAHAN KAPASITI 5 BUAH LADANG
A125: PENGURANGAN KAPASITI AYAM DAGING
A126: JD/JEM / 19 - 16,000 EKOR -

Sheet itik
A1: BANCI ITIK
A2: TAHUN 2023
A4: DAERAH | B4: Itik Pembiak | D4: Itik Pedaging | F4: Itik Penelur | H4: Jumlah Keseluruhan
B5: Ternakan | C5: Penternak | D5: Ternakan | E5: Penternak | F5: Ternakan | G5: Penternak | H5: Ternakan | I5: Penternak
A6: SEREMBAN | B6: 0 | C6: 0 | D6: 500 | E6: 2 | F6: 1750 | G6: 5 | H6: =+B6+D6+F6 -> 2250 | I6: =+C6+E6+G6 -> 7
A7: JELEBU | B7: 0 | C7: 0 | D7: 31197 | E7: 33 | F7: 500 | G7: 10 | H7: =+B7+D7+F7 -> 31697 | I7: =+C7+E7+G7 -> 43
A8: REMBAU | B8: 0 | C8: 0 | D8: 185 | E8: 7 | F8: 1077 | G8: 6 | H8: =+B8+D8+F8 -> 1262 | I8: =+C8+E8+G8 -> 13
A9: KUALA PILAH | B9: 0 | C9: 0 | D9: 120 | E9: 1 | F9: 357 | G9: 9 | H9: =+B9+D9+F9 -> 477 | I9: =+C9+E9+G9 -> 10
A10: JEMPOL | B10: 0 | C10: 0 | D10: 365 | E10: 3 | F10: 620 | G10: 4 | H10: =+B10+D10+F10 -> 985 | I10: =+C10+E10+G10 -> 7
A11: TAMPIN | B11: 0 | C11: 0 | D11: 300 | E11: 6 | F11: 40250 | G11: 4 | H11: =+B11+D11+F11 -> 40550 | I11: =+C11+E11+G11 -> 10
A12: PORT DICKSON | B12: 0 | C12: 0 | D12: 258 | E12: 10 | F12: 65 | G12: 2 | H12: =+B12+D12+F12 -> 323 | I12: =+C12+E12+G12 -> 12
A13: JUMLAH | B13: =SUM(B7:B12) -> 0 | C13: =SUM(C7:C12) -> 0 | D13: =SUM(D6:D12) -> 32925 | E13: =SUM(E6:E12) -> 62 | F13: =SUM(F6:F12) -> 44619 | G13: =SUM(G6:G12) -> 40 | H13: =SUM(H6:H12) -> 77544 | I13: =SUM(I6:I12) -> 102
A15: *****ITIK DAGING
A16: Daerah Rembau 5 penternak tdk aktif
A17: Daerah Jelebu 3 penternak tdk aktif
A18: Daerah KP 1 penternak tdk aktif
A21: *****ITIK TELOR
A22: Daerah Jelebu 1 penternak tdk aktif
A23: Daerah Seremban 2 penternak tdk aktif
A24: Daerah Rembau 2 penternak tdk aktif
A25: Daerah Jempol 1 penternak tdk aktif

Sheet puyuh
A2: BANCI PUYUH
A3: TAHUN 2023
A5: DAERAH | B5: Puyuh Pedaging | D5: Puyuh Baka | F5: Puyuh Penelur | H5: Jumlah Keseluruhan
B6: Ternakan | C6: Penternak | D6: Ternakan | E6: Penternak | F6: Ternakan | G6: Penternak | H6: Ternakan | I6: Penternak
A7: SEREMBAN | B7: 1400 | C7: 2 | D7: 0 | E7: 0 | F7: 0 | G7: 0 | H7: =+B7+D7+F7 -> 1400 | I7: =+C7+E7+G7 -> 2
A8: JELEBU | B8: 0 | C8: 0 | D8: 0 | E8: 0 | F8: 0 | G8: 0 | H8: =+B8+D8+F8 -> 0 | I8: =+C8+E8+G8 -> 0
A9: REMBAU | B9: 150000 | C9: 1 | D9: 0 | E9: 0 | F9: 0 | G9: 0 | H9: =+B9+D9+F9 -> 150000 | I9: =+C9+E9+G9 -> 1
A10: KUALA PILAH | B10: 0 | C10: 0 | D10: 0 | E10: 0 | F10: 0 | G10: 0 | H10: =+B10+D10+F10 -> 0 | I10: =+C10+E10+G10 -> 0
A11: JEMPOL | B11: 500 | C11: 1 | D11: 0 | E11: 0 | F11: 0 | G11: 0 | H11: =+B11+D11+F11 -> 500 | I11: =+C11+E11+G11 -> 1
A12: TAMPIN | B12: 0 | C12: 0 | D12: 0 | E12: 0 | F12: 0 | G12: 0 | H12: =+B12+D12+F12 -> 0 | I12: =+C12+E12+G12 -> 0
A13: PORT DICKSON | B13: 0 | C13: 0 | D13: 0 | E13: 0 | F13: 0 | G13: 0 | H13: =+B13+D13+F13 -> 0 | I13: =+C13+E13+G13 -> 0
A14: JUMLAH | B14: =SUM(B7:B13) -> 151900 | C14: =SUM(C7:C13) -> 4 | D14: =SUM(D7:D13) -> 0 | E14: =SUM(E7:E13) -> 0 | F14: =SUM(F7:F13) -> 0 | G14: ₋ | H14: =SUM(H7:H13) -> 151900 | I14: =SUM(I7:I13) -> 4
A17: * 1 BUAH LADANG PUYUH DAGING & 1 BUAH LADANG PUYUH BAKA KOSONG TIADA TERNAKAN
A19: SEREMBAN
A20: PY/SBN/11 ( PUYUH BAKA) - REBAN KOSONG TIADA TERNAKAN
A21: PY/SBN/42 (PUYUH DAGING) - REBAN KOSONG TIADA TERNAKAN

Sheet aneka
A1: BANCI ANEKA HAIWAN
A2: TAHUN 2023
A4: DAERAH | B4: Kuda | F4: Jumlah Penternak | G4: Rusa | K4: Jumlah Penternak | L4: Arnab | P4: Jumlah Penternak
B5: Jantan | C5: Betina | D5: Anak | E5: Jumlah | G5: Jantan | H5: Betina | I5: Anak | J5: Jumlah | L5: Jantan | M5: Betina | N5: Anak | O5: Jumlah
A6: SEREMBAN | B6: 39 | C6: 33 | D6: 0 | E6: =SUM(B6:D6) -> 72 | F6: 6 | G6: 99 | H6: 161 | I6: 0 | J6: =SUM(G6:I6) -> 260 | K6: 4 | L6: 100 | M6: 1500 | N6: 3080 | O6: =SUM(L6:N6) -> 4680 | P6: 3
A7: JELEBU | B7: 0 | C7: 0 | D7: 0 | E7: 0 | F7: 0 | G7: 5 | H7: 30 | I7: 5 | J7: =SUM(G7:I7) -> 40 | K7: 5 | L7: 119 | M7: 173 | N7: 208 | O7: =SUM(L7:N7) -> 500 | P7: 4
A8: REMBAU | B8: 28 | C8: 58 | D8: 2 | E8: 88 | F8: 4 | G8: 2 | H8: 17 | I8: 3 | J8: =SUM(G8:I8) -> 22 | K8: 2 | L8: 25 | M8: 45 | N8: 15 | O8: =SUM(L8:N8) -> 85 | P8: 3
A9: KUALA PILAH | B9: 8 | C9: 12 | D9: 0 | E9: =SUM(B9:D9) -> 20 | F9: 2 | G9: 3 | H9: 5 | I9: 0 | J9: =SUM(G9:I9) -> 8 | K9: 2 | L9: 4 | M9: 11 | N9: 15 | O9: =SUM(L9:N9) -> 30 | P9: 2
A10: JEMPOL | B10: 0 | C10: 0 | D10: 0 | E10: 0 | F10: 0 | G10: 6 | H10: 34 | I10: 24 | J10: =SUM(G10:I10) -> 64 | K10: 5 | L10: 70 | M10: 379 | N10: 309 | O10: =SUM(L10:N10) -> 758 | P10: 3
A11: TAMPIN | B11: 0 | C11: 0 | D11: 0 | E11: 0 | F11: 0 | G11: 11 | H11: 26 | I11: 22 | J11: =SUM(G11:I11) -> 59 | K11: 4 | L11: 30 | M11: 800 | N11: 30 | O11: =SUM(L11:N11) -> 860 | P11: 1
A12: PORT DICKSON | B12: 13 | C12: 9 | D12: 0 | E12: =SUM(B12:D12) -> 22 | F12: 4 | G12: 40 | H12: 63 | I12: 28 | J12: =SUM(G12:I12) -> 131 | K12: 6 | L12: 90 | M12: 200 | N12: 98 | O12: =SUM(L12:N12) -> 388 | P12: 7
A13: JUMLAH | B13: =SUM(B6:B12) -> 88 | C13: =SUM(C6:C12) -> 112 | D13: =SUM(D6:D12) -> 2 | E13: =SUM(E6:E12) -> 202 | F13: =SUM(F6:F12) -> 16 | G13: =SUM(G6:G12) -> 166 | H13: =SUM(H6:H12) -> 336 | I13: =SUM(I6:I12) -> 82 | ... P13: =SUM(P6:P12) -> 23
A15: *****KUDA | G15: ******RUSA | L15: ******ARNAB
A16: Daerah Port Dickson 1 penternak tdk aktif | G16: Daerah Jempol 1 penternak tdk aktif | L16: Daerah Seremban 1 penternak tdk aktif
G17: Daerah Jelebu 1 penternak tdk aktif | L17: Daerah Jelebu 4 penternak tdk aktif
L18: Daerah Jempol 12 penternak tdk aktif

Sheet pel. aneka haiwan
A1: BANCIAN ANEKA HAIWAN & ANEKA UNGGAS
I2: TAHUN 2023
A4: Mukim / Spesis | B4: Landak | D4: Katak | F4: Labi-Labi | H4: Unta | J4: Ostrich | L4: Belanda | N4: Angsa | P4: Merpati | R4: Walit
B5: Ter | C5: Pen | D5: Ter | E5: Pen | F5: Ter | G5: Pen | H5: Ter | I5: Pen | J5: Ter | K5: Pen | L5: Ter | M5: Pen | N5: Ter | O5: Pen | P5: Ter | Q5: Pen | R5: Bil. Pen
A6: SEREMBAN | B6: 0 | C6: 0 | D6: 0 | E6: 0 | F6: 0 | G6: 0 | H6: 0 | I6: 0 | J6: 6 | K6: 1 | L6: 0 | M6: 0 | N6: 980 | O6: 4 | P6: 0 | Q6: 0 | R6: 123
A7: JELEBU | B7: 0 | C7: 0 | D7: 0 | E7: 0 | F7: 0 | G7: 0 | H7: 0 | I7: 0 | J7: 0 | K7: 0 | L7: 0 | M7: 0 | N7: 0 | O7: 0 | P7: 0 | Q7: 0 | R7: 13
A8: REMBAU | B8: 0 | C8: 0 | D8: 0 | E8: 0 | F8: 0 | G8: 0 | H8: 0 | I8: 0 | J8: 0 | K8: 0 | L8: 0 | M8: 0 | N8: 51 | O8: 6 | P8: 0 | Q8: 0 | R8: 3
A9: KUALA PILAH | B9: 0 | C9: 0 | D9: 0 | E9: 0 | F9: 0 | G9: 0 | H9: 0 | I9: 0 | J9: 3 | K9: 1 | L9: 0 | M9: 0 | N9: 6 | O9: 1 | P9: 0 | Q9: 0 | R9: 6 | T9: *(5 TDK AKTIF)
A10: JEMPOL | B10: 10 | C10: 1 | D10: 0 | E10: 0 | F10: 0 | G10: 0 | H10: 0 | I10: 0 | J10: 0 | K10: 0 | L10: 0 | M10: 0 | N10: 18 | O10: 1 | P10: 0 | Q10: 0 | R10: 102
A11: TAMPIN | B11: 0 | C11: 0 | D11: 0 | E11: 0 | F11: 0 | G11: 0 | H11: 0 | I11: 0 | J11: 0 | K11: 0 | L11: 0 | M11: 0 | N11: 57 | O11: 11 | P11: 0 | Q11: 0 | R11: 24
A12: PORT DICKSON | B12: 0 | C12: 0 | D12: 0 | E12: 0 | F12: 0 | G12: 0 | H12: 0 | I12: 0 | J12: 16 | K12: 3 | L12: 0 | M12: 0 | N12: 161 | O12: 6 | P12: 0 | Q12: 0 | R12: 60 | T12: *(22 TDK AKTIF)
A13: Jumlah | B13: =SUM(B6:B12) -> 10 | C13: =SUM(C6:C12) -> 1 | D13: 0 | E13: 0 | F13: =SUM(F6:F12) -> 0 | G13: =SUM(G6:G12) -> 0 | H13: 0 | I13: 0 | J13: =SUM(J6:J12) -> 25 | K13: =SUM(K6:K12) -> 5 | L13: =SUM(L6:L12) -> 0 | M13: =SUM(M6:M12) -> 0 | N13: =SUM(N6:N12) -> 1273 | O13: =SUM(O6:O12) -> 29 | P13: =SUM(P6:P12) -> 0 | Q13: =SUM(Q6:Q12) -> 0 | R13: =SUM(R6:R12) -> 331
B14: (1 tdk aktif) | N14: (5 tdk aktif)
A19: Mukim / Spesis | B19: Ayam Katek | D19: Ayam Selasih | F19: Api-api | H19: Ayam Turki | J19: Serama | L19: Merak | N19: Mutiara | P19: Ayam Kuang | R19: Ayam Piru
B20: Ter | C20: Pen | D20: Ter | E20: Pen | F20: Ter | G20: Pen | H20: Ter | I20: Pen | J20: Ter | K20: Pen | L20: Ter | M20: Pen | N20: Ter | O20: Pen | P20: Ter | Q20: Pen | R20: Ter | S20: Pen
A21: SEREMBAN | B21: 0 | C21: 0 | D21: 0 | E21: 0 | F21: 0 | G21: 0 | H21: 0 | I21: 0 | J21: 0 | K21: 0 | L21: 0 | M21: 0 | N21: 0 | O21: 0 | P21: 0 | Q21: 0 | R21: 230 | S21: 4
A22: JELEBU | B22: 0 | C22: 0 | D22: 0 | E22: 0 | F22: 0 | G22: 0 | H22: 0 | I22: 0 | J22: 0 | K22: 0 | L22: 0 | M22: 0 | N22: 0 | O22: 0 | P22: 0 | Q22: 0 | R22: 0 | S22: 0
A23: REMBAU | B23: 0 | C23: 0 | D23: 0 | E23: 0 | F23: 0 | G23: 0 | H23: 0 | I23: 0 | J23: 0 | K23: 0 | L23: 0 | M23: 0 | N23: 0 | O23: 0 | P23: 0 | Q23: 0 | R23: 55 | S23: 1
A24: KUALA PILAH | B24: 0 | C24: 0 | D24: 0 | E24: 0 | F24: 0 | G24: 0 | H24: 0 | I24: 0 | J24: 0 | K24: 0 | L24: 1 | M24: 1 | N24: 56 | O24: 2 | P24: 0 | Q24: 0 | R24: 0 | S24: 0
A25: JEMPOL | B25: 0 | C25: 0 | D25: 0 | E25: 0 | F25: 0 | G25: 0 | H25: 0 | I25: 0 | J25: 0 | K25: 0 | L25: 0 | M25: 0 | N25: 2 | O25: 1 | P25: 0 | Q25: 0 | R25: 0 | S25: 0
A26: TAMPIN | B26: 0 | C26: 0 | D26: 0 | E26: 0 | F26: 0 | G26: 0 | H26: 0 | I26: 0 | J26: 0 | K26: 0 | L26: 0 | M26: 0 | N26: 0 | O26: 0 | P26: 0 | Q26: 0 | R26: 0 | S26: 0
A27: PORT DICKSON | B27: 0 | C27: 0 | D27: 0 | E27: 0 | F27: 0 | G27: 0 | H27: 0 | I27: 0 | J27: 0 | K27: 0 | L27: 0 | M27: 0 | N27: 0 | O27: 0 | P27: 0 | Q27: 0 | R27: 41 | S27: 2
A28: Jumlah | B28: =SUM(B21:B27) -> 0 | C28: =SUM(C21:C27) -> 0 | D28: =SUM(D21:D27) -> 0 | E28: =SUM(E21:E27) -> 0 | F28: =SUM(F21:F27) -> 0 | G28: =SUM(G21:G27) -> 0 | H28: =SUM(H21:H27) -> 0 | I28: =SUM(I21:I27) -> 0 | ... S28: =SUM(S21:S27) -> 7
R29: (3 tdk aktif)
B30: Pen - Bilangan Penternak
B31: Ter - Bilangan Ternakan

Sheet angsa
A1: BANCIAN PENGUSAHA TERNAKAN ANGSA DI NEGERI SEMBILAN
A2: TAHUN 2021 | B2: TAHUN 2023
A4: BIL | B4: NAMA PENTERNAK | C4: NO K.P | D4: NO TEL | E4: ALAMAT RUMAH/PREMIS | F4: DAERAH | G4: MUKIM | H4: PARLIMEN | I4: DUN | J4: ANGSA | K4: GPS (LADANG)
A6: 1 | B6: BASRI BIN JANTAN | E6: PEDAS, REMBAU | F6: REMBAU | G6: PEDAS | H6: REMBAU | I6: KOTA | J6: 6 | K6: 2.62609, 102.05418
A7: 2 | B7: SEETKUTHBUDEEN | D7: 016-3397264 | E7: 77, KG BINTONGAN, REMBAU | F7: REMBAU | G7: SELEMAK | H7: REMBAU | I7: KOTA | J7: 0 | K7: 2.5958, 102.11804
A8: 3 | B8: ZED EDLIN BIN ZAINUDIN | C8: 780417-08-6453 | D8: 017-4974769 | E8: KG BONGEK TENGAH, 71300 REMBAU | F8: REMBAU | G8: BONGEK | H8: REMBAU | I8: KOTA | J8: 0 | K8: 2.5551, 102.1153
A9: 4 | B9: ZAKARIA BIN TALIB'' | C9: 700909045129 | D9: 01126061516 | E9: MADRASAH AZ ZAKIRIN, KG PADANG BESAR, BONGEK | F9: REMBAU | G9: BONGEK | H9: REMBAU | I9: KOTA | J9: 20 | K9: 2.5586, 102.1369
A10: 5 | B10: ZAKUAN ZULKIFLI | D10: 0123696948 | E10: 746 C, KG PERIGI JERNIH | F10: REMBAU | G10: TG KLING | H10: REMBAU | I10: CHEMBONG | J10: 6 | K10: 2.5674, 102.1073
A11: 6 | B11: SULAIMAN BIN HJ JAMIL | D11: 019-9466198 | E11: KG AYER MELINTANG, KOTA | F11: REMBAU | G11: LEGONG ILIR | H11: REMBAU | I11: KOTA | J11: 3 | K11: 2.4984, 102.11009
A12: 7 | B12: MOHAMMAD EKHRAM BIN OTHMAN | D12: 0178869409 | E12: KG TENGAH PENAJIS | F12: REMBAU | G12: NERASAU | H12: REMBAU | I12: KOTA | J12: 0 | K12: 2.5205, 102.1161
A13: 8 | B13: ABD RAZAK BIN YAAKOB | D13: 017-2420147 | E13: JALAN BATU HAMPAR 1, TEPI JALAN BESAR | F13: REMBAU | G13: SENAMA | H13: REMBAU | I13: CHEMBONG | J13: 8 | K13: 2.5851, 102.09602
A14: 9 | B14: MOHSEN BIN ISMAIL | C14: 620830-71-5345 | D14: 018-3985345 | E14: KG SENAMA MASJID,71300 REMBAU | F14: REMBAU | G14: SENAMA | H14: REMBAU | I14: CHEMBONG | J14: 0 | K14: 2.5796, 102.1055
A15: 10 | B15: NORAINI BINTI HUSSAIN | C15: 560220-05-5202 | D15: 0133727924 | E15: KG BARU LUBOK CHINA, | F15: REMBAU | G15: TITIAN BINTANGOR | H15: REMBAU | I15: KOTA | J15: 8 | K15: 2.4635, 102.0685
A16: 11 | B16: TRANS ECO FARM SDN BHD | D16: 136104256 | E16: LOT 2773, JALAN KAMPUNG SERI PARIT, BANDAR BARU LUKUT, | F16: PORT DICKSON | G16: LUKUT | H16: TELUK KEMANG | I16: LUKUT | J16: 4
A17: 12 | B17: ZUL AZIZAN BIN ISAM | C17: 750723-055279 | D17: 1151121975 | E17: 108 KG SUNGAI RAYA PASIR PANJANG | F17: PORT DICKSON | G17: PASIR PANJANG | H17: TELUK KEMANG | I17: LINGGI | J17: 7
A18: 13 | B18: THIRUMANICKAVASAGA THEVAR A/L SUBRAMANIAM | C18: 800614-05-5539 | D18: 013-2741782 | E18: LOT 2705, BATU 21, JALAN ROBERT MANIAM 1, KAMPUNG SENGKANG, PASIR PANJANG | F18: PORT DICKSON | G18: PASIR PANJANG | H18: TELUK KEMANG | I18: LINGGI | J18: 45
A19: 14 | B19: PACIFIC CIRCUS & ACROBATICS SDN BHD (TAMAN AURORA) | C19: 531118-08-5007 | D19: 019-8334598 | E19: LOT 3636 BATU 9 JALAN PANATAI KAMPUNG SUNGAI MENYALA 71050 PORT DICKSON | F19: PORT DICKSON | G19: PASIR PANJANG | H19: TELUK KEMANG | I19: PASIR PANJANG | J19: 5
A20: 15 | B20: AKB SERVICES SDN BHD | C20: S8824047B | D20: 1151456883 | E20: NO 1 B, JALAN KG SAWAH, LOT 1541 BUKIT PELANDOK | F20: PORT DICKSON | G20: PORT DICKSON | H20: TELUK KEMANG | I20: CHUAH | J20: 95
A21: 16 | B21: WONG SU HUI | C21: 980217 05 5122 | D21: 012-6699393 | E21: LOT 11886 KG SRI PARIT PORT DICKSON | F21: PORT DICKSON | G21: PORT DICKSON | H21: TELUK KEMANG | I21: LUKUT | J21: 5
A22: 17 | B22: LUSIL HAKIMI | C22: 870103-01-5539 | D22: 019-7007260 | E22: 48, KG TENGAH, TJG IPOH | F22: KUALA PILAH | G22: SERI MENANTI | H22: KUALA PILAH | I22: SERI MENANTI | J22: 6 | K22: N2.715056N E102.185121
A23: 18 | B23: KHAIRANI BINTI MOHD KHALID | C23: 691226-10-5370 | D23: 012-3397192 | E23: NO 3922, TAMAN PUAN CHIK, 72200 BAHAU | F23: JEMPOL | G23: KUALA JEMPOL | H23: JEMPOL | I23: BAHAU | J23: 18 | K23: N2.818467 E102.333861
A24: 19 | B24: SITI HAJAR BINTI AB. RAHIM | D24: 06-4628009 | E24: NO.195, FELDA PALONG SATU, GEMAS | F24: JEMPOL | G24: ROMPIN | H24: JEMPOL | I24: PALONG
A25: 20 | B25: INNOVATIVE NEXUS FARMING SDN BHD | D25: 06-7999806 | E25: LOT 4943, JALAN PAJAM, KG BATANG BENAR | F25: SEREMBAN | G25: SETUL | H25: SEREMBAN | I25: NILAI | J25: 900 | K25: 2.8648, 101.8388
A26: 21 | B26: PATMAVATHY A/P PALANY | C26: 641127-05-5042 | D26: 018-2775042 | E26: NO. 5, KG BEMBAN HILIR, MAMBAU | F26: SEREMBAN | G26: RASAH | H26: RASAH | I26: MAMBAU | J26: 50 | K26: 2.6440, 101.9243
A27: 22 | B27: ROZI BIN NORDIN | D27: 012-3874048 | E27: LOT 212, KAMPUNG MENDUM, LENGGENG | F27: SEREMBAN | G27: LENGGENG | H27: SEREMBAN | I27: LENGGENG | J27: 20 | K27: 2.8480, 101.9618
A28: 23 | B28: AZAH BINTI YUSOF | D28: 016-9260335 | E28: LOT 3202, KG. SG. MACHANG ULU | F28: SEREMBAN | G28: LENGGENG | H28: SEREMBAN | I28: LENGGENG | J28: 10 | K28: 2.8711, 101.9329
A29: 24 | B29: NOR SHAMSUDIN BIN MOH IDRIS | C29: 610831-05-5159 | D29: 013-5867310 | E29: NO. 59, KG. LONDAH, GEMAS | F29: TAMPIN | G29: GEMAS | H29: TAMPIN | I29: GEMAS | J29: 10 | K29: 2.3810, 102.3527
A30: 25 | B30: SAHARUDIN BIN MOHAMAD | C30: 710308-05-5701 | D30: 012-6955191 | E30: NO. 9, FELDA SG. KELAMAH, GEMAS | F30: TAMPIN | G30: GEMAS | H30: TAMPIN | I30: GEMAS | J30: 6 | K30: 2.3535, 102.3052
A31: 26 | B31: NAZHARUL SHIMA BINTI ABD RASHID | C31: 720927-05-5222 | D31: 06-4316412 | E31: KG. GEDOK SAWAH, GEMENCHEH | F31: TAMPIN | G31: GEMENCHEH | H31: TAMPIN | I31: GEMENCHEH | J31: 8 | K31: 2.3327, 102.2612
A32: 27 | B32: MERIAM BINTI AB. RAHMAN | C32: 550208-05-5374 | D32: 012-3869072 | E32: KG. GEMENCHEH LAMA, GEMENCHEH | F32: TAMPIN | G32: GEMENCHEH | H32: TAMPIN | I32: GEMENCHEH | J32: 2
A33: 28 | B33: AIZUDDIN BIN MUHAMAD ZAKARIAH | C33: 881018-05-5601 | D33: 019-2858356 | E33: KG. SG. KEPONG, 73200 GEMENCHEH | F33: TAMPIN | G33: GEMENCHEH | H33: TAMPIN | I33: GEMENCHEH | J33: 2 | K33: 2.547623, 102.35944
A34: 29 | B34: MOHD ROSNAM BIN HJ MANSOR | C34: 540514-05-5111 | D34: 012-9248109 | E34: KG. REPAH , TAMPIN | F34: TAMPIN | G34: REPAH | H34: TAMPIN | I34: REPAH | J34: 6 | K34: 2.2914, 102.1408
A35: 30 | B35: MOHD RIZAL BIN YUSOFF | C35: 800220-05-5085 | D35: 019-6828002 | E35: BT. 5 1/2, JLN TAMPIN GEMAS, TAMPIN | F35: TAMPIN | G35: REPAH | H35: TAMPIN | I35: REPAH | J35: 4 | K35: 2.2914, 102.1408
A36: 31 | B36: MUHAMMAD NURDIN BIN OTHMAN | C36: 940623-04-5185 | D36: 011-23097224 | E36: BT. 3 1/2, KG. SERI REPAH, TAMPIN | F36: TAMPIN | G36: REPAH | H36: TAMPIN | I36: REPAH | J36: 4 | K36: 2.5146, 102.2418
A37: 32 | B37: BAHARIN BIN TAHIR | C37: 711203-05-5185 | E37: NO. 41, JLN. KHURSIAH, KG. ULU YUH, TAMPIN | F37: TAMPIN | G37: REPAH | H37: TAMPIN | I37: REPAH | J37: 6
A38: 33 | B38: MIHAD BIN MAULUD | D38: 019-2929142 | E38: BT. 3 1/2, KG. SRI REPAH, TAMPIN | F38: TAMPIN | G38: TAMPIN TENGAH | H38: TAMPIN | I38: REPAH | J38: 4 | K38: 2.510801, 102.240747
A39: 34 | B39: SIVACHANDRAN A/L SANDERAN | C39: 891105-04-5419 | D39: 014-6677526 | E39: PT 55, JLN. DATO YAKUB AWANG, KG. TENGAH AIR KUNING SELATAN, 73200 GEMENCHEH | F39: TAMPIN | G39: TEBONG | H39: TAMPIN | I39: REPAH | J39: 5 | K39: 2.476534, 102.467317
A40: JUMLAH | J40: =SUM(J6:J39) -> 1273

Sheet AYAM MUTIARA
A1: BANCIAN PENGUSAHA TERNAKAN AYAM MUTIARA DI NEGERI SEMBILAN
A2: TAHUN 2021 | E2: TAHUN 2023
A4: BIL | B4: NAMA PENTERNAK | C4: NO K.P | D4: NO TEL | E4: ALAMAT RUMAH/PREMIS | F4: DAERAH | G4: MUKIM | H4: PARLIMEN | I4: DUN | J4: AYAM | K4: GPS (LADANG)
J5: MUTIARA
A6: 1 | B6: KAMAL AZAM BIN MOKHTAR | C6: 670501-05-5249 | D6: 012-2631174 | E6: 45, KG ULU BENDUL | F6: KUALA PILAH | G6: SERI MENANTI | H6: KUALA PILAH | I6: SERI MENANTI | J6: 50 | K6: 2.73846N 102.10394E
A7: 2 | B7: IMRAN ZAKI (MBI) | D7: 019-6833183 | E7: KG. AMPANG TINGGI | F7: KUALA PILAH | G7: PILAH | H7: KUALA PILAH | I7: KUALA PILAH | J7: 6 | K7: 2.736058N 102.220226E
A8: 3 | B8: KHAIRANI BINTI MOHD KHALID | C8: 691226-10-5370 | D8: 012-3397192 | E8: NO 3922, TAMAN PUAN CHIK, 72200 BAHAU | F8: JEMPOL | G8: BAHAU | H8: JEMPOL | I8: KUALA JEMPOL | J8: 2 | K8: 2.818467N 102.333861E
A9: JUMLAH | J9: =SUM(J6:J8) -> 58

Sheet LANDAK
A1: BANCIAN PENGUSAHA TERNAKAN LANDAK DI NEGERI SEMBILAN
A2: TAHUN 2021 | D2: TAHUN 2023
A4: BIL | B4: NAMA PENTERNAK | C4: NO K.P | D4: NO TEL | E4: ALAMAT RUMAH/PREMIS | F4: DAERAH | G4: MUKIM | H4: PARLIMEN | I4: DUN | J4: LANDAK | K4: GPS (LADANG)
A6: 1 | B6: AZIZ BIN ZAKARIA | C6: 600304-05-5051 | D6: 011-4912500 | E6: NO 201, FELDA RAJA ALAIS 4 | F6: JEMPOL | G6: SERTING ILIR | H6: JEMPOL | I6: SERTING | J6: 10 | K6: N2.894201,E102.3907098
A7: 2 | B7: IZAN BIN ABD JABAR | C7: 841129-01-6975 | D7: 010-4222055 | E7: LADANG FELDA PASOH 2 | F7: JEMPOL | G7: SERTING ULU | H7: JEMPOL | I7: SG LUI | K7: N2.953984, E102.29447
A8: JUMLAH | J8: =SUM(J6:J7) -> 10

Sheet AYAM PIRU
A1: BANCIAN PENGUSAHA TERNAKAN AYAM PIRU DI NEGERI SEMBILAN
A2: TAHUN 2021 | D2: TAHUN 2023
A4: BIL | B4: NAMA PENTERNAK | C4: NO K.P | D4: NO TEL | E4: ALAMAT RUMAH/PREMIS | F4: DAERAH | G4: MUKIM | H4: PARLIMEN | I4: DUN | J4: AYAM PIRU | K4: GPS (LADANG)
A6: 1 | B6: MOHSEN BIN ISMAIL | C6: 620830-71-5345 | D6: 018-3985345 | E6: KG SENAMA MASJID,71300 REMBAU | F6: REMBAU | G6: SENAMA | H6: REMBAU | I6: CHEMBONG | J6: 0 | K6: 2.5807, 102.1077
A7: 2 | B7: HASNUL BIN OTHMAN | C7: 670303-05-5029 | D7: 012-6500309 | E7: KG BATU, 71300 REMBAU | F7: REMBAU | G7: SELEMAK | H7: REMBAU | I7: KOTA | J7: 55 | K7: 2.5899, 102.1209
A8: 3 | B8: AKB SERVICES SDN BHD | C8: S8824047B | D8: 1151456883 | E8: NO 1 B, JALAN KG SAWAH, LOT 1541 BUKIT PELANDOK | F8: PORT DICKSON | G8: PORT DICKSON | H8: TELUK KEMANG | I8: CHUAH | J8: 30
A9: 4 | B9: KAN TAI SIANG | C9: 790315-05-5479 | E9: LOT 982, KEBUN JIMAH, LUKUT, PORT DICKSON, NS. | F9: PORT DICKSON | G9: JIMAH | H9: TELUK KEMANG | I9: LUKUT | J9: 0
A10: 5 | B10: PACIFIC CIRCUS & ACROBATICS SDN BHD (TAMAN AURORA) | C10: 531118-08-5007 | D10: 019-8334598 | E10: LOT 3636 BATU 9 JALAN PANATAI KAMPUNG SUNGAI MENYALA 71050 PORT DICKSON | F10: PORT DICKSON | G10: PASIR PANJANG | H10: TELUK KEMANG | I10: PASIR PANJANG | J10: 11
A11: 6 | B11: SETHU A/L VEERAMUTHU | D11: 102009950 | E11: LOT 3269, MUKIM LABU | F11: SEREMBAN | G11: LABU | H11: RASAH | I11: LABU | J11: 60 | K11: 2.73384, 101.8969
A12: 7 | B12: ROZI BIN NORDIN | D12: 012-3874048 | E12: LOT 212, KAMPUNG MENDUM, LENGGENG | F12: SEREMBAN | G12: LENGGENG | H12: SEREMBAN | I12: LENGGENG | J12: 50 | K12: 2.8480, 101.9618
A13: 8 | B13: SATHISH KUMAR A/L SELVAMANI | C13: 931222-05-5409 | D13: 102660603 | E13: LOT 1564 BT 6 JALAN JELEBU 71770 SEREMBAN NEGERI SEMBILAN | F13: SEREMBAN | G13: LENGGENG | H13: SEREMBAN | I13: SIKAMAT | J13: 1 | K13: 2.7578 102.00066
A14: 9 | B14: PATMAVATHY A/P PALANY | C14: 641127-05-5042 | D14: 018-2775042 | E14: NO. 5, KG BEMBAN HILIR, MAMBAU | F14: SEREMBAN | G14: RASAH | H14: RASAH | I14: MAMBAU | J14: 80 | K14: 2.6440, 101.9243
A15: 10 | B15: KOMARAVELU A/L SADASIVAM | D15: 016-9090403 | E15: KG. BEMBAN HILIR, MAMBAU | F15: SEREMBAN | G15: RASAH | H15: RASAH | I15: MAMBAU | J15: 40 | K15: 2.6443 101.9043
A16: JUMLAH | J16: =SUM(J6:J15) -> 327

Sheet OSTRICH
A1: BANCIAN PENGUSAHA TERNAKAN OSTRICH DI NEGERI SEMBILAN
A2: TAHUN 2021 | D2: TAHUN 2023
A4: BIL | B4: NAMA PENTERNAK | C4: NO K.P | D4: NO TEL | E4: ALAMAT RUMAH/PREMIS | F4: DAERAH | G4: MUKIM | H4: PARLIMEN | I4: DUN | J4: OSTRICH | K4: GPS (LADANG)
A6: 1 | B6: AKB SERVICES SDN BHD | C6: S8824047B | D6: 011-51456883 | E6: NO 1 B, JALAN KG SAWAH, LOT 1541 BUKIT PELANDOK | F6: PORT DICKSON | G6: PORT DICKSON | H6: TELUK KEMANG | I6: CHUAH | J6: 1
A7: 2 | B7: PACIFIC CIRCUS & ACROBATICS SDN BHD (TAMAN AURORA) | C7: 531118-08-5007 | D7: 019-8334598 | E7: LOT 3636 BATU 9 JALAN PANATAI KAMPUNG SUNGAI MENYALA 71050 PORT DICKSON | F7: PORT DICKSON | G7: PASIR PANJANG | H7: TELUK KEMANG | I7: PASIR PANJANG | J7: 3
A8: 3 | B8: PD OSTRICH FARM | C8: 640221-06-5269 | D8: 012-7723491 | E8: LOT 1419, JLN KEMANG 13 BATU 9 JLN PANTAI 71050 | F8: PORT DICKSON | G8: TELUK KEMANG | H8: TELUK KEMANG | I8: TEUK KEMANG | J8: 12
A9: 4 | B9: IMRAN ZAKI (MBI) | D9: 013-9573111 | E9: KG. JUASSEH TENGAH. | F9: KUALA PILAH | G9: PILAH | H9: KUALA PILAH | I9: PILAH | J9: 3 | K9: 2.811323N 102..280823E
A10: 5 | B10: JELITA OSTRICH FARM | C10: 531219105601 | D10: 019-2120365 | E10: LOT 1504, BATU 6, MUKIM PANTAI | F10: SEREMBAN | G10: PANTAI | H10: SEREMBAN | I10: SIKAMAT | J10: 6 | K10: 2.7604, 101.9927
A11: JUMLAH | J11: =SUM(J6:J10) -> 25

Sheet AYAM KUANG
A1: BANCIAN PENGUSAHA TERNAKAN AYAM KUANG DI NEGERI SEMBILAN
A2: TAHUN 2021 | D2: TAHUN 2023
A4: BIL | B4: NAMA PENTERNAK | C4: NO K.P | D4: NO TEL | E4: ALAMAT RUMAH/PREMIS | F4: DAERAH | G4: MUKIM | H4: PARLIMEN | I4: DUN | J4: AYAM KUANG | K4: GPS (LADANG)
A7: JUMLAH | J7: =SUM(J6) -> 0

Sheet MERAK
A1: BANCIAN PENGUSAHA TERNAKAN MERAK DI NEGERI SEMBILAN
A2: TAHUN 2021 | D2: TAHUN 2023
A4: BIL | B4: NAMA PENTERNAK | C4: NO K.P | D4: NO TEL | E4: ALAMAT RUMAH | F4: DAERAH | G4: MUKIM | H4: PARLIMEN | I4: DUN | J4: MERAK | K4: GPS (LADANG)
A6: 1 | B6: LADANG ALAM WARISAN | C6: 870103-01-5539 | D6: 013-7391193 | E6: 48, KG TENGAH, TJG IPOH | F6: KUALA PILAH | G6: SERI MENANTI | H6: KUALA PILAH | I6: SERI MENANTI | J6: 1
A7: JUMLAH | J7: =SUM(J6) -> 1

Sheet WALIT
A1: BANCIAN PENGUSAHA TERNAKAN WALIT DI NEGERI SEMBILAN
A2: TAHUN 2021 | D2: TAHUN 2023
A4: BIL | B4: NAMA PENTERNAK | C4: NO K.P | D4: NO TEL | E4: ALAMAT RUMAH | F4: DAERAH | G4: MUKIM | H4: PARLIMEN | I4: DUN | J4: WALIT | K4: GPS (LADANG)
A6: 1 | B6: CHONG KWI FATT | C6: 680524-05-5187 | D6: 013-3447350 | E6: LOT 857, KM1, JLN SIMPANG PERTANG | F6: JELEBU | G6: PERTANG | H6: JELEBU | I6: PERTANG | K6: 2.949293 | L6: 2.259665
A7: 2 | B7: FAH TIEW SEAI | C7: 800910-05-5103 | D7: 013-6336388 | E7: NO: 14, JLN BR 1, TAMAN BUNGA RAYA | F7: JELEBU | G7: PERTANG | H7: JELEBU | I7: PERTANG | K7: 3.098655 | L7: 2.216605
A8: 3 | B8: NG GOK SWEE | C8: 540312-05-5084 | D8: 019-6634551 | E8: NO: 13, JLN BR 1, TAMAN BUNGA RAYA | F8: JELEBU | G8: PERTANG | H8: JELEBU | I8: PERTANG | K8: 3.096997 | L8: 2.21878
A9: 4 | B9: LEONG KAR HONG | C9: 690805-05-5107 | D9: 013-2353087 | E9: NO: 63, TAMAN SRI PERTANG | F9: JELEBU | G9: PERTANG | H9: JELEBU | I9: PERTANG | K9: 2.944092 | L9: 102.25724
A10: 5 | B10: WONG MEOW WHA | C10: 570909-05-5105 | D10: 016-3844884 | E10: LOT 2078, CHEMPEDAK | F10: JELEBU | G10: GELAMI LEMI | H10: JELEBU | I10: CHENNAH | K10: 2.973908 | L10: 102.0601
A11: 6 | B11: YAP KEAT FUI | C11: 650503-05-5199 | D11: 012-3066609 | E11: LOT 795, DURIAN GASING | F11: JELEBU | G11: ULU TRIANG | H11: JELEBU | I11: CHENNAH | K11: 2.943111 | L11: 102.03948
A12: 7 | B12: LEE AH PIANG | C12: 630227-05-5171 | D12: 012-6188330 | E12: PT NO: 1086, LOT 20 DESA PERMAI | F12: JELEBU | G12: GELAMI LEMI | H12: JELEBU | I12: CHENNAH | K12: 3.126643 | L12: 102.22022
A13: 8 | B13: YAP AH KIEW | C13: 400808-05-5045 | D13: 012-3066609 | E13: RUMAH KEBUN FELDA TITI | F13: JELEBU | G13: GELAMI LEMI | H13: JELEBU | I13: CHENNAH | K13: 2.988111 | L13: 102.06006
A14: 9 | B14: CHUA BOON HON | C14: 801230-05-5171 | D14: 012-3675285 | E14: LOT3301, KAMPUNG CHEMPEDAK | F14: JELEBU | G14: GELAMI LEMI | H14: JELEBU | I14: CHENNAH | K14: 2.975356 | L14: 102.05958
A15: 10 | B15: CHIN KET KEONG | C15: 690713-05-5193 | D15: 012-3393870 | E15: LOT 7220, KAMPUNG BARU SINGKON | F15: JELEBU | G15: GELAMI LEMI | H15: JELEBU | I15: CHENNAH | K15: 2.98807 | L15: 102.08313
A16: 11 | B16: SIM SIEW LING | C16: 861020-59-5166 | D16: 014-7848391 | E16: LOT 6415, KG JELONDONG | F16: JELEBU | G16: GELAMI LEMI | H16: JELEBU | I16: CHENNAH | K16: 2.99948 | L16: 102.03214
A17: 12 | B17: LIM AH ENG | C17: 641214-05-5032 | D17: 014-7848391 | E17: KG SEPERI TENGAH | F17: JELEBU | G17: ULU TRIANG | H17: JELEBU | I17: CHENNAH | K17: 2.982785 | L17: 102.04978
... A23: 18 | B23: CHONG MENG CHIN | C23: 651023-05-5063 | D23: 019-6227733 | E23: NO. 23A , JALAN RIA, TAMAN RIA | F23: JEMPOL | G23: JELAI | H23: JEMPOL | I23: JERAM PADANG | K23: 2.8062374 | L23: 102.40978
A24: 19 | B24: CHONG MENG THONG | C24: 721106-05-5115 | E24: NO 97, JALAN BESAR | F24: JEMPOL | G24: JELAI | H24: JEMPOL | I24: JERAM PADANG | K24: 2.8108134 | L24: 102.40108
A25: 20 | B25: CHONG MENG CHIN | C25: 651023-05-5063 | D25: 019-6227733 | E25: NO.16, TINGKAT 1 & 2 , | F25: JEMPOL | G25: JELAI | H25: JEMPOL | I25: JERAM PADANG | K25: 2.8053561 | L25: 102.38625
A26: 21 | B26: CHONG MENG THONG | C26: 721106-05-5115 | D26: 012-9198980 | E26: NO.4, TINGKAT 2, JALAN MEWAH | F26: JEMPOL | G26: JELAI | H26: JEMPOL | I26: JERAM PADANG | K26: 2.811025 | L26: 2.39989
A27: 22 | B27: LAM YIN HOCK | C27: 780804-04-5483 | D27: 019-6511148 | E27: 283,TINGKAT ATAS, JALAN SERTING UTAMA 7 | F27: JEMPOL | G27: JELAI | H27: JEMPOL | I27: JERAM PADANG | K27: 2.891413 | L27: 2.407915
A28: 23 | B28: ALVIN GOH CHEE KEONG | C28: 800121-06-5683 | D28: 012-3619876 | E28: NO.16, TAMAN SORNAM | F28: JEMPOL | G28: JELAI | H28: JEMPOL | I28: JERAM PADANG | K28: 2.808399 | L28: 2.389825
A29: 24 | B29: ALVIN GOH CHEE KEONG | C29: 800121-06-5683 | D29: 012-3619876 | E29: NO.23, TAMAN SORNAM | F29: JEMPOL | G29: JELAI | H29: JEMPOL | I29: JERAM PADANG | K29: 2.808147 | L29: 2.389205
A30: 25 | B30: ALVIN GOH CHEE KEONG | C30: 800121-06-5683 | D30: 012-3619876 | E30: NO.4, TAMAN MUHIBAH | F30: JEMPOL | G30: JELAI | H30: JEMPOL | I30: JERAM PADANG | K30: 2.804895 | L30: 2.410643
A31: 26 | B31: CHIN KOON TEEN | C31: 611101-05-5709 | D31: 019-6216689 | E31: NO:9 TAMAN SORNAM | F31: JEMPOL | G31: JELAI | H31: JEMPOL | I31: JERAM PADANG | K31: 2.807886 | L31: 2.499998
A32: 27 | B32: CHIN KOON TEEN | C32: 611101-05-5709 | D32: 019-6216689 | E32: NO: 43, TAMAN SORNAM | F32: JEMPOL | G32: JELAI | H32: JEMPOL | I32: JERAM PADANG | K32: 2.807197 | L32: 2.38977
A33: 28 | B33: MOHD DZHUDDIN B IDRIS | C33: 781203-14-5299 | D33: 017-3174783 | E33: JALAN MERPATI 3, | F33: JEMPOL | G33: JELAI | H33: JEMPOL | I33: BAHAU | K33: 2.91469 | L33: 2.275357
A34: 29 | B34: YONG YON KONG | C34: 660508-05-5349 | D34: 019-6200330 | E34: NO: 157B | F34: JEMPOL | G34: JELAI | H34: JEMPOL | I34: BAHAU | K34: 2.815996 | L34: 2.40384
A35: 30 | B35: CHONG KIAU | C35: 590811-05-5391 | D35: 019-6222208 | E35: NOP: 19, LORONG 2 | F35: JEMPOL | G35: JELAI | H35: JEMPOL | I35: BAHAU | K35: 2.80797 | L35: 2.393402
A36: 31 | B36: TEYPIOW FEE | C36: 571203-04-5495 | D36: 012-6352511 | E36: NO: 12, JALAN BESAR BAHAU | F36: JEMPOL | G36: JELAI | H36: JEMPOL | I36: BAHAU | K36: 2.809737 | L36: 2.400928
... A50: 45 | B50: SIN YOK LIN | C50: 580326-05-5401 | D50: 012-2768663 | E50: NO: 3273, JALAN MEDANG UTAMA | F50: JEMPOL | G50: JELAI | H50: JEMPOL | I50: BAHAU | K50: 2.809323 | L50: 102.4121
A51: 46 | B51: LEW TEK MING | C51: 721107-05-5301 | D51: 12.652189 | E51: PT 1162, JALAN PUTERI 1 | F51: JEMPOL | G51: JELAI | H51: JEMPOL | I51: BAHAU | K51: 2.792768 | L51: 102.42713
A52: 47 | B52: LEW MING MING | C52: 710922-05-5179 | D52: 018-2763213 | E52: NO: 3, TAMAN LELAYANG | F52: JEMPOL | G52: JELAI | H52: JEMPOL | I52: BAHAU | K52: 2.866548 | L52: 102.52267
A53: 48 | B53: LIAW MING KEE | C53: 640302-05-5599 | D53: 012-3186183 | E53: PPT 1152, JALAN PUTERI 1 | F53: JEMPOL | G53: JELAI | H53: JEMPOL | I53: BAHAU | K53: 2.784185 | L53: 102.24295
A54: 49 | B54: NG AH YING | C54: 490320-05-5022 | D54: 012-6238906 | E54: NO: 1, TINGKAT ATAS | F54: JEMPOL | G54: JELAI | H54: JEMPOL | I54: BAHAU | K54: 2.808616 | L54: 102.3881
A55: 50 | B55: LEE KIM KEONG | C55: 720809-05-0905 | D55: 012-2159139 | E55: NO: 23A, JALAN RIA 2 | F55: JEMPOL | G55: JELAI | H55: JEMPOL | I55: BAHAU | K55: 2.80618 | L55: 102.40913
A56: 51 | B56: CHONG THIAM FOO | C56: 710619-05-5301 | D56: 012-2159139 | E56: NO: 15, TAMAN KWANG HUP | F56: JEMPOL | G56: JELAI | H56: JEMPOL | I56: BAHAU | K56: 2.80732 | L56: 102.4102
A57: 52 | B57: CHONG THIAM FOO | C57: 710619-05-5301 | D57: 012-2159139 | E57: NO: 16,TAMAN KWANG HUP | F57: JEMPOL | G57: JELAI | H57: JEMPOL | I57: BAHAU | K57: 2.80701 | L57: 102.41047
A58: 53 | B58: WONG YOKE CHONG | C58: 600530-05-5361 | D58: 019-6363433 | E58: NO: 20, TAMAN KWANG HUP | F58: JEMPOL | G58: JELAI | H58: JEMPOL | I58: BAHAU | K58: 2.807243 | L58: 102.41114
A59: 54 | B59: SIN YOK LIN | C59: 580326-05-5401 | D59: 012-2768663 | E59: NO: 3274, JALAN MEDANG UTAMA | F59: JEMPOL | G59: JELAI | H59: JEMPOL | I59: BAHAU | K59: 2.80934 | L59: 102.41219
A60: 55 | B60: CHONG KOON SANG | C60: 420709-10-5071 | D60: 019-6605663 | E60: NO: 41, LADANG GEDDES | F60: JEMPOL | G60: JELAI | H60: JEMPOL | I60: BAHAU | K60: 2.866761 | L60: 102.52314
A61: 56 | B61: CHONG KOON SANG | C61: 420709-10-5071 | D61: 019-6605663 | E61: NO: 40, LADANG GEDDES | F61: JEMPOL | G61: KUALA JEMPOL | H61: JEMPOL | I61: JEMPOL | K61: 2.867426 | L61: 102.52298
A62: 57 | B62: CHONG KOON SANG | C62: 420709-10-5071 | D62: 019-6605663 | E62: NO: 39, LADANG GEDDES | F62: JEMPOL | G62: KUALA JEMPOL | H62: JEMPOL | I62: JEMPOL | K62: 2.866837 | L62: 102.52316
A63: 58 | B63: KAW NGAN BOY | C63: 471028-01-5222 | D63: 018-2763213 | E63: NO: 67A, JALAN SEKOLAH TAMIL | F63: JEMPOL | G63: KUALA JEMPOL | H63: JEMPOL | I63: JEMPOL | K63: 2.856485 | L63: 102.52087
... A89: 84 | B89: LIM HONG CHOO | C89: 500226-05-5014 | D89: 012-6278068 | E89: NO: 11, JALAN BERINGIN2 | F89: JEMPOL | G89: ROMPIN | H89: JEMPOL | I89: BAHAU | K89: 2.830848 | L89: 102.31756
A90: 85 | B90: LIM HONG CHOO | C90: 460925-05-5001 | D90: 12.627807 | E90: NO: 3, JLAN BERINGIN 2 | F90: JEMPOL | G90: ROMPIN | H90: JEMPOL | I90: BAHAU | K90: 2.831235 | L90: 102.31741
A91: 86 | B91: CHEW ANG NGA | C91: 630521-05-5311 | D91: 019-6633855 | E91: NO: 17, LORONG 2 | F91: JEMPOL | G91: ROMPIN | H91: JEMPOL | I91: BAHAU | K91: 2.808268 | L91: 102.39365
A92: 87 | B92: TAN LEE ENG | C92: 590321-01-6373 | D92: 019-6219833 | E92: NO: 22, TAMAN SORNAM | F92: JEMPOL | G92: ROMPIN | H92: JEMPOL | I92: BAHAU | K92: 2.808248 | L92: 102.38902
A93: 88 | B93: TAN LEE HWEE | C93: 551012-01-5949 | D93: 019-6216606 | E93: NO: 3067 TAMAN MARGOSA | F93: JEMPOL | G93: ROMPIN | H93: JEMPOL | I93: BAHAU | K93: 2.811178 | L93: 102.41327
A94: 89 | B94: CHEW ANG NGA | C94: 630521-05-5311 | D94: 019-6633855 | E94: NO: 15, TAMAN SATELITE | F94: JEMPOL | G94: ROMPIN | H94: JEMPOL | I94: BAHAU | K94: 2.805358 | L94: 102.38563
A95: 90 | B95: CHEW ANG NGA | C95: 630521-05-5311 | D95: 019-6633855 | E95: NO: 11, TAMAN SATELITE | F95: JEMPOL | G95: ROMPIN | H95: JEMPOL | I95: BAHAU | K95: 2.805095 | L95: 102.38528
A96: 91 | B96: CHEW AH LEEK | C96: 580922-05-5125 | D96: 019-6689109 | E96: NO: 32 TAMAN SATELITE | F96: JEMPOL | G96: ROMPIN | H96: JEMPOL | I96: BAHAU | K96: 2.8054 | L96: 102.38494
A97: 92 | B97: KENT LEE | C97: 850810-05-5099 | D97: 012-3125487 | E97: NO: 12, PUSAT PERNIGAAN ANGSANA | F97: JEMPOL | G97: ROMPIN | H97: JEMPOL | I97: BAHAU | K97: 2.806845 | L97: 102.38013
A98: 93 | B98: KENT LEE | C98: 850810-05-5099 | D98: 012-3122487 | E98: NO: 13, PUSAT PERNIAGAAN ANGSANA | F98: JEMPOL | G98: ROMPIN | H98: JEMPOL | I98: BAHAU | K98: 2.806935 | L98: 102.38019
A99: 94 | B99: KENT LEE | C99: 850810-05-5099 | D99: 012-3122487 | E99: NO: 13B (14) PUSAT PERNIAGAAN ANGSANA | F99: JEMPOL | G99: SERTING ILIR | H99: JEMPOL | I99: SG LUI | K99: 2.80693 | L99: 102.38034
A100: 95 | B100: NG OE FONG | C100: 470810-10-5899 | D100: 012-3808373 | E100: 145, PUSAT PERNIAGAAN MEGA MAHSAN | F100: JEMPOL | G100: SERTING ILIR | H100: JEMPOL | I100: SG LUI | K100: 2.827046 | L100: 102.4092
A101: 96 | B101: NG OE FONG | C101: 520826-05-5016 | D101: 012-3808373 | E101: NO: 146 PUSAT PERNIAGAAN MEGA, MAHSAN | F101: JEMPOL | G101: SERTING ILIR | H101: JEMPOL | I101: SG LUI | K101: 2.834396 | L101: 102.42448
A102: 97 | B102: SIOW KOO CHUAN | C102: 600209-05-5205 | D102: 019-6219663 | E102: NO: 144, PUSAT PERNIAGAAN MEGA, | F102: JEMPOL | G102: SERTING ILIR | H102: JEMPOL | I102: SG LUI | K102: 2.834796 | L102: 102.4269
... A131: 126 | B131: LIM KIM HENG | C131: 610226-10-5007 | D131: 012-6977977 | E131: TN-648, LOT 1951,KAMPUNG MAASOP | F131: KUALA PILAH | G131: PILAH | H131: KUALA PILAH | I131: SENALING | K131: 2.70221 | L131: 102.24767
A132: 127 | B132: ADVIN PHANG | C132: 721002-05-5049 | E132: LOT 20203, LORONG 11, | F132: PORT DICKSON | G132: JIMAH | H132: TELUK KEMANG | I132: CHUAH | K132: 2.5254783 | L132: 101.80044
A133: 128 | B133: ADVIN PHANG | C133: 721002-05-5049 | D133: 012-5015916 | E133: LOT 346&347, BANDAR PORT DICKSON | F133: PORT DICKSON | G133: JIMAH | H133: TELUK KEMANG | I133: CHUAH | K133: 2.5254783 | L133: 101.80044
A134: 129 | B134: ADVIN PHANG | C134: 721002-05-5049 | D134: 012-5015916 | E134: LOT 4419, EXCEVALLEY | F134: PORT DICKSON | G134: JIMAH | H134: TELUK KEMANG | I134: CHUAH | K134: 2.515315 | L134: 102.02265
A135: 130 | B135: CHEOH THIAN SHING | C135: 541225-05-5021 | D135: 019-6619968 | E135: 6297, TAMAN PD JAYA | F135: PORT DICKSON | G135: JIMAH | H135: TELUK KEMANG | I135: CHUAH | K135: 2.565971 | L135: 101.82216
A136: 131 | B136: ADVIN PHANG | C136: 721002-05-5049 | D136: 012-5015916 | E136: LOT 20206, LORONG 11, | F136: PORT DICKSON | G136: JIMAH | H136: TELUK KEMANG | I136: CHUAH | K136: 2.5254783 | L136: 101.80044
A137: 132 | B137: DR GHULAM SHAH | C137: 671202-05-5403 | D137: 012-6656837 | E137: LOT 2527, BATU 20, AIR HITAM | F137: PORT DICKSON | G137: JIMAH | H137: TELUK KEMANG | I137: CHUAH | K137: 2.4169564 | L137: 102.00288
A138: 133 | B138: DR GHULAM SHAH | C138: 671202-05-5403 | D138: 012-6656837 | E138: NO. 4198, BUKIT KEMPAS | F138: PORT DICKSON | G138: JIMAH | H138: TELUK KEMANG | I138: CHUAH | K138: 2.4249086 | L138: 101.99057
A139: 134 | B139: KRISHNALINGAM | C139: - | D139: 012-6010241 | E139: LOT 12486, JLN SEKOLAH TEKNIK | F139: PORT DICKSON | G139: JIMAH | H139: TELUK KEMANG | I139: CHUAH | K139: 2.547518 | L139: 1.82786
A140: 135 | B140: CHEOH THIAN SHING | C140: 541225-05-5021 | D140: 019-6619968 | E140: NO: 6296, TAMAN PD JAYA | F140: PORT DICKSON | G140: JIMAH | H140: TELUK KEMANG | I140: CHUAH | K140: 2.565971 | L140: 1.82216
A141: 136 | B141: DEE POH CHUAN | C141: 511119-05-5071 | D141: 019-6203101 | E141: NO: 2, LOT 6005, | F141: PORT DICKSON | G141: JIMAH | H141: TELUK KEMANG | I141: CHUAH | K141: 2.57561 | L141: 1.834982
A142: 137 | B142: DEE POH CHUAN | C142: 511119-05-5071 | D142: 019-6203101 | E142: NO: 4968, TAMAN PANTAI MAS | F142: PORT DICKSON | G142: JIMAH | H142: TELUK KEMANG | I142: CHUAH | K142: 2.556668 | L142: 1.807122
A143: 138 | B143: DEE POH CHUAN | C143: 511119-05-5071 | D143: 019-6203101 | E143: LOT 74B, KG KUALA LUKUT | F143: PORT DICKSON | G143: JIMAH | H143: TELUK KEMANG | I143: CHUAH | K143: 2.566025 | L143: 1.810637
A144: 139 | B144: CHOO SUN WOO | C144: 670209-05-5309 | D144: 016-2126784 | E144: 4428, JALAN BESAR BUKIT PELANDOK | F144: PORT DICKSON | G144: JIMAH | H144: TELUK KEMANG | I144: CHUAH | K144: 2.644517 | L144: 1.745242
... A227: 222 | B227: PHANG KHAI HUAH | C227: 640803-10-5697 | D227: 012-6060630 | E227: NO. 90, TINGKAT 1, | F227: SEREMBAN | G227: LABU | H227: RASAH | I227: BUKIT KEPAYANG | K227: 2.6449989 | L227: 101.94815
A228: 223 | B228: CHONG MENG THONG | C228: 721106-05-5115 | E228: 10, TINGKAT 3, JALAN TUNKU HASAN | F228: SEREMBAN | G228: LABU | H228: RASAH | I228: BUKIT KEPAYANG | K228: 2.7260213 | L228: 101.93911
A229: 224 | B229: GOH TECK BIN | C229: 760913-05-5121 | D229: 016-2203898 | E229: 1209 JALAN TERATAI 1 | F229: SEREMBAN | G229: LABU | H229: RASAH | I229: BUKIT KEPAYANG | K229: 2.699214 | L229: 1.985123
A230: 225 | B230: E SEE YU | C230: 530522-05-5163 | D230: 019-6611669 | E230: NO: 35, TAMAN NILAI PERDANA, | F230: SEREMBAN | G230: LABU | H230: RASAH | I230: BUKIT KEPAYANG | K230: 2.803262 | L230: 1.805732
A231: 226 | B231: EE SEE YU | C231: 530522-05-5163 | D231: 019-6611669 | E231: NO: 33, TAMAN NILAI PERDANA | F231: SEREMBAN | G231: LABU | H231: RASAH | I231: BUKIT KEPAYANG | K231: 2.803383 | L231: 1.805732
A232: 227 | B232: ONG BOON HING | C232: 450801-71-5195 | D232: 019-6608091 | E232: NO: 438, JALAN HARUAN 4/3 | F232: SEREMBAN | G232: LABU | H232: RASAH | I232: BUKIT KEPAYANG | K232: 2.708581 | L232: 1.917553
A233: 228 | B233: ONG YIP LOONG (ONG BOON HING) | C233: 450801-71-5195 | D233: 019-6607091 | E233: NO: 307, JALAN TEMIANG | F233: SEREMBAN | G233: LABU | H233: RASAH | I233: BUKIT KEPAYANG | K233: 2.734366 | L233: 1.937855
A234: 229 | B234: ONG BOON HING | C234: 450801-71-5195 | D234: 019-6608091 | E234: NO: 437, JALAN HARUAN 4/3, | F234: SEREMBAN | G234: LENGGENG | H234: SEREMBAN | I234: LENGGENG | K234: 2.4251201 | L234: 101.55062
A235: 230 | B235: ONG BOON HING | C235: 450801-71-5195 | D235: 019-6608091 | E235: NO': 3JALAN 1/1 | F235: SEREMBAN | G235: LENGGENG | H235: SEREMBAN | I235: LENGGENG | K235: 2.398692 | L235: 101.59344
A236: 231 | B236: ONG YIP MING (ONG BOON HING) | C236: 450801-71-5195 | D236: 196608091 | E236: NO: 614, OAKLAND COMMERCIAL CENTRE | F236: SEREMBAN | G236: LENGGENG | H236: SEREMBAN | I236: LENGGENG | K236: 2.4245071 | L236: 101.55116
A237: 232 | B237: ONG BOON HING | C237: 450801-71-5195 | D237: 019-6608091 | E237: NO: 428 JALQN TEMIANG | F237: SEREMBAN | G237: LENGGENG | H237: SEREMBAN | I237: LENGGENG | K237: 2.4406763 | L237: 101.56281
A238: 233 | C238: 780506-05-5355 | E238: 175 JALAN TUNKU MUNAWIR | F238: SEREMBAN | G238: LENGGENG | H238: SEREMBAN | I238: LENGGENG | K238: 2.73326 | L238: 101.9343
A239: 234 | C239: 780506-05-5355 | E239: 174 JALAN TUNKU MUNAWIR | F239: SEREMBAN | G239: LENGGENG | H239: SEREMBAN | I239: LENGGENG | K239: 2.73326 | L239: 101.9343
A240: 235 | B240: LIM KIM FAH | C240: 670831000000 | D240: 019-6201535 | E240: 539-540 JALAN HARUAN 4/6 | F240: SEREMBAN | G240: LENGGENG | H240: SEREMBAN | I240: LENGGENG | K240: 0 | L240: 0
A241: 236 | B241: CHONG SWEE YIN | C241: 660905000000 | D241: 019-6605566 | E241: 60 JALAN QUEK KAI DONG | F241: SEREMBAN | G241: LENGGENG | H241: SEREMBAN | I241: LENGGENG | K241: 2.731005 | L241: 101.93861
A242: 237 | B242: LAU CHUANG LEE | C242: 700318-05-5157 | D242: 012-2992699 | E242: 38 JALAN BUNGA RAYA 7, | F242: SEREMBAN | G242: LENGGENG | H242: SEREMBAN | I242: LENGGENG | K242: 2.4322913 | L242: 102.00107
A243: 238 | B243: LAU CHUANG LEE | C243: 700318-05-5157 | D243: 012-2992699 | E243: 40 TAMAN BUKIT EMAS | F243: SEREMBAN | G243: LENGGENG | H243: SEREMBAN | I243: LENGGENG | K243: 2.4140448 | L243: 101.58173
A244: 239 | B244: LAU CHUANG LEE | C244: 700318-05-5157 | D244: 012-2992699 | E244: NO: 16, JALAN BSS 1/1 | F244: SEREMBAN | G244: LENGGENG | H244: SEREMBAN | I244: LENGGENG | K244: 2.3982243 | L244: 101.59334
A245: 240 | B245: LAU CHUANG LEE | C245: 700318-05-5157 | D245: 012-2992699 | E245: 44 JALAN BSS 1/1 | F245: SEREMBAN | G245: LENGGENG | H245: SEREMBAN | I245: LENGGENG | K245: 2.3980354 | L245: 101.59393
A246: 241 | B246: LAU CHUANG LEE | C246: 700318-05-5157 | D246: 012-2992699 | E246: 297-298 JALAN TUANKU ANTAH | F246: SEREMBAN | G246: LENGGENG | H246: SEREMBAN | I246: LENGGENG | K246: 2.4231839 | L246: 101.57184
A247: 242 | B247: LAI YOK MENG / TIJAH A/P CHAN NGAN | C247: 640325-05-5057 | D247: 012-6216878 | E247: LOT 7698, BATU 8 MANTIN INDUSTRIAL PARK | F247: SEREMBAN | G247: RANTAU | H247: REMBAU | I247: RANTAU | K247: 2.88363 | L247: 101.55304
A248: 243 | B248: LAI YOK MENG / TIJAH A/P CHAN NGAN | C248: 640325-05-5057 | D248: 013-6216878 | E248: NO 4 JALAN MUTIARA 3 | F248: SEREMBAN | G248: RANTAU | H248: REMBAU | I248: RANTAU | K248: 2.735829 | L248: 101.89977
A249: 244 | B249: PHANG KHAI HUAH | C249: 640803-10-5697 | D249: 012-6060630 | E249: PT 699 TAMAN SERI RAMAI | F249: SEREMBAN | G249: RANTAU | H249: REMBAU | I249: RANTAU | K249: 2.617588 | L249: 101.95209
A250: 245 | B250: PHANG KHAI HUAH | C250: 640803-10-5697 | D250: 012-6060630 | E250: PT 770 TAMAN SERI RAMAI, | F250: SEREMBAN | G250: RANTAU | H250: REMBAU | I250: RANTAU | K250: 2.630315 | L250: 101.95229
A251: 246 | B251: PHANG KHAI HUAH | C251: 640803-10-5697 | D251: 012-6060630 | E251: PT 701 TAMAN SERI RAMAI | F251: SEREMBAN | G251: RANTAU | H251: REMBAU | I251: RANTAU | K251: 2.630506 | L251: 101.95218
A252: 247 | B252: TIJAH A/P CHAN NGAN | C252: 671101-05-5690 | D252: 013-6216878 | E252: NO 1872, JALAN BSS 2/1 | F252: SEREMBAN | G252: RANTAU | H252: REMBAU | I252: RANTAU | K252: 2.662348 | L252: 101.98756
A253: 248 | B253: LOO KOK LEONG | C253: 661001000000 | E253: 1631 KG. RAWA | F253: SEREMBAN | G253: RANTAU | H253: REMBAU | I253: RANTAU | K253: 2.83706 | L253: 101.9295
A254: 249 | B254: TEE YEE WERN | C254: 741118-05-5241 | D254: 012-2912183 | E254: NO 11,JLN BUNGA RAYA 6/2, | F254: SEREMBAN | G254: RANTAU | H254: REMBAU | I254: RANTAU | K254: 2.432337 | L254: 102.00036
A255: 250 | B255: TEE YEE WERN | C255: 741118-05-5241 | D255: 012-2912183 | E255: NO 13,JLN BUNGA RAYA 6/2, | F255: SEREMBAN | G255: RANTAU | H255: REMBAU | I255: RANTAU | K255: 2.4321457 | L255: 101.59995
...

Sheet semb. direkod
A1: SEMBELIHAN TERNAKAN YANG DIREKOD
A2: TAHUN 2023
A4: RUMAH SEMBELIH | B4: KERBAU | C4: LEMBU | D4: KAMBING | E4: BEBIRI | F4: BABI
A5: RUMAH SEMBELIH SENAWANG | B5: =+semb.kerbau!O5 -> 21 | C5: =+'semb. lembu'!O6 -> 551 | D5: =+'semb. kambing'!O6 -> 10 | E5: =+'semb. bebiri'!O5 -> 1 | F5: 0
A6: RUMAH SEMBELIH JELEBU | B6: =+semb.kerbau!O6 -> 9 | C6: =+'semb. lembu'!O7 -> 330 | D6: =+'semb. kambing'!O7 -> 4 | E6: =+'semb. bebiri'!O6 -> 0 | F6: 0
A7: RUMAH SEMBELIH KUALA PILAH | B7: =+semb.kerbau!O7 -> 154 | C7: =+'semb. lembu'!O8 -> 1424 | D7: =+'semb. kambing'!O8 -> 250 | E7: =+'semb. bebiri'!O7 -> 8 | F7: 0
A8: JUMLAH | B8: =SUM(B5:B7) -> 184 | C8: =SUM(C5:C7) -> 2305 | D8: =SUM(D5:D7) -> 264 | E8: =SUM(E5:E7) -> 9 | F8: 0

Sheet semb.kerbau
D1: SEMBELIHAN BULANAN TERNAKAN KERBAU YANG DIREKOD
G2: TAHUN 2023
B4: RUMAH SEMBELIH | C4: Jan | D4: Feb | E4: Mac | F4: Apr | G4: Mei | H4: Jun | I4: Jul | J4: Ogos | K4: Sep | L4: Okt | M4: Nov | N4: Dis | O4: Jumlah
B5: Rumah Sembelih Senawang | C5: 1 | D5: 0 | E5: 2 | F5: 9 | G5: 0 | H5: 3 | I5: 6 | J5: 0 | K5: 0 | L5: 0 | M5: 0 | N5: 0 | O5: =SUM(C5:N5) -> 21
B6: Rumah Sembelih Jelebu | C6: 0 | D6: 0 | E6: 0 | F6: 5 | G6: 0 | H6: 4 | I6: 0 | J6: 0 | K6: 0 | L6: 0 | M6: 0 | N6: 0 | O6: =SUM(C6:N6) -> 9
B7: Rumah Sembelih Kuala Pilah | C7: 18 | D7: 17 | E7: 18 | F7: 18 | G7: 7 | H7: 9 | I7: 21 | J7: 9 | K7: 25 | L7: 7 | M7: 2 | N7: 3 | O7: =SUM(C7:N7) -> 154
B8: JUMLAH | C8: =SUM(C5:C7) -> 19 | D8: =SUM(D5:D7) -> 17 | E8: =SUM(E5:E7) -> 20 | F8: =SUM(F5:F7) -> 32 | G8: =SUM(G5:G7) -> 7 | H8: =SUM(H5:H7) -> 16 | I8: =SUM(I5:I7) -> 27 | J8: =SUM(J5:J7) -> 9 | ... O8: =SUM(O5:O7) -> 184

Sheet semb. lembu
D2: SEMBELIHAN BULANAN TERNAKAN LEMBU YANG DIREKOD
G3: TAHUN 2023
B5: RUMAH SEMBELIH | C5: Jan | D5: Feb | E5: Mac | F5: Apr | G5: Mei | H5: Jun | I5: Jul | J5: Ogos | K5: Sep | L5: Okt | M5: Nov | N5: Dis | O5: Jumlah
B6: Rumah Sembelih Senawang | C6: 36 | D6: 26 | E6: 50 | F6: 111 | G6: 31 | H6: 88 | I6: 56 | J6: 27 | K6: 18 | L6: 35 | M6: 41 | N6: 32 | O6: =SUM(C6:N6) -> 551
B7: Rumah Sembelih Jelebu | C7: 54 | D7: 50 | E7: 69 | F7: 30 | G7: 47 | H7: 69 | I7: 11 | J7: 0 | K7: 0 | L7: 0 | M7: 0 | N7: 0 | O7: =SUM(C7:N7) -> 330
B8: Rumah Sembelih Kuala Pilah | C8: 139 | D8: 112 | E8: 140 | F8: 131 | G8: 133 | H8: 217 | I8: 76 | J8: 91 | K8: 152 | L8: 71 | M8: 70 | N8: 92 | O8: =SUM(C8:N8) -> 1424
B9: JUMLAH | C9: =SUM(C6:C8) -> 229 | D9: =SUM(D6:D8) -> 188 | E9: =SUM(E6:E8) -> 259 | F9: =SUM(F6:F8) -> 272 | G9: =SUM(G6:G8) -> 211 | H9: =SUM(H6:H8) -> 374 | I9: =SUM(I6:I8) -> 143 | J9: =SUM(J6:J8) -> 118 | ... O9: =SUM(O6:O8) -> 2305

Sheet semb. kambing
D2: SEMBELIHAN BULANAN TERNAKAN KAMBING YANG DIREKOD
G3: TAHUN 2023
B5: RUMAH SEMBELIH | C5: Jan | D5: Feb | E5: Mac | F5: Apr | G5: Mei | H5: Jun | I5: Jul | J5: Ogos | K5: Sep | L5: Okt | M5: Nov | N5: Dis | O5: Jumlah
B6: Rumah Sembelih Senawang | C6: 1 | D6: 1 | E6: 0 | F6: 0 | G6: 0 | H6: 0 | I6: 1 | J6: 0 | K6: 0 | L6: 0 | M6: 7 | N6: 0 | O6: =SUM(C6:N6) -> 10
B7: Rumah Sembelih Jelebu | C7: 0 | D7: 0 | E7: 0 | F7: 0 | G7: 0 | H7: 4 | I7: 0 | J7: 0 | K7: 0 | L7: 0 | M7: 0 | N7: 0 | O7: =SUM(C7:N7) -> 4
B8: Rumah Sembelih Kuala Pilah | C8: 15 | D8: 6 | E8: 13 | F8: 21 | G8: 11 | H8: 32 | I8: 16 | J8: 12 | K8: 14 | L8: 16 | M8: 84 | N8: 10 | O8: =SUM(C8:N8) -> 250
B9: JUMLAH | C9: =SUM(C6:C8) -> 16 | D9: =SUM(D6:D8) -> 7 | E9: =SUM(E6:E8) -> 13 | F9: =SUM(F6:F8) -> 21 | G9: =SUM(G6:G8) -> 11 | H9: =SUM(H6:H8) -> 36 | I9: =SUM(I6:I8) -> 17 | J9: =SUM(J6:J8) -> 12 | ... O9: =SUM(O6:O8) -> 264

Sheet semb. bebiri
D1: SEMBELIHAN BULANAN TERNAKAN BEBIRI YANG DIREKOD
G2: TAHUN 2023
B4: RUMAH SEMBELIH | C4: Jan | D4: Feb | E4: Mac | F4: Apr | G4: Mei | H4: Jun | I4: Jul | J4: Ogos | K4: Sep | L4: Okt | M4: Nov | N4: Dis | O4: Jumlah
B5: Rumah Sembelih Senawang | C5: 0 | D5: 1 | E5: 0 | F5: 0 | G5: 0 | H5: 0 | I5: 0 | J5: 0 | K5: 0 | L5: 0 | M5: 0 | N5: 0 | O5: =SUM(C5:N5) -> 1
B6: Rumah Sembelih Jelebu | C6: 0 | D6: 0 | E6: 0 | F6: 0 | G6: 0 | H6: 0 | I6: 0 | J6: 0 | K6: 0 | L6: 0 | M6: 0 | N6: 0 | O6: =SUM(C6:N6) -> 0
B7: Rumah Sembelih Kuala Pilah | C7: 8 | D7: 0 | E7: 0 | F7: 0 | G7: 0 | H7: 0 | I7: 0 | J7: 0 | K7: 0 | L7: 0 | M7: 0 | N7: 0 | O7: =SUM(C7:N7) -> 8
B8: JUMLAH | C8: =SUM(C5:C7) -> 8 | D8: =SUM(D5:D7) -> 1 | E8: =SUM(E5:E7) -> 0 | F8: =SUM(F5:F7) -> 0 | G8: =SUM(G5:G7) -> 0 | H8: =SUM(H5:H7) -> 0 | I8: =SUM(I5:I7) -> 0 | J8: =SUM(J5:J7) -> 0 | ... O8: =SUM(O5:O7) -> 9

Sheet mukim ruminan nw
F1: BANCIAN RUMINAN MENGIKUT MUKIM
A3: DATA BANCIAN - DAERAH JELEBU
A4: TAHUN 2023
A6: DAERAH | B6: Lembu Pedaging | D6: Lembu Tenusu | F6: Kerbau | H6: Kambing | J6: Kambing Susu | L6: Bebiri | N6: Rusa
B7: Penternak | C7: Ternakan | D7: Penternak | E7: Ternakan | F7: Penternak | G7: Ternakan | H7: Penternak | I7: Ternakan | J7: Penternak | K7: Ternakan | L7: Penternak | M7: Ternakan | N7: Penternak | O7: Ternakan
A8: Kuala Klawang | H8: 30 | I8: 556 | L8: 14 | M8: 225
A9: Hulu Klawang | B9: 18 | C9: 393 | F9: 2 | G9: 11 | H9: 2 | I9: 18 | L9: 13 | M9: 273 | N9: 2 | O9: 10
A10: Ulu Triang | B10: 8 | C10: 126 | D10: 1 | E10: 20 | H10: 5 | I10: 151 | L10: 6 | M10: 107
A11: Triang Ulu
A12: Glami Lemi | B12: 6 | C12: 132 | D12: 1 | E12: 57 | H12: 6 | I12: 80 | L12: 6 | M12: 621
A13: Peradong | B13: 17 | C13: 402 | H13: 12 | I13: 255 | L13: 21 | M13: 1345
A14: Pertang | B14: 42 | C14: 1560 | D14: 1 | E14: 53 | F14: 2 | G14: 39 | H14: 16 | I14: 321 | L14: 31 | M14: 972 | N14: 2 | O14: 6
A15: Triang Hilir | B15: 51 | C15: 2151 | F15: 4 | G15: 96 | H15: 19 | I15: 373 | L15: 36 | M15: 1016
A16: Klawang | B16: 10 | C16: 225 | D16: 0 | E16: 0 | H16: 2 | I16: 28
A17: Kenaboi | B17: 8 | C17: 441 | H17: 9 | I17: 449 | L17: 3 | M17: 18 | N17: 1 | O17: 24
A18: Jumlah | B18: =SUM(B8:B17) -> 160 | C18: =SUM(C9:C17) -> 5430 | D18: =SUM(D8:D17) -> 3 | E18: =SUM(E8:E17) -> 130 | F18: =SUM(F8:F17) -> 8 | G18: =SUM(G8:G17) -> 146 | H18: =SUM(H8:H17) -> 101 | I18: =SUM(I8:I17) -> 2231 | J18: 0 | K18: 0 | L18: =SUM(L8:L17) -> 130 | M18: =SUM(M8:M17) -> 4577 | N18: =SUM(N8:N17) -> 5 | O18: =SUM(O8:O17) -> 40
B19: * 13 PENTERNAK TDK AKTIF | D19: * 1 PENTERNAK TDK AKTIF | H19: * 15 PENTERNAK TDK AKTIF | L19: * 14 PENTERNAK TDK AKTIF | N19: * 1 PENTERNAK TDK AKTIF
A21: DATA BANCIAN - DAERAH JEMPOL
A22: TAHUN 2023
A24: DAERAH | B24: Lembu Pedaging | D24: Lembu Tenusu | F24: Kerbau | H24: Kambing | J24: Kambing Susu | L24: Bebiri | N24: Rusa
B25: Penternak | C25: Ternakan | D25: Penternak | E25: Ternakan | F25: Penternak | G25: Ternakan | H25: Penternak | I25: Ternakan | J25: Penternak | K25: Ternakan | L25: Penternak | M25: Ternakan | N25: Penternak | O25: Ternakan
A26: Jelai | B26: 7 | C26: 339 | F26: 1 | G26: 61 | H26: 2 | I26: 55 | L26: 2 | M26: 46
A27: Jempol
A28: Kuala Jempol | B28: 9 | C28: 353 | D28: 1 | E28: 3 | F28: 3 | G28: 24 | H28: 2 | I28: 77 | L28: 8 | M28: 191
A29: Rompin | B29: 91 | C29: 8891 | D29: 2 | E29: 93 | F29: 4 | G29: 492 | H29: 27 | I29: 935 | L29: 26 | M29: 2163 | N29: 2 | O29: 32
A30: Serting Hilir | B30: 39 | C30: 4595 | D30: 1 | E30: 67 | F30: 3 | G30: 41 | H30: 9 | I30: 380 | L30: 9 | M30: 332 | N30: 1 | O30: 14
A31: Simpang Pertang
A32: Serting Ulu | B32: 42 | C32: 3164 | F32: 6 | G32: 177 | H32: 14 | I32: 578 | L32: 21 | M32: 1137 | N32: 1 | O32: 3
A33: Palong | N33: 1 | O33: 15
A34: Jumlah | B34: =SUM(B26:B32) -> 188 | C34: =SUM(C26:C32) -> 17342 | D34: =SUM(D26:D32) -> 4 | E34: =SUM(E26:E32) -> 163 | F34: =SUM(F26:F32) -> 17 | G34: =SUM(G26:G32) -> 795 | H34: =SUM(H26:H32) -> 54 | I34: =SUM(I26:I32) -> 2025 | J34: 0 | K34: 0 | L34: =SUM(L26:L32) -> 66 | M34: =SUM(M26:M32) -> 3869 | N34: =SUM(N26:N33) -> 5 | O34: =SUM(O26:O33) -> 64
B35: * 13 PENTERNAK TDK AKTIF | D35: * 1 PENTERNAK TDK AKTIF | H35: * 3 PENTERNAK TDK AKTIF | L35: * 1 PENTERNAK TDK AKTIF | N35: * 1 PENTERNAK TDK AKTIF
A37: DATA BANCIAN - DAERAH TAMPIN
A38: TAHUN 2023
A40: DAERAH | B40: Lembu Pedaging | D40: Lembu Tenusu | F40: Kerbau | H40: Kambing | J40: Kambing Susu | L40: Bebiri | N40: Rusa | P40: Babi
B41: Penternak | C41: Ternakan | D41: Penternak | E41: Ternakan | F41: Penternak | G41: Ternakan | H41: Penternak | I41: Ternakan | J41: Penternak | K41: Ternakan | L41: Penternak | M41: Ternakan | N41: Penternak | O41: Ternakan | P41: Penternak | Q41: Ternakan
A42: Air Kuning | B42: 8 | C42: 1252 | D42: 3 | E42: 68 | F42: 1 | G42: 8 | H42: 5 | I42: 118 | L42: 7 | M42: 278 | P42: 1 | Q42: 380
A43: Gemencheh | B43: 34 | C43: 1373 | D43: 8 | E43: 163 | F43: 3 | G43: 60 | H43: 18 | I43: 492 | L43: 25 | M43: 893 | N43: 2 | O43: 26
A44: Gemas | B44: 70 | C44: 3028 | D44: 5 | E44: 145 | F44: 3 | G44: 23 | H44: 23 | I44: 623 | L44: 25 | M44: 741 | N44: 1 | O44: 8
A45: Keru | B45: 6 | C45: 208 | H45: 3 | I45: 80 | L45: 3 | M45: 95
A46: Repah | B46: 14 | C46: 383 | F46: 4 | G46: 88 | H46: 5 | I46: 134 | L46: 9 | M46: 255
A47: Tampin Tengah | B47: 1 | C47: 8 | D47: 1 | E47: 5 | L47: 1 | M47: 57
A48: Tebong | B48: 4 | C48: 385 | F48: 4 | G48: 153 | H48: 4 | I48: 145 | L48: 2 | M48: 35 | N48: 1 | O48: 25
A49: Jumlah | B49: =SUM(B42:B48) -> 137 | C49: =SUM(C42:C48) -> 6637 | D49: =SUM(D42:D48) -> 17 | E49: =SUM(E42:E48) -> 381 | F49: =SUM(F42:F48) -> 15 | G49: =SUM(G42:G48) -> 332 | H49: =SUM(H42:H48) -> 58 | I49: =SUM(I42:I48) -> 1592 | J49: 0 | K49: 0 | L49: =SUM(L42:L48) -> 72 | M49: =SUM(M42:M48) -> 2354 | N49: =SUM(N42:N48) -> 4 | O49: =SUM(O42:O48) -> 59 | P49: =SUM(P42:P48) -> 1 | Q49: =SUM(Q42:Q48) -> 380
F50: * 1 PENTERNAK TDK AKTIF | H50: * 2 PENTERNAK TDK AKTIF
A54: DATA BANCIAN - DAERAH PORT DICKSON
A55: TAHUN 2023
A57: DAERAH | B57: Lembu Pedaging | D57: Lembu Tenusu | F57: Kerbau | H57: Kambing | J57: Kambing Susu | L57: Bebiri | N57: Rusa
B58: Penternak | C58: Ternakan | D58: Penternak | E58: Ternakan | F58: Penternak | G58: Ternakan | H58: Penternak | I58: Ternakan | J58: Penternak | K58: Ternakan | L58: Penternak | M58: Ternakan | N58: Penternak | O58: Ternakan
A59: Bagan Pinang | B59: 1 | C59: 40 | H59: 2 | I59: 26
A60: Jimah | B60: 56 | C60: 1361 | D60: 15 | E60: 635 | F60: 1 | G60: 11 | H60: 41 | I60: 969 | J60: 2 | K60: 13 | L60: 4 | M60: 63
A61: Linggi | B61: 22 | C61: 696 | D61: 2 | E61: 157 | H61: 16 | I61: 500 | L61: 6 | M61: 481 | N61: 2 | O61: 71
A62: Lukut | B62: 8 | C62: 132 | D62: 1 | E62: 61 | H62: 1 | I62: 7
A63: Port Dickson | B63: 12 | C63: 650 | D63: 3 | E63: 23 | H63: 10 | I63: 344 | L63: 1 | M63: 31
A64: Pasir Panjang | B64: 30 | C64: 860 | D64: 1 | E64: 30 | F64: 1 | G64: 7 | H64: 15 | I64: 480 | J64: 2 | K64: 17 | L64: 2 | M64: 57 | N64: 2 | O64: 12
A65: Sirusa | B65: 11 | C65: 396 | H65: 3 | I65: 67 | L65: 1 | M65: 64 | N65: 1 | O65: 28
A66: Chuah | B66: 1 | C66: 10 | L66: 1 | M66: 40
A67: Rantau | D67: 2 | E67: 40
A68: Teluk Kemang | B68: 2 | C68: 12 | N68: 1 | O68: 20
A69: Jumlah | B69: =SUM(B59:B68) -> 143 | C69: =SUM(C59:C68) -> 4157 | D69: =SUM(D60:D67) -> 24 | E69: =SUM(E60:E67) -> 946 | F69: =SUM(F60:F67) -> 2 | G69: =SUM(G60:G67) -> 18 | H69: =SUM(H59:H68) -> 88 | I69: =SUM(I59:I68) -> 2393 | J69: =SUM(J60:J67) -> 4 | K69: =SUM(K60:K67) -> 30 | L69: =SUM(L60:L67) -> 15 | M69: =SUM(M60:M67) -> 736 | N69: =SUM(N59:N68) -> 6 | O69: =SUM(O59:O68) -> 131
B70: * 1 PENTERNAK TDK AKTIF
A75: DATA BANCIAN - DAERAH SEREMBAN
A76: TAHUN 2023
A78: DAERAH | B78: Lembu Pedaging | D78: Lembu Tenusu | F78: Kerbau | H78: Kambing | J78: Kambing Tenusu | L78: Bebiri | N78: Rusa
B79: Penternak | C79: Ternakan | D79: Penternak | E79: Ternakan | F79: Penternak | G79: Ternakan | H79: Penternak | I79: Ternakan | J79: Penternak | K79: Ternakan | L79: Penternak | M79: Ternakan | N79: Penternak | O79: Ternakan
A80: Ampangan | D80: 0 | E80: 0 | H80: 4 | I80: 111 | L80: 1 | M80: 95
A81: Labu | B81: 10 | C81: 710 | D81: 4 | E81: 231 | H81: 14 | I81: 429
A82: Lenggeng | B82: 11 | C82: 471 | D82: 6 | E82: 322 | H82: 14 | I82: 514 | J82: 1 | K82: 60 | L82: 10 | M82: 407 | N82: 2 | O82: 137
A83: Rantau | B83: 32 | C83: 2162 | D83: 21 | E83: 540 | F83: 5 | G83: 460 | H83: 23 | I83: 669 | L83: 6 | M83: 202 | N83: 1 | O83: 55
A84: Rasah | B84: 4 | C84: 114 | D84: 6 | E84: 198 | H84: 9 | I84: 262 | L84: 2 | M84: 52
A85: Seremban | H85: 2 | I85: 63
A86: Nilai
A87: Sikamat
A88: Setul | B88: 7 | C88: 179 | D88: 6 | E88: 197 | H88: 3 | I88: 75
A89: Pantai | D89: 4 | E89: 133 | F89: 3 | G89: 68 | H89: 8 | I89: 234 | L89: 2 | M89: 60 | N89: 1 | O89: 68
A90: Jumlah | B90: =SUM(B80:B89) -> 64 | C90: =SUM(C80:C89) -> 3636 | D90: =SUM(D80:D89) -> 47 | E90: =SUM(E80:E89) -> 1621 | F90: =SUM(F80:F89) -> 8 | G90: =SUM(G80:G89) -> 528 | H90: =SUM(H80:H89) -> 77 | I90: =SUM(I80:I89) -> 2357 | ... O90: =SUM(O80:O89) -> 260
B91: * 1 PENTERNAK TDK AKTIF | D91: * 4 PENTERNAK TDK AKTIF | H91: * 2 PENTERNAK TDK AKTIF
A106: DATA BANCIAN - DAERAH KUALA PILAH
A107: TAHUN 2023
A109: DAERAH | B109: Lembu Pedaging | D109: Lembu Tenusu | F109: Kerbau | H109: Kambing | J109: Kambing Susu | L109: Bebiri | N109: Rusa
B110: Penternak | C110: Ternakan | D110: Penternak | E110: Ternakan | F110: Penternak | G110: Ternakan | H110: Penternak | I110: Ternakan | J110: Penternak | K110: Ternakan | L110: Penternak | M110: Ternakan | N110: Penternak | O110: Ternakan
A111: Juasseh | B111: 4 | C111: 114 | D111: 1 | E111: 558 | F111: 1 | G111: 20 | H111: 9 | I111: 272 | L111: 14 | M111: 374 | N111: 1 | O111: 4
A112: Pilah | B112: 11 | C112: 245 | F112: 2 | G112: 34 | H112: 21 | I112: 473 | L112: 20 | M112: 495 | N112: 1 | O112: 4
A113: Johol | B113: 6 | C113: 457 | F113: 2 | G113: 16 | H113: 6 | I113: 117 | L113: 12 | M113: 288
A114: Ampang Tinggi | B114: 5 | C114: 346 | H114: 16 | I114: 609
A115: Kepis | B115: 2 | C115: 84 | F115: 3 | G115: 50 | H115: 6 | I115: 106 | L115: 5 | M115: 202
A116: Seri Menanti | B116: 1 | C116: 20 | F116: 1 | G116: 5 | H116: 12 | I116: 210 | L116: 16 | M116: 368
A117: Terachi | B117: 3 | C117: 38 | F117: 2 | G117: 37 | H117: 19 | I117: 417 | L117: 13 | M117: 309
A118: Ulu Muar | B118: 3 | C118: 234 | H118: 12 | I118: 248 | L118: 11 | M118: 408
A119: Hulu Jempol | B119: 8 | C119: 180 | F119: 1 | G119: 15 | H119: 12 | I119: 286 | L119: 8 | M119: 118
A120: Senaling
A121: Jumlah | B121: =SUM(B111:B119) -> 43 | C121: =SUM(C111:C119) -> 1718 | D121: =SUM(D111:D119) -> 1 | E121: =SUM(E111:E119) -> 558 | F121: =SUM(F111:F119) -> 12 | G121: =SUM(G111:G119) -> 177 | H121: =SUM(H111:H119) -> 113 | I121: =SUM(I111:I119) -> 2738 | J121: 0 | K121: 0 | L121: =SUM(L111:L119) -> 99 | M121: =SUM(M111:M119) -> 2562 | N121: =SUM(N111:N120) -> 2 | O121: =SUM(O111:O120) -> 8
A126: DATA BANCIAN - DAERAH REMBAU
A127: TAHUN 2023
A129: DAERAH | B129: Lembu Pedaging | D129: Lembu Tenusu | F129: Kerbau | H129: Kambing | J129: Kambing Tenusu | L129: Bebiri | N129: Rusa
B130: Penternak | C130: Ternakan | D130: Penternak | E130: Ternakan | F130: Penternak | G130: Ternakan | H130: Penternak | I130: Ternakan | J130: Penternak | K130: Ternakan | L130: Penternak | M130: Ternakan | N130: Penternak | O130: Ternakan
A131: Batu Hampar | B131: 7 | C131: 194 | F131: 4 | G131: 53 | H131: 2 | I131: 49 | L131: 2 | M131: 229
A132: Bongek | B132: 1 | C132: 38
A133: Chembong | B133: 8 | C133: 358 | F133: 1 | G133: 55 | H133: 1 | I133: 49
A134: Chengkau | B134: 8 | C134: 280 | F134: 2 | G134: 23 | H134: 8 | I134: 270 | L134: 4 | M134: 104 | N134: 1 | O134: 11
A135: Gadong | B135: 13 | C135: 577 | F135: 3 | G135: 148 | H135: 14 | I135: 531 | L135: 4 | M135: 289
...

Sheet Mukim unggas (1)
B1: BANCIAN AYAM DAN ITIK MENGIKUT MUKIM
B3: DATA BANCIAN - DAERAH REMBAU
B4: TAHUN 2023
B6: Mukim / Spesis | C6: Ayam daging | E6: Ayam Telor | G6: Ayam Baka | I6: Ayam Kampong | K6: Itik Daging | M6: Itik Telor | O6: Itik Pembiak
C7: Penternak | D7: Ternakan | E7: Penternak | F7: Ternakan | G7: Penternak | H7: Ternakan | I7: Penternak | J7: Ternakan | K7: Penternak | L7: Ternakan | M7: Penternak | N7: Ternakan | O7: Penternak | P7: Ternakan
B8: Batu Hampar | I8: 3 | J8: 170 | K8: 0 | L8: 0
B9: Bongek
B10: Chembong | C10: 2 | D10: 194500
B11: Chengkau | I11: 5 | J11: 145 | K11: 1 | L11: 15
B12: Gadong | C12: 2 | D12: 136000 | G12: 2 | H12: 104120 | I12: 5 | J12: 3209 | K12: 1 | L12: 40 | M12: 1 | N12: 90
B13: Kundur | I13: 2 | J13: 94
B14: Legong Hilir | I14: 6 | J14: 113 | K14: 1 | L14: 30 | M14: 2 | N14: 67
B15: Legong Hulu
B16: Miku
B17: Nerasau | I17: 1 | J17: 30
B18: Pedas | C18: 3 | D18: 170000 | G18: 1 | H18: 224400 | K18: 0 | L18: 0
B19: Pilin
B20: Selemak | G20: 1 | H20: 250000
B21: Semerbok | C21: 1 | D21: 40000 | I21: 1 | J21: 30
B22: Senama | K22: 1 | L22: 25
B23: Seperi | I23: 1 | J23: 700
B24: Tanjong Keling | I24: 2 | J24: 65 | K24: 1 | L24: 15 | M24: 1 | N24: 20
B25: Titian Bintangor | C25: 2 | D25: 330000 | E25: 2 | F25: 1222080 | K25: 2 | L25: 60 | M25: 2 | N25: 900
B26: Kota
B27: Jumlah | C27: =SUM(C8:C26) -> 10 | D27: =SUM(D8:D26) -> 870500 | E27: =SUM(E8:E26) -> 2 | F27: =SUM(F8:F26) -> 1222080 | G27: =SUM(G8:G26) -> 4 | H27: =SUM(H8:H26) -> 578520 | I27: =SUM(I8:I26) -> 26 | J27: =SUM(J8:J26) -> 4556 | ... N27: =SUM(N8:N26) -> 1077 | O27: 0 | P27: 0
I28: * 1 PENTERNAK TDK AKTIF | K28: * 5 PENTERNAK TDK AKTIF | M28: * 2 PENTERNAK TDK AKTIF
B53: DATA BANCIAN - DAERAH JELEBU
B54: TAHUN 2023
B56: Mukim / Spesis | C56: Ayam daging | E56: Ayam Telor | G56: Ayam Baka | I56: Ayam Kampong | K56: Itik Daging | M56: Itik Telor | O56: Itik Pembiak
C57: Penternak | D57: Ternakan | E57: Penternak | F57: Ternakan | G57: Penternak | H57: Ternakan | I57: Penternak | J57: Ternakan | K57: Penternak | L57: Ternakan | M57: Penternak | N57: Ternakan | O57: Penternak | P57: Ternakan
B58: Hulu Klawang | I58: 16 | J58: 1218 | K58: 9 | L58: 333 | M58: 3 | N58: 32
B59: Teriang Ulu | I59: 3 | J59: 620 | K59: 4 | L59: 262
B60: Klawang | I60: 9 | J60: 323
B61: Kenaboi | I61: 2 | J61: 70
B62: Hulu Teriang | I62: 11 | J62: 436
B63: Peradong | C63: 1 | D63: 80000 | I63: 14 | J63: 659 | K63: 1 | L63: 100 | M63: 1 | N63: 45
B64: Kuala Klawang | I64: 5 | J64: 1430 | K64: 4 | L64: 90 | M64: 2 | N64: 380
B65: Pertang | C65: 9 | D65: 893200 | I65: 10 | J65: 525 | K65: 3 | L65: 107
B66: Teriang Hilir | C66: 4 | D66: 508700 | I66: 11 | J66: 80268 | K66: 8 | L66: 210 | M66: 4 | N66: 43
B67: Gelami Lemi | C67: 6 | D67: 741000 | I67: 13 | J67: 940 | K67: 4 | L67: 30095
B68: Jumlah | C68: =SUM(C58:C67) -> 20 | D68: =SUM(D58:D67) -> 2222900 | E68: 0 | F68: 0 | G68: ₋ | H68: ₋ | I68: =SUM(I58:I67) -> 94 | J68: =SUM(J58:J67) -> 86489 | K68: =SUM(K58:K67) -> 33 | L68: =SUM(L58:L67) -> 31197 | M68: =SUM(M58:M67) -> 10 | N68: =SUM(N58:N67) -> 500 | O68: =SUM(O58:O67) -> 0 | P68: =SUM(P58:P67) -> 0
I69: * 6 PENTERNAK TDK AKTIF | K69: * 3 PENTERNAK TDK AKTIF | M69: * 1 PENTERNAK TDK AKTIF
B71: DATA BANCIAN - DAERAH JEMPOL
B72: TAHUN 2023
B74: Mukim / Spesis | C74: Ayam daging | E74: Ayam Telor | G74: Ayam Baka | I74: Ayam Kampong | K74: Itik Daging | M74: Itik Telor | O74: Itik Pembiak
C75: Penternak | D75: Ternakan | E75: Penternak | F75: Ternakan | G75: Penternak | H75: Ternakan | I75: Penternak | J75: Ternakan | K75: Penternak | L75: Ternakan | M75: Penternak | N75: Ternakan | O75: Penternak | P75: Ternakan
B76: Serting Hulu | C76: 2 | D76: 141000 | I76: 4 | J76: 220 | M76: 3 | N76: 500
B77: Serting Ilir | I77: 1 | J77: 80 | K77: 1 | L77: 35 | M77: 1 | N77: 120
B78: Jelai | C78: 1 | D78: 300000 | G78: 1 | H78: 160000 | I78: 2 | J78: 100
B79: Rompin | C79: 16 | D79: 1882100 | I79: 6 | J79: 785 | K79: 1 | L79: 300 | M79: 0 | N79: 0
B80: Jempol
B81: Kuala Jempol | I81: 1 | J81: 2000 | K81: 1 | L81: 30
B82: Palong
B83: Simpang Pertang
B84: Jeram Padang
B85: Bahau
B86: Jumlah | C86: =SUM(C76:C85) -> 19 | D86: =SUM(D76:D85) -> 2323100 | E86: =SUM(E76:E85) -> 0 | F86: =SUM(F76:F85) -> 0 | G86: =SUM(G76:G85) -> 1 | H86: =SUM(H76:H85) -> 160000 | I86: =SUM(I76:I85) -> 14 | J86: =SUM(J76:J85) -> 3185 | ... N86: =SUM(N76:N85) -> 620 | O86: 0 | P86: 0
I87: * 1 PENTERNAK TDK AKTIF | M87: * 1 PENTERNAK TDK AKTIF
B98: DATA BANCIAN - DAERAH KUALA PILAH
B99: TAHUN 2023
B101: Mukim / Spesis | C101: Ayam daging | E101: Ayam Telor | G101: Ayam Baka | I101: Ayam Kampong | K101: Itik Daging | M101: Itik Telor | O101: Itik Pembiak
C102: Penternak | D102: Ternakan | E102: Penternak | F102: Ternakan | G102: Penternak | H102: Ternakan | I102: Penternak | J102: Ternakan | K102: Penternak | L102: Ternakan | M102: Penternak | N102: Ternakan | O102: Penternak | P102: Ternakan
B103: Juasseh | C103: 2 | D103: 552000 | E103: 1 | F103: 800000 | I103: 5 | J103: 615
B104: Terachi | I104: 17 | J104: 2835 | M104: 2 | N104: 37
B105: Hulu Jempol | I105: 5 | J105: 425
B106: Hulu Muar | I106: 6 | J106: 540 | M106: 4 | N106: 150
B107: Johol | G107: 2 | H107: 184000 | I107: 11 | J107: 794 | M107: 1 | N107: 20
B108: Kepis | C108: 1 | D108: 40000 | I108: 8 | J108: 513 | K108: 1 | L108: 120 | M108: 1 | N108: 100
B109: Pilah | I109: 16 | J109: 624 | M109: 1 | N109: 50
B110: Sri Menanti | I110: 3 | J110: 160
B111: Ampang Tinggi | C111: 1 | D111: 120000 | I111: 7 | J111: 420
B112: Parit Tinggi
B113: Jelai
B114: Jumlah | C114: =SUM(C103:C113) -> 4 | D114: =SUM(D103:D113) -> 712000 | E114: =SUM(E103:E113) -> 1 | F114: =SUM(F103:F113) -> 800000 | G114: =SUM(G103:G113) -> 2 | H114: =SUM(H103:H113) -> 184000 | I114: =SUM(I103:I113) -> 78 | J114: =SUM(J103:J113) -> 6926 | ... N114: =SUM(N103:N113) -> 357 | O114: 0 | P114: 0
B117: DATA BANCIAN - DAERAH SEREMBAN
B118: TAHUN 2023
B120: Mukim / Spesis | C120: Ayam daging | E120: Ayam Telor | G120: Ayam Baka | I120: Ayam Kampong | K120: Itik Daging | M120: Itik Telor | O120: Itik Pembiak
C121: Penternak | D121: Ternakan | E121: Penternak | F121: Ternakan | G121: Penternak | H121: Ternakan | I121: Penternak | J121: Ternakan | K121: Penternak | L121: Ternakan | M121: Penternak | N121: Ternakan | O121: Penternak | P121: Ternakan
B122: Rasah | I122: 2 | J122: 320 | M122: 2 | N122: 1100
B123: Pantai | C123: 2 | D123: 182000 | I123: 1 | J123: 150
B124: Seremban | E124: 1 | F124: 150000
B125: Nilai
B126: Lenggeng | C126: 3 | D126: 830000 | E126: 2 | F126: 1500000 | I126: 3 | J126: 850
B127: Labu | C127: 2 | D127: 182000 | I127: 5 | J127: 1800 | K127: 2 | L127: 500 | M127: 1 | N127: 200
B128: Lobak
B129: Mambau
B130: Setul | C130: 1 | D130: 81700 | I130: 3 | J130: 700 | M130: 0 | N130: 0
B131: Rahang
B132: Temiang
B133: Ampangan | I133: 1 | J133: 250
B134: Rantau | C134: 10 | D134: 797000 | I134: 3 | J134: 20650 | M134: 2 | N134: 450
B135: Jumlah | C135: =SUM(C122:C134) -> 18 | D135: =SUM(D122:D134) -> 2072700 | E135: =SUM(E122:E134) -> 3 | F135: =SUM(F122:F134) -> 1650000 | G135: =SUM(G122:G134) -> 0 | H135: =SUM(H122:H134) -> 0 | I135: =SUM(I122:I134) -> 18 | J135: =SUM(J122:J134) -> 24720 | ... N135: =SUM(N122:N134) -> 1750 | O135: 0 | P135: 0
I136: * 2 PENTERNAK TDK AKTIF | M136: * 2 PENTERNAK TDK AKTIF
B146: DATA BANCIAN - DAERAH TAMPIN
B147: TAHUN 2023
B149: Mukim / Spesis | C149: Ayam daging | E149: Ayam Telor | G149: Ayam Baka | I149: Ayam Kampong | K149: Itik Daging | M149: Itik Telor | O149: Itik Pembiak
C150: Penternak | D150: Ternakan | E150: Penternak | F150: Ternakan | G150: Penternak | H150: Ternakan | I150: Penternak | J150: Ternakan | K150: Penternak | L150: Ternakan | M150: Penternak | N150: Ternakan | O150: Penternak | P150: Ternakan
B151: Air Kuning | G151: 1 | H151: 130000 | I151: 1 | J151: 50 | K151: 1 | L151: 80
B152: Gemas | C152: 1 | D152: 156000 | I152: 4 | J152: 420 | K152: 4 | L152: 190 | M152: 1 | N152: 100
B153: Gemencheh | C153: 17 | D153: 7034000 | E153: 1 | F153: 950000 | G153: 10 | H153: 1688000 | I153: 5 | J153: 555 | K153: 1 | L153: 30 | M153: 2 | N153: 40080
...

Sheet EDIT MUKIM RUMI
A1: BANCIAN RUMINAN MENGIKUT MUKIM
A2: DATA BANCIAN - DAERAH JELEBU
A3: TAHUN 2019
A5: DAERAH | B5: Lembu Pedaging | D5: Lembu Tenusu | F5: Kerbau | H5: Kambing | J5: Kambing Susu | L5: Bebiri | N5: Rusa
B6: Penternak | C6: Ternakan | D6: Penternak | E6: Ternakan | F6: Penternak | G6: Ternakan | H6: Penternak | I6: Ternakan | J6: Penternak | K6: Ternakan | L6: Penternak | M6: Ternakan | N6: Penternak | O6: Ternakan
A7: Kuala Klawang | B7: 1 | C7: 7 | H7: 18 | I7: 366 | L7: 9 | M7: 188
A8: Hulu Klawang | B8: 25 | C8: 410 | F8: 1 | G8: 16 | H8: 9 | I8: 199 | L8: 9 | M8: 248
A9: Triang Ulu | B9: 6 | C9: 87 | D9: 1 | E9: 62 | H9: 8 | I9: 201 | L9: 6 | M9: 113
A10: Glami Lemi | B10: 7 | C10: 153 | D10: 1 | E10: 31 | H10: 6 | I10: 104 | L10: 4 | M10: 1042
A11: Peradong | B11: 18 | C11: 268 | F11: 2 | G11: 18 | H11: 7 | I11: 287 | L11: 12 | M11: 552
A12: Pertang | B12: 31 | C12: 1410 | D12: 1 | E12: 53 | H12: 14 | I12: 284 | L12: 25 | M12: 757
A13: Triang Hilir | B13: 27 | C13: 1541 | F13: 5 | G13: 91 | H13: 13 | I13: 350 | L13: 25 | M13: 680
A14: Klawang | D14: 1 | E14: 9
A15: Kenaboi | B15: 9 | C15: 584 | H15: 7 | I15: 265
A16: Jumlah | B16: =SUM(B7:B15) -> 124 | C16: =SUM(C7:C15) -> 4460 | D16: =SUM(D7:D15) -> 4 | E16: =SUM(E7:E15) -> 155 | F16: =SUM(F7:F15) -> 8 | G16: =SUM(G7:G15) -> 125 | H16: =SUM(H7:H15) -> 82 | I16: =SUM(I7:I15) -> 2056 | J16: 0 | K16: 0 | L16: =SUM(L7:L15) -> 90 | M16: =SUM(M7:M15) -> 3580 | N16: 0 | O16: 0
A21: DATA BANCIAN - DAERAH JEMPOL
A22: TAHUN 2019
A24: DAERAH | B24: Lembu Pedaging | D24: Lembu Tenusu | F24: Kerbau | H24: Kambing | J24: Kambing Susu | L24: Bebiri | N24: Rusa
B25: Penternak | C25: Ternakan | D25: Penternak | E25: Ternakan | F25: Penternak | G25: Ternakan | H25: Penternak | I25: Ternakan | J25: Penternak | K25: Ternakan | L25: Penternak | M25: Ternakan | N25: Penternak | O25: Ternakan
A26: Jelai | B26: 4 | C26: 241 | H26: 4 | I26: 65 | L26: 1 | M26: 10
A27: Jempol
A28: Kuala Jempol | B28: 3 | C28: 96 | L28: 1 | M28: 25
A29: Rompin | B29: 119 | C29: 8317 | F29: 5 | G29: 90 | H29: 22 | I29: 800 | L29: 14 | M29: 1066 | N29: 1 | O29: 15
A30: Serting Hilir | B30: 16 | C30: 1253 | D30: 1 | E30: 80 | F30: 2 | G30: 161 | H30: 6 | I30: 194 | L30: 1 | M30: 21
A31: Simpang Pertang | B31: 1 | C31: 70 | H31: 1 | I31: 60 | L31: 2 | M31: 96
A32: Serting Ulu | B32: 47 | C32: 3731 | F32: 4 | G32: 94 | H32: 21 | I32: 1328 | L32: 16 | M32: 612 | N32: 1 | O32: 11
A33: Jumlah | B33: =SUM(B26:B32) -> 190 | C33: =SUM(C26:C32) -> 13708 | D33: =SUM(D26:D32) -> 1 | E33: =SUM(E26:E32) -> 80 | F33: =SUM(F26:F32) -> 11 | G33: =SUM(G26:G32) -> 345 | H33: =SUM(H26:H32) -> 54 | I33: =SUM(I26:I32) -> 2447 | J33: 0 | K33: 0 | L33: =SUM(L26:L32) -> 35 | M33: =SUM(M26:M32) -> 1830 | N33: =SUM(N26:N32) -> 2 | O33: =SUM(O26:O32) -> 26
A37: DATA BANCIAN - DAERAH TAMPIN
A38: TAHUN 2019
A40: DAERAH | B40: Lembu Pedaging | D40: Lembu Tenusu | F40: Kerbau | H40: Kambing | J40: Kambing Susu | L40: Bebiri | N40: Babi | P40: Rusa
B41: Penternak | C41: Ternakan | D41: Penternak | E41: Ternakan | F41: Penternak | G41: Ternakan | H41: Penternak | I41: Ternakan | J41: Penternak | K41: Ternakan | L41: Penternak | M41: Ternakan | N41: Penternak | O41: Ternakan | P41: Penternak | Q41: Ternakan
A42: Air Kuning | B42: 7 | C42: 831 | D42: 3 | E42: 93 | H42: 9 | I42: 308 | L42: 7 | M42: 261 | N42: 1 | O42: 515
A43: Gemencheh | B43: 22 | C43: 711 | D43: 8 | E43: 221 | H43: 11 | I43: 257 | L43: 24 | M43: 1129 | P43: 1 | Q43: 17
A44: Gemas | B44: 57 | C44: 1820 | D44: 7 | E44: 198 | F44: 8 | G44: 176 | H44: 31 | I44: 755 | L44: 35 | M44: 1169 | P44: 1 | Q44: 5
A45: Keru | B45: 6 | C45: 213 | H45: 5 | I45: 108 | L45: 3 | M45: 167
A46: Repah | B46: 10 | C46: 262 | F46: 2 | G46: 70 | H46: 7 | I46: 196 | L46: 9 | M46: 294
A47: Tampin Tengah | B47: 1 | C47: 11 | H47: 1 | I47: 23 | L47: 1 | M47: 61
A48: Tebong | B48: 6 | C48: 248 | F48: 2 | G48: 67 | H48: 4 | I48: 121 | L48: 1 | M48: 30 | P48: 1 | Q48: 34
A49: Jumlah | B49: =SUM(B42:B48) -> 109 | C49: =SUM(C42:C48) -> 4096 | D49: =SUM(D42:D48) -> 18 | E49: =SUM(E42:E48) -> 512 | F49: =SUM(F42:F48) -> 12 | G49: =SUM(G42:G48) -> 313 | H49: =SUM(H42:H48) -> 68 | I49: =SUM(I42:I48) -> 1768 | J49: 0 | K49: 0 | L49: =SUM(L42:L48) -> 80 | M49: =SUM(M42:M48) -> 3111 | N49: =SUM(N42:N48) -> 1 | O49: =SUM(O42:O48) -> 515 | P49: =SUM(P42:P48) -> 3 | Q49: =SUM(Q42:Q48) -> 56
A53: DATA BANCIAN - DAERAH PORT DICKSON
A54: TAHUN 2019
A56: DAERAH | B56: Lembu Pedaging | D56: Lembu Tenusu | F56: Kerbau | H56: Kambing | J56: Kambing Susu | L56: Bebiri | N56: Rusa
B57: Penternak | C57: Ternakan | D57: Penternak | E57: Ternakan | F57: Penternak | G57: Ternakan | H57: Penternak | I57: Ternakan | J57: Penternak | K57: Ternakan | L57: Penternak | M57: Ternakan | N57: Penternak | O57: Ternakan
A58: Jimah | B58: 26 | C58: 1008 | D58: 23 | E58: 750 | F58: 3 | G58: 54 | H58: 34 | I58: 1173 | L58: 8 | M58: 355
A59: Linggi | B59: 14 | C59: 396 | D59: 3 | E59: 100 | H59: 14 | I59: 469 | L59: 5 | M59: 154 | N59: 1 | O59: 14
A60: Port Dickson | B60: 3 | C60: 200 | D60: 1 | E60: 20 | H60: 5 | I60: 171
A61: Pasir Panjang | B61: 10 | C61: 219 | D61: 1 | E61: 40 | H61: 14 | I61: 506 | L61: 3 | M61: 169
A62: Sirusa | B62: 20 | C62: 1265 | F62: 1 | G62: 10 | H62: 6 | I62: 213 | L62: 3 | M62: 185 | N62: 1 | O62: 15
A63: Chuah
A64: Rantau
A65: Jumlah | B65: =SUM(B58:B64) -> 73 | C65: =SUM(C58:C64) -> 3088 | D65: =SUM(D58:D64) -> 28 | E65: =SUM(E58:E64) -> 910 | F65: =SUM(F58:F64) -> 4 | G65: =SUM(G58:G64) -> 64 | H65: =SUM(H58:H64) -> 73 | I65: =SUM(I58:I64) -> 2532 | J65: 0 | K65: 0 | L65: =SUM(L58:L64) -> 19 | M65: =SUM(M58:M64) -> 863 | N65: =SUM(N58:N64) -> 2 | O65: =SUM(O58:O64) -> 29
A69: DATA BANCIAN - DAERAH SEREMBAN
A70: TAHUN 2019
A72: DAERAH | B72: Lembu Pedaging | D72: Lembu Tenusu | F72: Kerbau | H72: Kambing | J72: Kambing Tenusu | L72: Bebiri | N72: Rusa
B73: Penternak | C73: Ternakan | D73: Penternak | E73: Ternakan | F73: Penternak | G73: Ternakan | H73: Penternak | I73: Ternakan | J73: Penternak | K73: Ternakan | L73: Penternak | M73: Ternakan | N73: Penternak | O73: Ternakan
A74: Ampangan | B74: 1 | C74: 62 | H74: 5 | I74: 131 | J74: 1 | K74: 25 | L74: 2 | M74: 10
A75: Labu | B75: 11 | C75: 307 | D75: 4 | E75: 211 | F75: 4 | G75: 63 | H75: 13 | I75: 276
A76: Lenggeng | B76: 9 | C76: 269 | D76: 4 | E76: 194 | F76: 4 | G76: 83 | H76: 10 | I76: 350 | J76: 1 | K76: 20 | L76: 9 | M76: 330 | N76: 1 | O76: 40
A77: Rantau | B77: 26 | C77: 1646 | D77: 16 | E77: 596 | F77: 5 | G77: 254 | H77: 30 | I77: 579 | L77: 5 | M77: 108 | N77: 1 | O77: 170
A78: Rasah | B78: 2 | C78: 28 | H78: 1 | I78: 18
A79: Seremban | D79: 1 | E79: 46 | H79: 2 | I79: 40
A80: Nilai | H80: 1 | I80: 30
A81: Sikamat | L81: 1 | M81: 27
A82: Setul | B82: 2 | C82: 151 | D82: 1 | E82: 27 | F82: 2 | G82: 70 | H82: 4 | I82: 74
A83: Pantai | B83: 3 | C83: 92 | F83: 1 | G83: 6 | H83: 4 | I83: 93 | L83: 2 | M83: 39 | N83: 1 | O83: 59
A84: Jumlah | B84: =SUM(B74:B83) -> 54 | C84: =SUM(C74:C83) -> 2555 | D84: =SUM(D74:D83) -> 26 | E84: =SUM(E74:E83) -> 1074 | F84: =SUM(F74:F83) -> 16 | G84: =SUM(G74:G83) -> 476 | H84: =SUM(H74:H83) -> 70 | I84: =SUM(I74:I83) -> 1591 | ... O84: =SUM(O74:O83) -> 269
A88: DATA BANCIAN - DAERAH KUALA PILAH
A89: TAHUN 2019
A91: DAERAH | B91: Lembu Pedaging | D91: Lembu Tenusu | F91: Kerbau | H91: Kambing | J91: Kambing Susu | L91: Bebiri | N91: Rusa
B92: Penternak | C92: Ternakan | D92: Penternak | E92: Ternakan | F92: Penternak | G92: Ternakan | H92: Penternak | I92: Ternakan | J92: Penternak | K92: Ternakan | L92: Penternak | M92: Ternakan | N92: Penternak | O92: Ternakan
A93: Juasseh | B93: 6 | C93: 207 | D93: 1 | E93: 275 | H93: 15 | I93: 448 | L93: 21 | M93: 519 | N93: 1 | O93: 378
A94: Pilah | B94: 15 | C94: 303 | D94: 1 | E94: 11 | H94: 40 | I94: 806 | L94: 31 | M94: 580 | N94: 1 | O94: 10
A95: Johol | B95: 6 | C95: 254 | D95: 2 | E95: 42 | F95: 3 | G95: 23 | H95: 9 | I95: 213 | L95: 17 | M95: 407 | N95: 1 | O95: 7
A96: Ampang Tinggi | B96: 7 | C96: 170 | H96: 19 | I96: 434 | L96: 14 | M96: 547 | N96: 1 | O96: 45
A97: Kepis | B97: 4 | C97: 190 | F97: 3 | G97: 50 | H97: 10 | I97: 188 | L97: 7 | M97: 197
A98: Seri Menanti | B98: 6 | C98: 174 | H98: 20 | I98: 372 | L98: 19 | M98: 346
A99: Terachi | B99: 6 | C99: 125 | F99: 2 | G99: 37 | H99: 34 | I99: 676 | L99: 22 | M99: 508 | N99: 1 | O99: 15
A100: Ulu Muar | B100: 5 | C100: 165 | H100: 22 | I100: 438 | L100: 21 | M100: 554
A101: Hulu Jempol | B101: 12 | C101: 303 | H101: 17 | I101: 415 | L101: 18 | M101: 371
A102: Jumlah | B102: =SUM(B93:B101) -> 67 | C102: =SUM(C93:C101) -> 1891 | D102: =SUM(D93:D101) -> 4 | E102: =SUM(E93:E101) -> 328 | F102: =SUM(F93:F101) -> 8 | G102: =SUM(G93:G101) -> 110 | H102: =SUM(H93:H101) -> 186 | I102: =SUM(I93:I101) -> 3990 | J102: 0 | K102: 0 | N102: =SUM(N93:N101) -> 5 | O102: =SUM(O93:O101) -> 455
A106: DATA BANCIAN - DAERAH REMBAU
A107: TAHUN 2019
A109: DAERAH | B109: Lembu Pedaging | D109: Lembu Tenusu | F109: Kerbau | H109: Kambing | J109: Kambing Tenusu | L109: Bebiri | N109: Rusa
B110: Penternak | C110: Ternakan | D110: Penternak | E110: Ternakan | F110: Penternak | G110: Ternakan | H110: Penternak | I110: Ternakan | J110: Penternak | K110: Ternakan | L110: Penternak | M110: Ternakan | N110: Penternak | O110: Ternakan
A111: Batu Hampar | B111: 8 | C111: 224 | F111: 2 | G111: 17 | H111: 3 | I111: 36
A112: Bongek | B112: 1 | C112: 19
A113: Chembong | B113: 8 | C113: 165 | F113: 1 | G113: 48 | H113: 1 | I113: 15
A114: Chengkau | B114: 8 | C114: 147 | H114: 10 | I114: 276 | L114: 4 | M114: 109 | N114: 1 | O114: 5
A115: Gadong | B115: 8 | C115: 507 | D115: 1 | E115: 100 | F115: 2 | G115: 111 | H115: 12 | I115: 236 | L115: 4 | M115: 60
A116: Kundur | B116: 6 | C116: 155 | F116: 1 | G116: 16 | H116: 2 | I116: 29 | L116: 1 | M116: 15
A117: Legong Hilir | B117: 4 | C117: 174 | H117: 7 | I117: 100 | L117: 8 | M117: 195
A118: Legong Ulu | L118: 1 | M118: 55
A119: Miku | H119: 1 | I119: 4 | L119: 1 | M119: 4
A120: Nerasau | B120: 3 | C120: 63 | F120: 1 | G120: 7 | H120: 1 | I120: 11
A121: Pedas | B121: 15 | C121: 410 | D121: 1 | E121: 7 | F121: 6 | G121: 278 | H121: 10 | I121: 216 | J121: 1 | K121: 117 | L121: 3 | M121: 32
A122: Pilin | B122: 2 | C122: 260 | H122: 4 | I122: 172 | L122: 1 | M122: 10
A123: Selemak | B123: 6 | C123: 196 | H123: 3 | I123: 33 | L123: 3 | M123: 66
A124: Semerbok | B124: 2 | C124: 665
A125: Seperi | B125: 6 | C125: 357 | F125: 1 | G125: 6 | H125: 3 | I125: 53 | L125: 4 | M125: 142
A126: Tanjung Keling | B126: 5 | C126: 74 | F126: 3 | G126: 22 | H126: 7 | I126: 98 | L126: 4 | M126: 26
...

Sheet mukim anika haiwan
A1: BANCIAN ANEKA HAIWAN & ANEKA UNGGAS MENGIKUT MUKIM
T2: DAERAH REMBAU
U3: TAHUN 2023
A5: Mukim / Spesis | B5: Puyuh Daging | D5: Puyuh Baka | F5: Puyuh Penelur | H5: kuda | J5: Arnab | L5: Rusa | N5: Ostrich | P5: Belanda | R5: Angsa | T5: Api-api | V5: Merpati | X5: Katak | Z5: Serama | AB5: Walit | AD5: Babi | AF5: Merak | AH5: Unta | AJ5: Mutiara | AL5: Kuang | AN5: Landak | AP5: Ayam Turki | AR5: Ayam Selasih | AT5: Ayam Katek | AV5: Labi-Labi | AX5: Ayam Piru
B6: Ter | C6: Pen | D6: Ter | E6: Pen | F6: Ter | G6: Pen | H6: Ter | I6: Pen | J6: Ter | K6: Pen | L6: Ter | M6: Pen | N6: Ter | O6: Pen | P6: Ter | Q6: Pen | R6: Ter | S6: Pen | T6: Ter | U6: Pen | V6: Ter | W6: Pen | X6: Ter | Y6: Pen | Z6: Ter | AA6: Pen | AB6: Ter | AC6: Pen | AD6: Ter | AE6: Pen | AF6: Ter | AG6: Pen | AH6: Ter | AI6: Pen | AJ6: Ter | AK6: Pen | AL6: Ter | AM6: Pen | AN6: Ter | AO6: Pen | AP6: Ter | AQ6: Pen | AR6: Ter | AS6: Pen | AT6: Ter | AU6: Pen | AV6: Ter | AW6: Pen | AX6: Ter | AY6: Pen
A7: Batu Hampar | J7: 30 | K7: 1
A8: Chengkau | L8: 11 | M8: 1
A9: Gadong | AB9: 0 | AC9: 1
A10: Senama | R10: 8 | S10: 1 | AX10: 0 | AY10: 0
A11: Kundur | AB11: 0 | AC11: 2
A12: Selemak | R12: 0 | S12: 0 | AX12: 55 | AY12: 1
A13: Pedas | L13: 11 | M13: 1 | R13: 6 | S13: 1
A14: Legong Hilir | J14: 2 | K14: 1 | R14: 3 | S14: 1
A15: Nerasau | R15: 0 | S15: 0
A16: Tanjong Keling | R16: 6 | S16: 1
A17: Ttitian Bintangor | B17: 150000 | C17: 1 | H17: 86 | I17: 2 | J17: 53 | K17: 1 | R17: 8 | S17: 1
A18: Bongek | H18: 2 | I18: 2 | R18: 20 | S18: 1
A19: Jumlah | B19: =SUM(B7:B18) -> 150000 | C19: =SUM(C7:C18) -> 1 | D19: 0 | E19: 0 | F19: 0 | G19: 0 | H19: =SUM(H7:H18) -> 88 | I19: =SUM(I7:I18) -> 4 | J19: =SUM(J7:J18) -> 85 | K19: =SUM(K7:K18) -> 3 | L19: =SUM(L7:L18) -> 22 | M19: =SUM(M7:M18) -> 2 | N19: 0 | O19: 0 | P19: =SUM(P7:P18) -> 0 | Q19: =SUM(Q7:Q18) -> 0 | R19: =SUM(R7:R18) -> 51 | S19: =SUM(S7:S18) -> 6 | T19: 0 | U19: 0 | V19: 0 | W19: 0 | X19: 0 | Y19: 0 | Z19: 0 | AA19: 0 | AB19: 0 | AC19: =SUM(AC7:AC18) -> 3 | AD19: 0 | AE19: 0 | AF19: 0 | AG19: 0 | AH19: 0 | AI19: 0 | AJ19: 0 | AK19: 0 | AL19: 0 | AM19: 0 | AN19: 0 | AO19: 0 | AP19: 0 | AQ19: 0 | AR19: 0 | AS19: 0 | AT19: 0 | AU19: 0 | AV19: 0 | AW19: 0 | AX19: =SUM(AX7:AX18) -> 55 | AY19: =SUM(AY7:AY18) -> 1
R20: (4 TDK AKTIF)
A23: BANCIAN ANEKA HAIWAN & ANEKA UNGGAS MENGIKUT MUKIM
T24: DAERAH JELEBU
T25: TAHUN 2023
A27: Mukim / Spesis | B27: Puyuh Daging | D27: Puyuh Baka | F27: Puyuh Penelur | H27: kuda | J27: Arnab | L27: Rusa | N27: Ostrich | P27: Belanda | R27: Angsa | T27: Api-api | V27: Merpati | X27: Katak | Z27: Serama | AB27: Walit | AD27: Babi | AF27: Merak | AH27: Unta | AJ27: Mutiara | AL27: Kuang | AN27: Landak | AP27: Ayam Turki | AR27: Ayam Selasih | AT27: Ayam Katek | AV27: Labi-Labi | AX27: Ayam Piru
B28: Ter | C28: Pen | D28: Ter | E28: Pen | F28: Ter | G28: Pen | H28: Ter | I28: Pen | J28: Ter | K28: Pen | L28: Ter | M28: Pen | N28: Ter | O28: Pen | P28: Ter | Q28: Pen | R28: Ter | S28: Pen | T28: Ter | U28: Pen | V28: Ter | W28: Pen | X28: Ter | Y28: Pen | Z28: Ter | AA28: Pen | AB28: Ter | AC28: Pen | AD28: Ter | AE28: Pen | AF28: Ter | AG28: Pen | AH28: Ter | AI28: Pen | AJ28: Ter | AK28: Pen | AL28: Ter | AM28: Pen | AN28: Ter | AO28: Pen | AP28: Ter | AQ28: Pen | AR28: Ter | AS28: Pen | AT28: Ter | AU28: Pen | AV28: Ter | AW28: Pen | AX28: Ter | AY28: Pen
A29: Hulu Klawang | L29: 10 | M29: 2
A30: Kenaboi | L30: 24 | M30: 1
A31: Hulu Teriang | J31: 100 | K31: 1 | AB31: 0 | AC31: 2
A32: Peradong | J32: 50 | K32: 1
A33: Kuala Klawang | J33: 350 | K33: 2
A34: Pertang | L34: 6 | M34: 2 | AB34: 0 | AC34: 4
A35: Teriang Hilir
A36: Jelai
A37: Gelami Lemi | AB37: 0 | AC37: 7
A38: Jumlah | B38: 0 | C38: 0 | D38: 0 | E38: 0 | F38: 0 | G38: 0 | H38: =SUM(H29:H37) -> 0 | I38: =SUM(I29:I37) -> 0 | J38: =SUM(J29:J37) -> 500 | K38: =SUM(K29:K37) -> 4 | L38: =SUM(L29:L37) -> 40 | M38: =SUM(M29:M37) -> 5 | N38: 0 | O38: 0 | P38: 0 | Q38: 0 | R38: 0 | S38: 0 | T38: 0 | U38: 0 | V38: 0 | W38: 0 | X38: 0 | Y38: 0 | Z38: 0 | AA38: 0 | AB38: 0 | AC38: =SUM(AC29:AC37) -> 13 | AD38: 0 | AE38: 0 | AF38: 0 | AG38: 0 | AH38: 0 | AI38: 0 | AJ38: 0 | AK38: 0 | AL38: 0 | AM38: 0 | AN38: 0 | AO38: 0 | AP38: 0 | AQ38: 0 | AR38: 0 | AS38: 0 | AT38: 0 | AU38: 0 | AV38: 0 | AW38: 0 | AX38: 0 | AY38: 0
J39: (4 TDK AKTIF) | L39: (1 TDK AKTIF)
A65: BANCIAN ANEKA HAIWAN & ANEKA UNGGAS MENGIKUT MUKIM
Q66: DAERAH JEMPOL
T67: TAHUN 2023
A69: Mukim / Spesis | B69: Puyuh Daging | D69: Puyuh Baka | F69: Puyuh Penelur | H69: kuda | J69: Arnab | L69: Rusa | N69: Ostrich | P69: Belanda | R69: Angsa | T69: Api-api | V69: Merpati | X69: Katak | Z69: Serama | AB69: Walit | AD69: Babi | AF69: Merak | AH69: Unta | AJ69: Mutiara | AL69: Kuang | AN69: Landak | AP69: Ayam Turki | AR69: Ayam Selasih | AT69: Ayam Katek | AV69: Labi-Labi | AX69: Ayam Piru
B70: Ter | C70: Pen | D70: Ter | E70: Pen | F70: Ter | G70: Pen | H70: Ter | I70: Pen | J70: Ter | K70: Pen | L70: Ter | M70: Pen | N70: Ter | O70: Pen | P70: Ter | Q70: Pen | R70: Ter | S70: Pen | T70: Ter | U70: Pen | V70: Ter | W70: Pen | X70: Ter | Y70: Pen | Z70: Ter | AA70: Pen | AB70: Ter | AC70: Pen | AD70: Ter | AE70: Pen | AF70: Ter | AG70: Pen | AH70: Ter | AI70: Pen | AJ70: Ter | AK70: Pen | AL70: Ter | AM70: Pen | AN70: Ter | AO70: Pen | AP70: Ter | AQ70: Pen | AR70: Ter | AS70: Pen | AT70: Ter | AU70: Pen | AV70: Ter | AW70: Pen | AX70: Ter | AY70: Pen
A71: Serting Hulu | B71: 500 | C71: 1 | L71: 3 | M71: 1 | AB71: 0 | AC71: 3 | AN71: 0 | AO71: 0
A72: Serting Hilir | J72: 0 | K72: 0 | L72: 14 | M72: 1 | AB72: 0 | AC72: 19 | AN72: 10 | AO72: 1
A73: Jelai | AB73: 0 | AC73: 42
A74: Rompin | J74: 758 | K74: 3 | L74: 32 | M74: 2 | R74: 0 | S74: 0 | AB74: 0 | AC74: 30
A75: Kuala Jempol | R75: 18 | S75: 1 | AB75: 0 | AC75: 8
A76: Bahau | AJ76: 2 | AK76: 1
A77: Palong | L77: 15 | M77: 1
A78: Jumlah | B78: =SUM(B71:B75) -> 500 | C78: =SUM(C71:C75) -> 1 | D78: 0 | E78: 0 | F78: 0 | G78: 0 | H78: =SUM(H71:H75) -> 0 | I78: =SUM(I71:I75) -> 0 | J78: =SUM(J71:J75) -> 758 | K78: =SUM(K71:K75) -> 3 | L78: =SUM(L71:L77) -> 64 | M78: =SUM(M71:M77) -> 5 | N78: 0 | O78: 0 | P78: 0 | Q78: 0 | R78: =SUM(R71:R75) -> 18 | S78: =SUM(S71:S75) -> 1 | T78: 0 | U78: 0 | V78: 0 | W78: 0 | X78: 0 | Y78: 0 | Z78: 0 | AA78: 0 | AB78: 0 | AC78: =SUM(AC71:AC77) -> 102 | AD78: 0 | AE78: 0 | AF78: 0 | AG78: 0 | AH78: 0 | AI78: 0 | AJ78: =SUM(AJ71:AJ77) -> 2 | AK78: =SUM(AK71:AK77) -> 1 | AL78: 0 | AM78: 0 | AN78: =SUM(AN71:AN75) -> 10 | AO78: =SUM(AO71:AO75) -> 1 | AP78: 0 | AQ78: 0 | AR78: 0 | AS78: 0 | AT78: 0 | AU78: 0 | AV78: 0 | AW78: 0 | AX78: 0 | AY78: 0
J79: (12 TDK AKTIF) | L79: (1 TDK AKTIF) | R79: (1 TDK AKTIF) | AN79: (1 TDK AKTIF)
A84: BANCIAN ANEKA HAIWAN & ANEKA UNGGAS MENGIKUT MUKIM
S85: DAERAH KUALA PILAH
S86: TAHUN 2023
A88: Mukim / Spesis | B88: Puyuh Daging | D88: Puyuh Baka | F88: Puyuh Penelur | H88: kuda | J88: Arnab | L88: Rusa | N88: Ostrich | P88: Belanda | R88: Angsa | T88: Api-api | V88: Merpati | X88: Katak | Z88: Serama | AB88: Walit | AD88: Babi | AF88: Merak | AH88: Unta | AJ88: Mutiara | AL88: Kuang | AN88: Landak | AP88: Ayam Turki | AR88: Ayam Selasih | AT88: Ayam Katek | AV88: Labi-Labi | AX88: Ayam Piru
B89: Ter | C89: Pen | D89: Ter | E89: Pen | F89: Ter | G89: Pen | H89: Ter | I89: Pen | J89: Ter | K89: Pen | L89: Ter | M89: Pen | N89: Ter | O89: Pen | P89: Ter | Q89: Pen | R89: Ter | S89: Pen | T89: Ter | U89: Pen | V89: Ter | W89: Pen | X89: Ter | Y89: Pen | Z89: Ter | AA89: Pen | AB89: Ter | AC89: Pen | AD89: Ter | AE89: Pen | AF89: Ter | AG89: Pen | AH89: Ter | AI89: Pen | AJ89: Ter | AK89: Pen | AL89: Ter | AM89: Pen | AN89: Ter | AO89: Pen | AP89: Ter | AQ89: Pen | AR89: Ter | AS89: Pen | AT89: Ter | AU89: Pen | AV89: Ter | AW89: Pen | AX89: Ter | AY89: Pen
A90: Juasseh | H90: 9 | I90: 1 | L90: 4 | M90: 1 | AB90: 0 | AC90: 6
A91: Terachi
A92: Hulu Jempol
A93: Hulu Muar | J93: 20 | K93: 1
A94: Johol
A95: Pilah | J95: 10 | K95: 1 | L95: 4 | M95: 1 | N95: 3 | O95: 1 | AJ95: 6 | AK95: 1
A96: Sri Menanti | H96: 11 | I96: 1 | R96: 6 | S96: 1 | AF96: 1 | AG96: 1 | AJ96: 50 | AK96: 1
A97: Senaling
A98: Ampang Tinggi
A99: Jumlah | B99: =SUM(B90:B98) -> 0 | C99: =SUM(C90:C98) -> 0 | D99: 0 | E99: 0 | F99: =SUM(F90:F98) -> 0 | G99: =SUM(G90:G98) -> 0 | H99: =SUM(H90:H98) -> 20 | I99: =SUM(I90:I98) -> 2 | J99: =SUM(J90:J98) -> 30 | K99: =SUM(K90:K98) -> 2 | L99: =SUM(L90:L98) -> 8 | M99: =SUM(M90:M98) -> 2 | ... AA99: =SUM(AA90:AA98) -> 0 | AB99: 0 | AC99: =SUM(AC90:AC98) -> 6 | AD99: 0 | AE99: 0 | AF99: =SUM(AF90:AF98) -> 1 | AG99: =SUM(AG90:AG98) -> 1 | AH99: 0 | AI99: 0 | AJ99: =SUM(AJ90:AJ98) -> 56 | AK99: =SUM(AK90:AK98) -> 2 | AL99: =SUM(AL90:AL98) -> 0 | AM99: =SUM(AM90:AM98) -> 0 | AN99: 0 | AO99: 0 | AP99: =SUM(AP90:AP98) -> 0 | AQ99: =SUM(AQ90:AQ98) -> 0 | AR99: =SUM(AR90:AR98) -> 0 | AS99: =SUM(AS90:AS98) -> 0 | AT99: =SUM(AT90:AT98) -> 0 | AU99: =SUM(AU90:AU98) -> 0 | AV99: 0 | AW99: 0 | AX99: =SUM(AX90:AX98) -> 0 | AY99: =SUM(AY90:AY98) -> 0
A134: BANCIAN ANEKA HAIWAN & ANEKA UNGGAS MENGIKUT MUKIM
S135: DAERAH SEREMBAN
U136: TAHUN 2023
A138: Mukim / Spesis | B138: Puyuh Daging | D138: Puyuh Baka | F138: Puyuh Penelur | H138: kuda | J138: Arnab | L138: Rusa | N138: Ostrich | P138: Belanda | R138: Angsa | T138: Api-api | V138: Merpati | X138: Katak | Z138: Serama | AB138: Walit | AD138: Babi | AF138: Merak | AH138: Unta | AJ138: Mutiara | AL138: Kuang | AN138: Landak | AP138: Ayam Turki | AR138: Ayam Selasih | AT138: Ayam Katek | AV138: Labi-Labi | AX138: Ayam Piru
B139: Ter | C139: Pen | D139: Ter | E139: Pen | F139: Ter | G139: Pen | H139: Ter | I139: Pen | J139: Ter | K139: Pen | L139: Ter | M139: Pen | N139: Ter | O139: Pen | P139: Ter | Q139: Pen | R139: Ter | S139: Pen | T139: Ter | U139: Pen | V139: Ter | W139: Pen | X139: Ter | Y139: Pen | Z139: Ter | AA139: Pen | AB139: Ter | AC139: Pen | AD139: Ter | AE139: Pen | AF139: Ter | AG139: Pen | AH139: Ter | AI139: Pen | AJ139: Ter | AK139: Pen | AL139: Ter | AM139: Pen | AN139: Ter | AO139: Pen | AP139: Ter | AQ139: Pen | AR139: Ter | AS139: Pen | AT139: Ter | AU139: Pen | AV139: Ter | AW139: Pen | AX139: Ter | AY139: Pen
A140: Pantai | H140: 19 | I140: 2 | L140: 68 | M140: 1 | N140: 6 | O140: 1
A141: Paroi
A142: Lenggeng | B142: 800 | C142: 1 | H142: 22 | I142: 2 | J142: 4600 | K142: 2 | L142: 137 | M142: 2 | R142: 30 | S142: 2 | AB142: 0 | AC142: 13 | AX142: 51 | AY142: 2
A143: Labu | H143: 19 | I143: 1 | J143: 0 | K143: 0 | AB143: 0 | AC143: 13 | AX143: 60 | AY143: 1
A144: Seremban | AB144: 0 | AC144: 34
A145: Setul | R145: 900 | S145: 1 | AB145: 0 | AC145: 9
A146: Ampangan | AB146: 0 | AC146: 4
A147: Rantau | B147: 600 | C147: 1 | D147: 0 | E147: 0 | J147: 80 | K147: 1 | L147: 55 | M147: 1 | AB147: 0 | AC147: 9
A148: Mambau
A149: Rasah | H149: 12 | I149: 1 | R149: 50 | S149: 1 | AB149: 0 | AC149: 41 | AX149: 120 | AY149: 2
A150: Jumlah | B150: =SUM(B140:B149) -> 1400 | C150: =SUM(C140:C149) -> 2 | D150: =SUM(D140:D149) -> 0 | E150: =SUM(E140:E149) -> 0 | F150: 0 | G150: 0 | H150: =SUM(H140:H149) -> 72 | I150: =SUM(I140:I149) -> 6 | J150: =SUM(J140:J149) -> 4680 | K150: =SUM(K140:K149) -> 3 | L150: =SUM(L140:L149) -> 260 | M150: =SUM(M140:M149) -> 4 | N150: =SUM(N140:N149) -> 6 | O150: =SUM(O140:O149) -> 1 | ... S150: =SUM(S140:S149) -> 4 | T150: 0 | U150: 0 | V150: 0 | W150: 0 | X150: 0 | Y150: 0 | Z150: 0 | AA150: 0 | AB150: 0 | AC150: =SUM(AC140:AC149) -> 123 | AD150: 0 | AE150: 0 | AF150: =SUM(AF140:AF149) -> 0 | AG150: =SUM(AG140:AG149) -> 0 | AH150: 0 | AI150: 0 | AJ150: =SUM(AJ140:AJ149) -> 0 | AK150: =SUM(AK140:AK149) -> 0 | AL150: 0 | AM150: 0 | AN150: 0 | AO150: 0 | AP150: 0 | AQ150: 0 | AR150: 0 | AS150: 0 | AT150: 0 | AU150: 0 | AV150: 0 | AW150: 0 | AX150: =SUM(AX140:AX149) -> 231 | AY150: =SUM(AY140:AY149) -> 5
A155: BANCIAN ANEKA HAIWAN & ANEKA UNGGAS MENGIKUT MUKIM
T156: DAERAH TAMPIN
T157: TAHUN 2023
A159: Mukim / Spesis | B159: Puyuh Daging | D159: Puyuh Baka | F159: Puyuh Penelur | H159: kuda | J159: Arnab | L159: Rusa | N159: Ostrich | P159: Belanda | R159: Angsa | T159: Api-api | V159: Merpati | X159: Katak | Z159: Serama | AB159: Walit | AD159: Babi | AF159: Merak | AH159: Unta | AJ159: Mutiara | AL159: Kuang | AN159: Landak | AP159: Ayam Turki | AR159: Ayam Selasih | AT159: Ayam Katek | AV159: Labi-Labi | AX159: Ayam Piru
B160: Ter | C160: Pen | D160: Ter | E160: Pen | F160: Ter | G160: Pen | H160: Ter | I160: Pen | J160: Ter | K160: Pen | L160: Ter | M160: Pen | N160: Ter | O160: Pen | P160: Ter | Q160: Pen | R160: Ter | S160: Pen | T160: Ter | U160: Pen | V160: Ter | W160: Pen | X160: Ter | Y160: Pen | Z160: Ter | AA160: Pen | AB160: Ter | AC160: Pen | AD160: Ter | AE160: Pen | AF160: Ter | AG160: Pen | AH160: Ter | AI160: Pen | AJ160: Ter | AK160: Pen | AL160: Ter | AM160: Pen | AN160: Ter | AO160: Pen | AP160: Ter | AQ160: Pen | AR160: Ter | AS160: Pen | AT160: Ter | AU160: Pen | AV160: Ter | AW160: Pen | AX160: Ter | AY160: Pen
A161: Air Kuning | AD161: 890 | AE161: 1
A162: Gemas | J162: 860 | K162: 1 | L162: 8 | M162: 1 | R162: 16 | S162: 2 | AB162: 0 | AC162: 1
A163: Gemencheh | L163: 26 | M163: 2 | R163: 12 | S163: 3 | AB163: 0 | AC163: 6
A164: Keru | AB164: 0 | AC164: 2
A165: Repah | R165: 20 | S165: 4 | AB165: 0 | AC165: 1
A166: Tebong | L166: 25 | M166: 1 | R166: 5 | S166: 1
A167: Tampin Tengah | R167: 4 | S167: 1 | AB167: 0 | AC167: 14
A168: Jumlah | B168: 0 | C168: 0 | D168: 0 | E168: 0 | F168: 0 | G168: 0 | H168: =SUM(H161:H167) -> 0 | I168: =SUM(I161:I167) -> 0 | J168: =SUM(J161:J167) -> 860 | K168: =SUM(K161:K167) -> 1 | L168: =SUM(L161:L167) -> 59 | M168: =SUM(M161:M167) -> 4 | N168: 0 | O168: 0 | P168: 0 | Q168: 0 | R168: =SUM(R161:R167) -> 57 | S168: =SUM(S161:S167) -> 11 | T168: 0 | U168: 0 | V168: 0 | W168: 0 | X168: 0 | Y168: 0 | Z168: 0 | AA168: 0 | AB168: 0 | AC168: =SUM(AC161:AC167) -> 24 | AD168: =SUM(AD161:AD167) -> 890 | AE168: =SUM(AE161:AE167) -> 1 | AF168: 0 | AG168: 0 | AH168: 0 | AI168: 0 | AJ168: =SUM(AJ161:AJ167) -> 0 | AK168: =SUM(AK161:AK167) -> 0 | AL168: 0 | AM168: 0 | AN168: 0 | AO168: 0 | AP168: 0 | AQ168: 0 | AR168: 0 | AS168: 0 | AT168: 0 | AU168: 0 | AV168: 0 | AW168: 0 | AX168: 0 | AY168: 0
A195: BANCIAN ANEKA HAIWAN & ANEKA UNGGAS MENGIKUT MUKIM
R196: DAERAH PORT DICKSON
S197: TAHUN 2023
A199: Mukim / Spesis | B199: Puyuh Daging | D199: Puyuh Baka | F199: Puyuh Penelur | H199: kuda | J199: Arnab | L199: Rusa | N199: Ostrich | P199: Belanda | R199: Angsa | T199: Api-api | V199: Merpati | X199: Katak | Z199: Ayam Serama | AB199: Walit | AD199: Babi | AF199: Merak | AH199: Unta | AJ199: Ayam Mutiara | AL199: Kuang | AN199: Landak | AP199: Ayam Turki | AR199: Ayam Selasih | AT199: Ayam Katek | AV199: Labi-Labi | AX199: Ayam Piru
B200: Ter | C200: Pen | D200: Ter | E200: Pen | F200: Ter | G200: Pen | H200: Ter | I200: Pen | J200: Ter | K200: Pen | L200: Ter | M200: Pen | N200: Ter | O200: Pen | P200: Ter | Q200: Pen | R200: Ter | S200: Pen | T200: Ter | U200: Pen | V200: Ter | W200: Pen | X200: Ter | Y200: Pen | Z200: Ter | AA200: Pen | AB200: Ter | AC200: Pen | AD200: Ter | AE200: Pen | AF200: Ter | AG200: Pen | AH200: Ter | AI200: Pen | AJ200: Ter | AK200: Pen | AL200: Ter | AM200: Pen | AN200: Ter | AO200: Pen | AP200: Ter | AQ200: Pen | AR200: Ter | AS200: Pen | AT200: Ter | AU200: Pen | AV200: Ter | AW200: Pen | AX200: Ter | AY200: Pen
A201: Port Dickson | J201: 278 | K201: 3 | N201: 1 | O201: 1 | R201: 100 | S201: 2 | AX201: 30 | AY201: 1
A202: Jimah | H202: 6 | I202: 1 | J202: 70 | K202: 2 | AB202: 0 | AC202: 10
...

Sheet ringkasan saiz ayam
A2: RINGKASAN SAIZ LADANG MENGIKUT KAPASITI LADANG AYAM PEDAGING
A3: TAHUN 2023
A5: Daerah | B5: Seremban | D5: Jelebu | F5: Rembau | H5: K. Pilah | J5: Jempol | L5: Tampin | N5: P. Dickson | P5: Jumlah
B6: Bil. Ladang | C6: Populasi | D6: Bil.Ladang | E6: Populasi | F6: Bil.Ladang | G6: Populasi | H6: Bil.Ladang | I6: Populasi | J6: Bil.Ladang | K6: Populasi | L6: Bil.Ladang | M6: Populasi | N6: Bil.Ladang | O6: Populasi | P6: Bil.Ladang | Q6: Populasi
A7: 500
A8: 1,000 - 10,000 | D8: 1 | E8: 10000 | L8: 1 | M8: 3000 | N8: 4 | O8: 37000 | P8: =+B8+D8+F8+H8+J8+L8+N8 -> 6 | Q8: =+C8+E8+G8+I8+K8+M8+O8 -> 50000
A9: 10,001 - 15,000 | J9: 1 | K9: 11000 | N9: 6 | O9: 85000 | P9: =+B9+D9+F9+H9+J9+L9+N9 -> 7 | Q9: =+C9+E9+G9+I9+K9+M9+O9 -> 96000
A10: 15,001 - 20,000 | B10: 1 | C10: 40000 | D10: 1 | E10: 20000 | J10: 1 | K10: 16000 | N10: 13 | O10: 239000 | P10: =+B10+D10+F10+H10+J10+L10+N10 -> 16 | Q10: =+C10+E10+G10+I10+K10+M10+O10 -> 315000
A11: 20,001 - 30,000 | D11: 1 | E11: 30000 | F11: 1 | G11: 24500 | J11: 2 | K11: 53000 | L11: 1 | M11: 23000 | N11: 3 | O11: 77000 | P11: =+B11+D11+F11+H11+J11+L11+N11 -> 8 | Q11: =+C11+E11+G11+I11+K11+M11+O11 -> 207500
A12: 30,001 - 40,000 | B12: 2 | C12: 75000 | D12: 2 | E12: 72000 | F12: 1 | G12: 40000 | H12: 1 | I12: 40000 | L12: 2 | M12: 67000 | N12: 5 | O12: 169000 | P12: =+B12+D12+F12+H12+J12+L12+N12 -> 13 | Q12: =+C12+E12+G12+I12+K12+M12+O12 -> 463000
A13: 40,001 - 50,000 | B13: 3 | C13: 140000 | D13: 1 | E13: 42000 | F13: 1 | G13: 50000 | J13: 5 | K13: 235000 | L13: 1 | M13: 50000 | N13: 2 | O13: 100000 | P13: =+B13+D13+F13+H13+J13+L13+N13 -> 13 | Q13: =+C13+E13+G13+I13+K13+M13+O13 -> 617000
A14: 50,001 - 60,000 | B14: 1 | C14: 52000 | D14: 2 | E14: 109000 | F14: 3 | G14: 176000 | J14: 1 | K14: 58000 | N14: 1 | O14: 60000 | P14: =+B14+D14+F14+H14+J14+L14+N14 -> 8 | Q14: =+C14+E14+G14+I14+K14+M14+O14 -> 455000
A15: 60,001 - 70,000 | J15: 1 | K15: 66000 | L15: 2 | M15: 140000 | N15: 8 | O15: 529000 | P15: =+B15+D15+F15+H15+J15+L15+N15 -> 11 | Q15: =+C15+E15+G15+I15+K15+M15+O15 -> 735000
A16: 70,001 - 80,000 | B16: 1 | C16: 80000 | D16: 1 | E16: 80000 | F16: 1 | G16: 80000 | J16: 2 | K16: 155000 | N16: 1 | O16: 77000 | P16: =+B16+D16+F16+H16+J16+L16+N16 -> 6 | Q16: =+C16+E16+G16+I16+K16+M16+O16 -> 472000
A17: 80,001 - 90,000 | B17: 2 | C17: 167700 | D17: 2 | E17: 218700 | N17: 2 | O17: 170000 | P17: =+B17+D17+F17+H17+J17+L17+N17 -> 6 | Q17: =+C17+E17+G17+I17+K17+M17+O17 -> 556400
A18: 90,001 - 100,000 | B18: 1 | C18: 96000 | N18: 3 | O18: 285000 | P18: =+B18+D18+F18+H18+J18+L18+N18 -> 4 | Q18: =+C18+E18+G18+I18+K18+M18+O18 -> 381000
A19: 100,001 - 110,000 | B19: 1 | C19: 110000 | N19: 1 | O19: 110000 | P19: =+B19+D19+F19+H19+J19+L19+N19 -> 2 | Q19: =+C19+E19+G19+I19+K19+M19+O19 -> 220000
A20: 110,001 - 120,000 | D20: 3 | E20: 360000 | H20: 1 | I20: 120000 | L20: 3 | M20: 346000 | P20: =+B20+D20+F20+H20+J20+L20+N20 -> 7 | Q20: =+C20+E20+G20+I20+K20+M20+O20 -> 826000
A21: 120,001 - 130,000 | B21: 1 | C21: 130000 | F21: 1 | G21: 130000 | J21: 1 | K21: 124000 | N21: 1 | O21: 121000 | P21: =+B21+D21+F21+H21+J21+L21+N21 -> 4 | Q21: =+C21+E21+G21+I21+K21+M21+O21 -> 505000
A22: 130,001 - 140,000 | P22: =+B22+D22+F22+H22+J22+L22+N22 -> 0 | Q22: =+C22+E22+G22+I22+K22+M22+O22 -> 0
A23: 140,001 - 150,000 | L23: 1 | M23: 145000 | P23: =+B23+D23+F23+H23+J23+L23+N23 -> 1 | Q23: =+C23+E23+G23+I23+K23+M23+O23 -> 145000
A24: 150,001 - 160,000 | B24: 1 | C24: 160000 | D24: 1 | E24: 160000 | L24: 1 | M24: 156000 | P24: =+B24+D24+F24+H24+J24+L24+N24 -> 3 | Q24: =+C24+E24+G24+I24+K24+M24+O24 -> 476000
A25: 160,001 - 170,000 | D25: 1 | E25: 161200 | F25: 1 | G25: 170000 | L25: 1 | M25: 170000 | N25: 2 | O25: 340000 | P25: =+B25+D25+F25+H25+J25+L25+N25 -> 5 | Q25: =+C25+E25+G25+I25+K25+M25+O25 -> 841200
A26: 170,001 - 180,000 | J26: 2 | K26: 346400 | L26: 2 | M26: 351000 | P26: =+B26+D26+F26+H26+J26+L26+N26 -> 4 | Q26: =+C26+E26+G26+I26+K26+M26+O26 -> 697400
A27: 180,001 - 190,000 | P27: =+B27+D27+F27+H27+J27+L27+N27 -> 0 | Q27: =+C27+E27+G27+I27+K27+M27+O27 -> 0
A28: 190,001 - 200,000 | D28: 2 | E28: 400000 | F28: 1 | G28: 200000 | P28: =+B28+D28+F28+H28+J28+L28+N28 -> 3 | Q28: =+C28+E28+G28+I28+K28+M28+O28 -> 600000
A29: 200,001 - 250,000 | L29: 1 | M29: 220000 | N29: 4 | O29: 913000 | P29: =+B29+D29+F29+H29+J29+L29+N29 -> 5 | Q29: =+C29+E29+G29+I29+K29+M29+O29 -> 1133000
A30: 250,001 - 280,000 | D30: 1 | E30: 260000 | H30: 1 | I30: 252000 | L30: 1 | M30: 280000 | N30: 1 | O30: 270000 | P30: =+B30+D30+F30+H30+J30+L30+N30 -> 4 | Q30: =+C30+E30+G30+I30+K30+M30+O30 -> 1062000
A31: 300,000- 350,000 | B31: 3 | C31: 1022000 | D31: 1 | E31: 300000 | H31: 1 | I31: 300000 | J31: 2 | K31: 634700 | L31: 1 | M31: 300000 | P31: =+B31+D31+F31+H31+J31+L31+N31 -> 8 | Q31: =+C31+E31+G31+I31+K31+M31+O31 -> 2556700
A32: 400,000 - 500,000 | L32: 1 | M32: 560000 | N32: 1 | O32: 451500 | P32: =+B32+D32+F32+H32+J32+L32+N32 -> 2 | Q32: =+C32+E32+G32+I32+K32+M32+O32 -> 1011500
A33: 600,000 - 700,000 | J33: 1 | K33: 624000 | L33: 1 | M33: 680000 | P33: =+B33+D33+F33+H33+J33+L33+N33 -> 2 | Q33: =+C33+E33+G33+I33+K33+M33+O33 -> 1304000
A34: 800,000 - 900,000 | L34: 5 | M34: 4200000 | P34: =+B34+D34+F34+H34+J34+L34+N34 -> 5 | Q34: =+C34+E34+G34+I34+K34+M34+O34 -> 4200000
A35: 980000 | P35: =+B35+D35+F35+H35+J35+L35+N35 -> 0 | Q35: =+C35+E35+G35+I35+K35+M35+O35 -> 0
A36: 1500000 | P36: =+B36+D36+F36+H36+J36+L36+N36 -> 0 | Q36: =+C36+E36+G36+I36+K36+M36+O36 -> 0
A37: Jumlah | B37: =SUM(B7:B36) -> 17 | C37: =SUM(C7:C36) -> 2072700 | D37: =SUM(D7:D36) -> 20 | E37: =SUM(E7:E36) -> 2222900 | F37: =SUM(F7:F36) -> 10 | G37: =SUM(G7:G36) -> 870500 | H37: =SUM(H7:H36) -> 4 | I37: =SUM(I7:I36) -> 712000 | ... Q37: =SUM(Q7:Q36) -> 19925700
A40: RINGKASAN SAIZ LADANG MENGIKUT KAPASITI LADANG AYAM PENELUR
A41: TAHUN 2023
A43: Daerah | B43: Seremban | D43: Jelebu | F43: Rembau | H43: K. Pilah | J43: Jempol | L43: Tampin | N43: P. Dickson | P43: Jumlah
B44: Bil. Ladang | C44: Populasi | D44: Bil.Ladang | E44: Populasi | F44: Bil.Ladang | G44: Populasi | H44: Bil.Ladang | I44: Populasi | J44: Bil.Ladang | K44: Populasi | L44: Bil.Ladang | M44: Populasi | N44: Bil.Ladang | O44: Populasi | P44: Bil.Ladang | Q44: Populasi
A45: 500 | P45: =+N45+L45+J45+H45+F45+D45+B45 -> 0 | Q45: =+O45+M45+K45+I45+G45+E45+C45 -> 0
A46: 1,000 - 10,000 | P46: =+N46+L46+J46+H46+F46+D46+B46 -> 0 | Q46: =+O46+M46+K46+I46+G46+E46+C46 -> 0
A47: 10,001 - 15,000 | P47: =+N47+L47+J47+H47+F47+D47+B47 -> 0 | Q47: =+O47+M47+K47+I47+G47+E47+C47 -> 0
A48: 15,001 - 20,000 | P48: =+N48+L48+J48+H48+F48+D48+B48 -> 0 | Q48: =+O48+M48+K48+I48+G48+E48+C48 -> 0
A49: 20,001 - 30,000 | P49: =+N49+L49+J49+H49+F49+D49+B49 -> 0 | Q49: =+O49+M49+K49+I49+G49+E49+C49 -> 0
A50: 30,001 - 40,000 | P50: =+N50+L50+J50+H50+F50+D50+B50 -> 0 | Q50: =+O50+M50+K50+I50+G50+E50+C50 -> 0
A51: 40,001 - 50,000 | P51: =+N51+L51+J51+H51+F51+D51+B51 -> 0 | Q51: =+O51+M51+K51+I51+G51+E51+C51 -> 0
A52: 50,001 - 60,000 | P52: =+N52+L52+J52+H52+F52+D52+B52 -> 0 | Q52: =+O52+M52+K52+I52+G52+E52+C52 -> 0
A53: 60,001 - 70,000 | P53: =+N53+L53+J53+H53+F53+D53+B53 -> 0 | Q53: =+O53+M53+K53+I53+G53+E53+C53 -> 0
A54: 70,001 - 80,000 | P54: =+N54+L54+J54+H54+F54+D54+B54 -> 0 | Q54: =+O54+M54+K54+I54+G54+E54+C54 -> 0
A55: 80,001 - 90,000 | P55: =+N55+L55+J55+H55+F55+D55+B55 -> 0 | Q55: =+O55+M55+K55+I55+G55+E55+C55 -> 0
A56: 90,001 - 100,000 | P56: =+N56+L56+J56+H56+F56+D56+B56 -> 0 | Q56: =+O56+M56+K56+I56+G56+E56+C56 -> 0
A57: 100,001 - 110,000 | P57: =+N57+L57+J57+H57+F57+D57+B57 -> 0 | Q57: =+O57+M57+K57+I57+G57+E57+C57 -> 0
... A60: 130,001 - 140,000 | P60: =+N60+L60+J60+H60+F60+D60+B60 -> 0 | Q60: =+O60+M60+K60+I60+G60+E60+C60 -> 0
A61: 140,001 - 150,000 | B61: 1 | C61: 150000 | P61: =+N61+L61+J61+H61+F61+D61+B61 -> 1 | Q61: =+O61+M61+K61+I61+G61+E61+C61 -> 150000
A62: 150,001 - 160,000 | P62: =+N62+L62+J62+H62+F62+D62+B62 -> 0 | Q62: =+O62+M62+K62+I62+G62+E62+C62 -> 0
A63: 160,001 - 170,000 | P63: =+N63+L63+J63+H63+F63+D63+B63 -> 0 | Q63: =+O63+M63+K63+I63+G63+E63+C63 -> 0
A64: 170,001 - 180,000 | P64: =+N64+L64+J64+H64+F64+D64+B64 -> 0 | Q64: =+O64+M64+K64+I64+G64+E64+C64 -> 0
A65: 180,001 - 190,000 | P65: =+N65+L65+J65+H65+F65+D65+B65 -> 0 | Q65: =+O65+M65+K65+I65+G65+E65+C65 -> 0
A66: 190,001 - 200,000 | P66: =+N66+L66+J66+H66+F66+D66+B66 -> 0 | Q66: =+O66+M66+K66+I66+G66+E66+C66 -> 0
A67: 200,000 - 250,000 | P67: =+N67+L67+J67+H67+F67+D67+B67 -> 0 | Q67: =+O67+M67+K67+I67+G67+E67+C67 -> 0
A68: 250,001 - 280,000 | P68: =+N68+L68+J68+H68+F68+D68+B68 -> 0 | Q68: =+O68+M68+K68+I68+G68+E68+C68 -> 0
A69: 300,000 - 350,000 | P69: =+N69+L69+J69+H69+F69+D69+B69 -> 0 | Q69: =+O69+M69+K69+I69+G69+E69+C69 -> 0
A70: 400,000 - 500,000 | P70: =+N70+L70+J70+H70+F70+D70+B70 -> 0 | Q70: =+O70+M70+K70+I70+G70+E70+C70 -> 0
A71: 600,000 - 700,000 | B71: 1 | C71: 600000 | F71: 2 | G71: 1222080 | N71: 1 | O71: 639152 | P71: =+N71+L71+J71+H71+F71+D71+B71 -> 4 | Q71: =+O71+M71+K71+I71+G71+E71+C71 -> 2461232
A72: 800,000 - 900,000 | B72: 1 | C72: 900000 | H72: 1 | I72: 800000 | N72: 1 | O72: 876784 | P72: =+N72+L72+J72+H72+F72+D72+B72 -> 3 | Q72: =+O72+M72+K72+I72+G72+E72+C72 -> 2576784
A73: 980000 | L73: 1 | M73: 950000 | P73: =+N73+L73+J73+H73+F73+D73+B73 -> 1 | Q73: =+O73+M73+K73+I73+G73+E73+C73 -> 950000
A74: 1500000 | P74: =+N74+L74+J74+H74+F74+D74+B74 -> 0 | Q74: =+O74+M74+K74+I74+G74+E74+C74 -> 0
A75: Jumlah | B75: =SUM(B45:B74) -> 3 | C75: =SUM(C45:C74) -> 1650000 | D75: =SUM(D45:D74) -> 0 | E75: =SUM(E45:E74) -> 0 | F75: =SUM(F45:F74) -> 2 | G75: =SUM(G45:G74) -> 1222080 | H75: =SUM(H45:H74) -> 1 | I75: =SUM(I45:I74) -> 800000 | ... Q75: =SUM(Q45:Q74) -> 6138016
A78: RINGKASAN SAIZ LADANG MENGIKUT KAPASITI LADANG AYAM BAKA
A79: TAHUN 2023
A81: Daerah | B81: Seremban | D81: Jelebu | F81: Rembau | H81: K. Pilah | J81: Jempol | L81: Tampin | N81: P. Dickson | P81: Jumlah
B82: Bil. Ladang | C82: Populasi | D82: Bil.Ladang | E82: Populasi | F82: Bil.Ladang | G82: Populasi | H82: Bil.Ladang | I82: Populasi | J82: Bil.Ladang | K82: Populasi | L82: Bil.Ladang | M82: Populasi | N82: Bil.Ladang | O82: Populasi | P82: Bil.Ladang | Q82: Populasi
A83: 500
A84: 1,000 - 10,000
A85: 10,001 - 15,000
A86: 15,001 - 20,000
A87: 20,001 - 30,000
A88: 30,001 - 40,000 | H88: 1 | I88: 40000 | P88: =+F88+H88+J88+L88+N88 -> 1 | Q88: =+G88+I88+K88+M88+O88 -> 40000
A89: 40,001 - 50,000 | F89: 1 | G89: 50000 | L89: 1 | M89: 47000 | P89: =+F89+H89+J89+L89+N89 -> 2 | Q89: =+G89+I89+K89+M89+O89 -> 97000
A90: 50,001 - 60,000 | F90: 1 | G90: 54120 | P90: =+F90+H90+J90+L90+N90 -> 1 | Q90: =+G90+I90+K90+M90+O90 -> 54120
A91: 60,001 - 70,000 | L91: 1 | M91: 70000 | P91: =+F91+H91+J91+L91+N91 -> 1 | Q91: =+G91+I91+K91+M91+O91 -> 70000
A92: 70,001 - 80,000 | P92: =+F92+H92+J92+L92+N92 -> 0 | Q92: =+G92+I92+K92+M92+O92 -> 0
A93: 80,001 - 90,000 | P93: =+F93+H93+J93+L93+N93 -> 0 | Q93: =+G93+I93+K93+M93+O93 -> 0
A94: 90,001 - 100,000 | L94: 2 | M94: 200000 | P94: =+F94+H94+J94+L94+N94 -> 2 | Q94: =+G94+I94+K94+M94+O94 -> 200000
A95: 100,001 - 110,000 | P95: =+F95+H95+J95+L95+N95 -> 0 | Q95: =+G95+I95+K95+M95+O95 -> 0
A96: 110,001 - 120,000 | P96: =+F96+H96+J96+L96+N96 -> 0 | Q96: =+G96+I96+K96+M96+O96 -> 0
A97: 120,001 - 130,000 | L97: 1 | M97: 130000 | N97: 1 | O97: 123000 | P97: =+F97+H97+J97+L97+N97 -> 2 | Q97: =+G97+I97+K97+M97+O97 -> 253000
A98: 130,001 - 140,000 | P98: =+F98+H98+J98+L98+N98 -> 0 | Q98: =+G98+I98+K98+M98+O98 -> 0
A99: 140,001 - 150,000 | H99: 1 | I99: 144000 | L99: 1 | M99: 144000 | P99: =+F99+H99+J99+L99+N99 -> 2 | Q99: =+G99+I99+K99+M99+O99 -> 288000
A100: 150,001 - 160,000 | J100: 1 | K100: 160000 | P100: =+F100+H100+J100+L100+N100 -> 1 | Q100: =+G100+I100+K100+M100+O100 -> 160000
A101: 160,001 - 170,000 | P101: =+F101+H101+J101+L101+N101 -> 0 | Q101: =+G101+I101+K101+M101+O101 -> 0
A102: 170,001 - 180,000 | P102: =+F102+H102+J102+L102+N102 -> 0 | Q102: =+G102+I102+K102+M102+O102 -> 0
A103: 180,001 - 190,000 | P103: =+F103+H103+J103+L103+N103 -> 0 | Q103: =+G103+I103+K103+M103+O103 -> 0
A104: 190,001 - 200,000 | L104: 7 | M104: 1344000 | P104: =+F104+H104+J104+L104+N104 -> 7 | Q104: =+G104+I104+K104+M104+O104 -> 1344000
A105: 200,001 - 250,000 | F105: 1 | G105: 250000 | P105: =+F105+H105+J105+L105+N105 -> 1 | Q105: =+G105+I105+K105+M105+O105 -> 250000
A106: 250,001 - 280,000 | F106: 1 | G106: 224400 | N106: 1 | O106: 225512 | P106: =+F106+H106+J106+L106+N106 -> 2 | Q106: =+G106+I106+K106+M106+O106 -> 449912
A107: 300,000- 350,000 | N107: 1 | O107: 300000 | P107: =+F107+H107+J107+L107+N107 -> 1 | Q107: =+G107+I107+K107+M107+O107 -> 300000
A108: 400,000 - 500,000 | P108: =+F108+H108+J108+L108+N108 -> 0 | Q108: =+G108+I108+K108+M108+O108 -> 0
A109: 600,000 - 700,000 | P109: =+F109+H109+J109+L109+N109 -> 0 | Q109: =+G109+I109+K109+M109+O109 -> 0
A110: 800,000 - 900,000 | P110: =+F110+H110+J110+L110+N110 -> 0 | Q110: =+G110+I110+K110+M110+O110 -> 0
...

Sheet bancian dan skv
A1: BANCIAN TERNAKAN & PENGELUARAN TERNAKAN (SKV) MENGIKUT DAERAH
A2: TAHUN 2020
A4: DAERAH | B4: Lembu Tenusu | E4: Lembu Pedaging | H4: Kerbau
B5: BANCIAN | C5: SKV | D5: JUMLAH | E5: BANCIAN | F5: SKV | G5: JUMLAH | H5: BANCIAN | I5: SKV | J5: JUMLAH
A6: SEREMBAN | B6: 871 | D6: =SUM(B6:C6) -> 871 | E6: 581 | G6: =SUM(E6:F6) -> 581 | H6: 166 | J6: =SUM(H6:I6) -> 166
A7: JELEBU | B7: =+tenusu!R10 -> 130 | D7: =SUM(B7:C7) -> 130 | E7: =+pedaging!R9 -> 5430 | G7: =SUM(E7:F7) -> 5430 | H7: =+kerbau!R9 -> 146 | J7: =SUM(H7:I7) -> 146
A8: REMBAU | B8: 121 | D8: =SUM(B8:C8) -> 121 | E8: 4978 | G8: =SUM(E8:F8) -> 4978 | H8: 849 | J8: =SUM(H8:I8) -> 849
A9: KUALA PILAH | B9: 330 | D9: =SUM(B9:C9) -> 330 | E9: 1080 | G9: =SUM(E9:F9) -> 1080 | H9: 52 | J9: =SUM(H9:I9) -> 52
A10: JEMPOL | B10: 120 | D10: =SUM(B10:C10) -> 120 | E10: 15077 | G10: =SUM(E10:F10) -> 15077 | H10: 428 | J10: =SUM(H10:I10) -> 428
A11: TAMPIN | B11: 351 | D11: =SUM(B11:C11) -> 351 | E11: 4889 | G11: =SUM(E11:F11) -> 4889 | H11: 203 | J11: =SUM(H11:I11) -> 203
A12: PORT DICKSON | B12: 1081 | D12: =SUM(B12:C12) -> 1081 | E12: 2750 | G12: =SUM(E12:F12) -> 2750 | H12: 55 | J12: =SUM(H12:I12) -> 55
A13: JUMLAH | B13: =SUM(B6:B12) -> 3004 | D13: =SUM(D6:D12) -> 3004 | E13: =SUM(E6:E12) -> 34785 | G13: =SUM(G6:G12) -> 34785 | H13: =SUM(H6:H12) -> 1899 | J13: =SUM(J6:J12) -> 1899
A16: DAERAH | B16: Kambing Pedaging | E16: Bebiri | H16: Rusa
B17: BANCIAN | C17: SKV | D17: JUMLAH | E17: BANCIAN | F17: SKV | G17: JUMLAH | H17: BANCIAN | I17: SKV | J17: JUMLAH
A18: SEREMBAN | B18: 1480 | D18: =SUM(B18:C18) -> 1480 | E18: 159 | G18: =SUM(E18:F18) -> 159 | H18: 185 | J18: =SUM(H18:I18) -> 185
A19: JELEBU | B19: =+kambing!M8 -> 2231 | D19: =SUM(B19:C19) -> 2231 | E19: =+#REF! -> #REF! | G19: =SUM(E19:F19) -> #REF! | H19: =+aneka!J7 -> 40 | J19: =SUM(H19:I19) -> 40
A20: REMBAU | B20: 2397 | D20: =SUM(B20:C20) -> 2397 | E20: 1732 | G20: =SUM(E20:F20) -> 1732 | H20: 5 | J20: =SUM(H20:I20) -> 5
A21: KUALA PILAH | B21: 2427 | D21: =SUM(B21:C21) -> 2427 | E21: 2185 | G21: =SUM(E21:F21) -> 2185 | H21: 0 | J21: =SUM(H21:I21) -> 0
A22: JEMPOL | B22: 1644 | D22: =SUM(B22:C22) -> 1644 | E22: 2419 | G22: =SUM(E22:F22) -> 2419 | H22: 26 | J22: =SUM(H22:I22) -> 26
A23: TAMPIN | B23: 1335 | D23: =SUM(B23:C23) -> 1335 | E23: 1676 | G23: =SUM(E23:F23) -> 1676 | H23: 49 | J23: =SUM(H23:I23) -> 49
A24: PORT DICKSON | B24: 1643 | D24: =SUM(B24:C24) -> 1643 | E24: 802 | G24: =SUM(E24:F24) -> 802 | H24: 0 | J24: =SUM(H24:I24) -> 0
A25: JUMLAH | B25: =SUM(B18:B24) -> 13157 | D25: =SUM(D18:D24) -> 13157 | E25: =SUM(E18:E24) -> #REF! | G25: =SUM(G18:G24) -> #REF! | H25: =SUM(H18:H24) -> 305 | J25: =SUM(J18:J24) -> 305

Sheet BANCI 20-21
A1: PERBANDINGAN BANCIAN TERNAKAN
A2: TAHUN 2023 DAN 2022
A4: DAERAH | B4: Lembu Tenusu | F4: Lembu Pedaging | J4: Kerbau
B5: 2023 | C5: 2022 | D5: Beza | E5: Beza (%) | F5: 2023 | G5: 2022 | H5: Beza | I5: Beza (%) | J5: 2023 | K5: 2022 | L5: Beza | M5: Beza (%)
A6: SEREMBAN | B6: 1621 | C6: 1690 | D6: =+B6-C6 -> -69 | E6: =+D6/C6*100 -> -4.0828402 | F6: 3636 | G6: 3106 | H6: =+F6-G6 -> 530 | I6: =+H6/G6*100 -> 17.063748 | J6: 528 | K6: 589 | L6: =+J6-K6 -> -61 | M6: =+L6/K6*100 -> -10.356537
A7: JELEBU | B7: 130 | C7: 191 | D7: =+B7-C7 -> -61 | E7: =+D7/C7*100 -> -31.937173 | F7: 5430 | G7: 5761 | H7: =+F7-G7 -> -331 | I7: =+H7/G7*100 -> -5.7455303 | J7: 146 | K7: 159 | L7: =+J7-K7 -> -13 | M7: =+L7/K7*100 -> -8.1761006
A8: REMBAU | B8: 259 | C8: 263 | D8: =+B8-C8 -> -4 | E8: =+D8/C8*100 -> -1.5209125 | F8: 4420 | G8: 4062 | H8: =+F8-G8 -> 358 | I8: =+H8/G8*100 -> 8.8133924 | J8: 671 | K8: 655 | L8: =+J8-K8 -> 16 | M8: =+L8/K8*100 -> 2.4427481
A9: KUALA PILAH | B9: 558 | C9: 345 | D9: =+B9-C9 -> 213 | E9: =+D9/C9*100 -> 61.73913 | F9: 1718 | G9: 1671 | H9: =+F9-G9 -> 47 | I9: =+H9/G9*100 -> 2.812687 | J9: 177 | K9: 219 | L9: =+J9-K9 -> -42 | M9: =+L9/K9*100 -> -19.178082
A10: JEMPOL | B10: 163 | C10: 173 | D10: =+B10-C10 -> -10 | E10: =+D10/C10*100 -> -5.7803468 | F10: 17342 | G10: 17897 | H10: =+F10-G10 -> -555 | I10: =+H10/G10*100 -> -3.1010784 | J10: 795 | K10: 674 | L10: =+J10-K10 -> 121 | M10: =+L10/K10*100 -> 17.952522
A11: TAMPIN | B11: 381 | C11: 359 | D11: =+B11-C11 -> 22 | E11: =+D11/C11*100 -> 6.1281337 | F11: 6637 | G11: 6465 | H11: =+F11-G11 -> 172 | I11: =+H11/G11*100 -> 2.6604795 | J11: 332 | K11: 340 | L11: =+J11-K11 -> -8 | M11: =+L11/K11*100 -> -2.3529412
A12: PORT DICKSON | B12: 946 | C12: 1014 | D12: =+B12-C12 -> -68 | E12: =+D12/C12*100 -> -6.7061144 | F12: 4157 | G12: 3565 | H12: =+F12-G12 -> 592 | I12: =+H12/G12*100 -> 16.605891 | J12: 18 | K12: 40 | L12: =+J12-K12 -> -22 | M12: =+L12/K12*100 -> -55
A13: JUMLAH | B13: =SUM(B6:B12) -> 4058 | C13: =SUM(C6:C12) -> 4035 | D13: =SUM(D6:D12) -> 23 | E13: =SUM(E6:E12) -> 17.839877 | F13: =SUM(F6:F12) -> 43340 | G13: =SUM(G6:G12) -> 42527 | H13: =SUM(H6:H12) -> 813 | I13: =SUM(I6:I12) -> 39.109588 | ... M13: =SUM(M6:M12) -> -74.66839
A16: DAERAH | B16: Kambing | F16: Bebiri | J16: Kambing Susu
B17: 2023 | C17: 2022 | D17: Beza | E17: Beza (%) | F17: 2023 | G17: 2022 | H17: Beza | I17: Beza (%) | J17: 2023 | K17: 2022 | L17: Beza | M17: Beza (%)
A18: SEREMBAN | B18: 2357 | C18: 2257 | D18: =+B18-C18 -> 100 | E18: =+D18/C18*100 -> 4.4306602 | F18: 816 | G18: 839 | H18: =+F18-G18 -> -23 | I18: =+H18/G18*100 -> -2.7413588 | J18: 60 | K18: 60 | L18: =+J18-K18 -> 0 | M18: 0
A19: JELEBU | B19: 2231 | C19: 2746 | D19: =+B19-C19 -> -515 | E19: =+D19/C19*100 -> -18.754552 | F19: 4577 | G19: 4380 | H19: =+F19-G19 -> 197 | I19: =+H19/G19*100 -> 4.4977169 | J19: 0 | K19: 0 | L19: =+J19-K19 -> 0 | M19: 0
A20: REMBAU | B20: 2083 | C20: 2009 | D20: =+B20-C20 -> 74 | E20: =+D20/C20*100 -> 3.6834246 | F20: 1789 | G20: 1581 | H20: =+F20-G20 -> 208 | I20: =+H20/G20*100 -> 13.15623 | J20: 120 | K20: 36 | L20: =+J20-K20 -> 84 | M20: =+L20/K20*100 -> 233.33333
A21: KUALA PILAH | B21: 2738 | C21: 3770 | D21: =+B21-C21 -> -1032 | E21: =+D21/C21*100 -> -27.374005 | F21: 2562 | G21: 3885 | H21: =+F21-G21 -> -1323 | I21: =+H21/G21*100 -> -34.054054 | J21: 0 | K21: 0 | L21: =+J21-K21 -> 0 | M21: 0
A22: JEMPOL | B22: 2025 | C22: 1805 | D22: =+B22-C22 -> 220 | E22: =+D22/C22*100 -> 12.188366 | F22: 3869 | G22: 3467 | H22: =+F22-G22 -> 402 | I22: =+H22/G22*100 -> 11.595039 | J22: 0 | K22: 0 | L22: =+J22-K22 -> 0 | M22: 0
A23: TAMPIN | B23: 1592 | C23: 1637 | D23: =+B23-C23 -> -45 | E23: =+D23/C23*100 -> -2.748931 | F23: 2354 | G23: 2360 | H23: =+F23-G23 -> -6 | I23: =+H23/G23*100 -> -0.25423729 | J23: 0 | K23: 0 | L23: =+J23-K23 -> 0 | M23: 0
A24: PORT DICKSON | B24: 2393 | C24: 2024 | D24: =+B24-C24 -> 369 | E24: =+D24/C24*100 -> 18.231225 | F24: 736 | G24: 720 | H24: =+F24-G24 -> 16 | I24: =+H24/G24*100 -> 2.2222222 | J24: 30 | K24: 68 | L24: =+J24-K24 -> -38 | M24: 0
A25: JUMLAH | B25: =SUM(B18:B24) -> 15419 | C25: =SUM(C18:C24) -> 16248 | D25: =SUM(D18:D24) -> -829 | E25: =SUM(E18:E24) -> -10.343813 | F25: =SUM(F18:F24) -> 16703 | G25: =SUM(G18:G24) -> 17232 | H25: =SUM(H18:H24) -> -529 | I25: =SUM(I18:I24) -> -5.5784418 | ... M25: =SUM(M18:M24) -> 233.33333
A36: PERBANDINGAN BANCIAN TERNAKAN
A37: TAHUN 2023 DAN 2022
A39: DAERAH | B39: AYAM DAGING | F39: AYAM TELUR | J39: AYAM PEMBIAK
B40: 2023 | C40: 2022 | D40: Beza | E40: Beza (%) | F40: 2023 | G40: 2022 | H40: Beza | I40: Beza (%) | J40: 2023 | K40: 2022 | L40: Beza | M40: Beza (%)
A41: SEREMBAN | B41: 2072700 | C41: 2009000 | D41: =+B41-C41 -> 63700 | E41: =+D41/C41*100 -> 3.1707317 | F41: 1650000 | G41: 1650000 | H41: =+F41-G41 -> 0 | I41: =+H41/G41*100 -> 0 | J41: 0 | K41: 0 | L41: =+J41-K41 -> 0 | M41: 0
A42: JELEBU | B42: 2222900 | C42: 1961500 | D42: =+B42-C42 -> 261400 | E42: =+D42/C42*100 -> 13.326536 | F42: 0 | G42: 0 | H42: 0 | I42: 0 | J42: 0 | K42: 0 | L42: 0 | M42: 0
A43: REMBAU | B43: 870500 | C43: 957000 | D43: =+B43-C43 -> -86500 | E43: =+D43/C43*100 -> -9.0386625 | F43: 1222080 | G43: 1118400 | H43: =+F43-G43 -> 103680 | I43: =+H43/G43*100 -> 9.2703863 | J43: 578520 | K43: 583520 | L43: =+J43-K43 -> -5000 | M43: =+L43/K43*100 -> -0.85686866
A44: KUALA PILAH | B44: 712000 | C44: 712000 | D44: =+B44-C44 -> 0 | E44: =+D44/C44*100 -> 0 | F44: 800000 | G44: 800000 | H44: =+F44-G44 -> 0 | I44: =+H44/G44*100 -> 0 | J44: 184000 | K44: 160000 | L44: =+J44-K44 -> 24000 | M44: =+L44/K44*100 -> 15
A45: JEMPOL | B45: 2323100 | C45: 2265386 | D45: =+B45-C45 -> 57714 | E45: =+D45/C45*100 -> 2.5476453 | F45: 0 | G45: 0 | H45: =+F45-G45 -> 0 | I45: 0 | J45: 160000 | K45: 160000 | L45: =+J45-K45 -> 0 | M45: =+L45/K45*100 -> 0
A46: TAMPIN | B46: 7691000 | C46: 5278000 | D46: =+B46-C46 -> 2413000 | E46: =+D46/C46*100 -> 45.718075 | F46: 950000 | G46: 850000 | H46: =+F46-G46 -> 100000 | I46: 0 | J46: 1935000 | K46: 1661280 | L46: =+J46-K46 -> 273720 | M46: =+L46/K46*100 -> 16.476452
A47: PORT DICKSON | B47: 4033500 | C47: 3951500 | D47: =+B47-C47 -> 82000 | E47: =+D47/C47*100 -> 2.0751613 | F47: 1515936 | G47: 1515936 | H47: =+F47-G47 -> 0 | I47: =+H47/G47*100 -> 0 | J47: 648512 | K47: 648512 | L47: =+J47-K47 -> 0 | M47: =+L47/K47*100 -> 0
A48: JUMLAH | B48: =SUM(B41:B47) -> 19925700 | C48: =SUM(C41:C47) -> 17134386 | D48: =SUM(D41:D47) -> 2791314 | E48: =SUM(E41:E47) -> 57.799487 | F48: =SUM(F41:F47) -> 6138016 | G48: =SUM(G41:G47) -> 5934336 | H48: =SUM(H41:H47) -> 203680 | I48: =AVERAGE(I41:I47) -> 1.3243409 | J48: =SUM(J41:J47) -> 3506032 | K48: =SUM(K41:K47) -> 3213312 | L48: =SUM(L41:L47) -> 292720 | M48: 0
E52: AYAM KAMPUNG
E53: 2023 | F53: 2022 | G53: Beza | H53: Beza (%)
E54: 24720 | F54: 24230 | G54: =+E54-F54 -> 490 | H54: =+G54/F54*100 -> 2.0222864
E55: 86489 | F55: 5116 | G55: =+E55-F55 -> 81373 | H55: =+G55/F55*100 -> 1590.559
E56: 4556 | F56: 6658 | G56: =+E56-F56 -> -2102 | H56: =+G56/F56*100 -> -31.571042
E57: 6926 | F57: 10990 | G57: =+E57-F57 -> -4064 | H57: =+G57/F57*100 -> -36.979072
E58: 3185 | F58: 4012 | G58: =+E58-F58 -> -827 | H58: =+G58/F58*100 -> -20.613161
E59: 1645 | F59: 1588 | G59: =+E59-F59 -> 57 | H59: =+G59/F59*100 -> 3.5894207
E60: 37427 | F60: 33435 | G60: =+E60-F60 -> 3992 | H60: =+G60/F60*100 -> 11.939584
E61: =SUM(E54:E60) -> 164948 | F61: =SUM(F54:F60) -> 86029 | G61: =SUM(G54:G60) -> 78919 | H61: =SUM(H54:H60) -> 1518.947
A66: PERBANDINGAN BANCIAN TERNAKAN
A67: TAHUN 2023 DAN 2022
A69: DAERAH | B69: ITIK DAGING | F69: ITIK TELOR | J69: ITIK PEMBIAK
B70: 2023 | C70: 2022 | D70: Beza | E70: Beza (%) | F70: 2023 | G70: 2022 | H70: Beza | I70: Beza (%) | J70: 2023 | K70: 2022 | L70: Beza | M70: Beza (%)
A71: SEREMBAN | B71: 500 | C71: 550 | D71: =+B71-C71 -> -50 | E71: =+D71/C71*100 -> -9.0909091 | F71: 1750 | G71: 750 | H71: =+F71-G71 -> 1000 | I71: 0 | J71: 0 | K71: 0 | L71: 0 | M71: 0
A72: JELEBU | B72: 31197 | C72: 31031 | D72: =+B72-C72 -> 166 | E72: =+D72/C72*100 -> 0.53494892 | F72: 500 | G72: 142 | H72: =+F72-G72 -> 358 | I72: 0 | J72: 0 | K72: 0 | L72: =+J72-K72 -> 0 | M72: 0
A73: REMBAU | B73: 185 | C73: 454 | D73: =+B73-C73 -> -269 | E73: =+D73/C73*100 -> -59.251101 | F73: 1077 | G73: 1117 | H73: =+F73-G73 -> -40 | I73: =+H73/G73*100 -> -3.5810206 | J73: 0 | K73: 0 | L73: 0 | M73: 0
A74: KUALA PILAH | B74: 120 | C74: 270 | D74: =+B74-C74 -> -150 | E74: 0 | F74: 357 | G74: 655 | H74: =+F74-G74 -> -298 | I74: 0 | J74: 0 | K74: 0 | L74: 0 | M74: 0
A75: JEMPOL | B75: 365 | C75: 83 | D75: =+B75-C75 -> 282 | E75: 0 | F75: 620 | G75: 285 | H75: =+F75-G75 -> 335 | I75: 0 | J75: 0 | K75: 0 | L75: 0 | M75: 0
A76: TAMPIN | B76: 300 | C76: 132 | D76: =+B76-C76 -> 168 | E76: =+D76/C76*100 -> 127.27273 | F76: 40250 | G76: 40075 | H76: =+F76-G76 -> 175 | I76: =+H76/G76*100 -> 0.43668122 | J76: 0 | K76: 0 | L76: 0 | M76: 0
A77: PORT DICKSON | B77: 258 | C77: 278 | D77: =+B77-C77 -> -20 | E77: 0 | F77: 65 | G77: 60 | H77: =+F77-G77 -> 5 | I77: =+H77/G77*100 -> 8.3333333 | J77: 0 | K77: 0 | L77: 0 | M77: 0
A78: JUMLAH | B78: =SUM(B71:B77) -> 32925 | C78: =SUM(C71:C77) -> 32798 | D78: =SUM(D71:D77) -> 127 | E78: =SUM(E71:E77) -> 59.465666 | F78: =SUM(F71:F77) -> 44619 | G78: =SUM(G71:G77) -> 43084 | H78: =SUM(H71:H77) -> 1535 | I78: 0 | J78: =SUM(J71:J77) -> 0 | K78: =SUM(K72:K77) -> 0 | L78: =SUM(L72:L77) -> 0 | M78: 0
A82: DAERAH | B82: PUYUH DAGING | F82: PUYUH BAKA | J82: PUYUH PENELUR
B83: 2023 | C83: 2022 | D83: Beza | E83: Beza (%) | F83: 2023 | G83: 2022 | H83: Beza | I83: Beza (%) | J83: 2023 | K83: 2022 | L83: Beza | M83: Beza (%)
A84: SEREMBAN | B84: 1400 | C84: 112700 | D84: =+B84-C84 -> -111300 | E84: 0 | F84: 0 | G84: 18000 | H84: =+F84-G84 -> -18000 | I84: 0 | J84: 0 | K84: 0 | L84: 0 | M84: 0
A85: JELEBU | B85: 0 | C85: 0 | D85: － | E85: 0 | F85: 0 | G85: 0 | H85: 0 | I85: 0 | J85: 0 | K85: 0 | L85: 0 | M85: 0
A86: REMBAU | B86: 150000 | C86: 150000 | D86: =+B86-C86 -> 0 | E86: =+D86/C86*100 -> 0 | F86: 0 | G86: 0 | H86: 0 | I86: 0 | J86: 0 | K86: 0 | L86: 0 | M86: 0
A87: KUALA PILAH | B87: 0 | C87: 0 | D87: =+B87-C87 -> 0 | E87: 0 | F87: 0 | G87: 0 | H87: 0 | I87: 0 | J87: 0 | K87: 0 | L87: =+J87-K87 -> 0 | M87: 0
A88: JEMPOL | B88: 500 | C88: 500 | D88: =+B88-C88 -> 0 | E88: 0 | F88: 0 | G88: 0 | H88: 0 | I88: 0 | J88: 0 | K88: 0 | L88: 0 | M88: 0
A89: TAMPIN | B89: 0 | C89: 0 | D89: － | E89: 0 | F89: 0 | G89: 0 | H89: 0 | I89: 0 | J89: 0 | K89: 0 | L89: 0 | M89: 0
A90: PORT DICKSON | B90: 0 | C90: 0 | D90: =+B90-C90 -> 0 | E90: 0 | F90: 0 | G90: 0 | H90: 0 | I90: 0 | J90: 0 | K90: 0 | L90: 0 | M90: 0
A91: JUMLAH | B91: =SUM(B84:B90) -> 151900 | C91: =SUM(C84:C90) -> 263200 | D91: =SUM(D84:D90) -> -111300 | E91: 0 | F91: =SUM(F84:F90) -> 0 | G91: =SUM(G84:G90) -> 18000 | H91: =SUM(H84:H90) -> -18000 | I91: =SUM(I84:I90) -> 0 | J91: =SUM(J84:J90) -> 0 | K91: =SUM(K84:K90) -> 0 | L91: =SUM(L84:L90) -> 0 | M91: =SUM(M84:M90) -> 0

Sheet BANCI SKV
A1: PENGELUARAN SKV & JUMLAH TERNAKAN MENGIKUT DAERAH
A2: BAGI TAHUN 2023
A4: DAERAH | B4: Lembu Tenusu | E4: Lembu Pedaging | H4: Kerbau
B5: TERNAKAN | C5: SKV | D5: JUMLAH | E5: TERNAKAN | F5: SKV | G5: JUMLAH | H5: TERNAKAN | I5: SKV | J5: JUMLAH
A6: SEREMBAN | B6: 0 | C6: 0 | D6: 0 | E6: 1563 | F6: 184 | G6: =SUM(E6:F6) -> 1747 | H6: 110 | I6: 17 | J6: =SUM(H6:I6) -> 127
A7: JELEBU | B7: 0 | C7: 0 | D7: 0 | E7: 223 | F7: 27 | G7: =SUM(E7:F7) -> 250 | H7: 0 | I7: 0 | J7: =SUM(H7:I7) -> 0
A8: REMBAU | B8: 0 | C8: 0 | D8: 0 | E8: 917 | F8: 113 | G8: =SUM(E8:F8) -> 1030 | H8: 44 | I8: 19 | J8: =SUM(H8:I8) -> 63
A9: KUALA PILAH | B9: 0 | C9: 0 | D9: 0 | E9: 2078 | F9: 145 | G9: =SUM(E9:F9) -> 2223 | H9: 109 | I9: 15 | J9: =SUM(H9:I9) -> 124
A10: JEMPOL | B10: 0 | C10: 0 | D10: 0 | E10: 464 | F10: 63 | G10: =SUM(E10:F10) -> 527 | H10: 2 | I10: 2 | J10: =SUM(H10:I10) -> 4
A11: TAMPIN | B11: 0 | C11: 0 | D11: 0 | E11: 350 | F11: 39 | G11: =SUM(E11:F11) -> 389 | H11: 1 | I11: 1 | J11: =SUM(H11:I11) -> 2
A12: PORT DICKSON | B12: 0 | C12: 0 | D12: 0 | E12: 2525 | F12: 288 | G12: =SUM(E12:F12) -> 2813 | H12: 86 | I12: 19 | J12: =SUM(H12:I12) -> 105
A13: JUMLAH | B13: =SUM(B6:B12) -> 0 | C13: =SUM(C6:C12) -> 0 | D13: =SUM(D6:D12) -> 0 | E13: =SUM(E6:E12) -> 8120 | F13: =SUM(F6:F12) -> 859 | G13: =SUM(G6:G12) -> 8979 | H13: =SUM(H6:H12) -> 352 | I13: =SUM(I6:I12) -> 73 | J13: =SUM(J6:J12) -> 425
A16: DAERAH | B16: Kambing Pedaging | E16: Bebiri | H16: Rusa
B17: TERNAKAN | C17: SKV | D17: JUMLAH | E17: TERNAKAN | F17: SKV | G17: JUMLAH | H17: TERMAKAN | I17: SKV | J17: JUMLAH
A18: SEREMBAN | B18: 163 | C18: 5 | D18: =SUM(B18:C18) -> 168 | E18: 17 | F18: 3 | G18: =SUM(E18:F18) -> 20 | H18: 6 | I18: 2 | J18: =SUM(H18:I18) -> 8
A19: JELEBU | B19: 78 | C19: 4 | D19: =SUM(B19:C19) -> 82 | E19: 304 | F19: 20 | G19: =SUM(E19:F19) -> 324 | H19: 1 | I19: 1 | J19: =SUM(H19:I19) -> 2
A20: REMBAU | B20: 0 | C20: 0 | D20: =SUM(B20:C20) -> 0 | E20: 4 | F20: 1 | G20: =SUM(E20:F20) -> 5 | H20: 0 | I20: 0 | J20: =SUM(H20:I20) -> 0
A21: KUALA PILAH | B21: 1193 | C21: 18 | D21: =SUM(B21:C21) -> 1211 | E21: 247 | F21: 7 | G21: =SUM(E21:F21) -> 254 | H21: 0 | I21: 0 | J21: =SUM(H21:I21) -> 0
A22: JEMPOL | B22: 23 | C22: 2 | D22: =SUM(B22:C22) -> 25 | E22: 48 | F22: 4 | G22: =SUM(E22:F22) -> 52 | H22: 0 | I22: 0 | J22: =SUM(H22:I22) -> 0
A23: TAMPIN | B23: 0 | C23: 0 | D23: =SUM(B23:C23) -> 0 | E23: 238 | F23: 6 | G23: =SUM(E23:F23) -> 244 | H23: 2 | I23: 1 | J23: =SUM(H23:I23) -> 3
A24: PORT DICKSON | B24: 231 | C24: 10 | D24: =SUM(B24:C24) -> 241 | E24: 73 | F24: 8 | G24: =SUM(E24:F24) -> 81 | H24: 6 | I24: 1 | J24: =SUM(H24:I24) -> 7
A25: JUMLAH | B25: =SUM(B18:B24) -> 1688 | C25: =SUM(C18:C24) -> 39 | D25: =SUM(D18:D24) -> 1727 | E25: =SUM(E18:E24) -> 931 | F25: =SUM(F18:F24) -> 49 | G25: =SUM(G18:G24) -> 980 | H25: =SUM(H18:H24) -> 15 | I25: =SUM(I18:I24) -> 5 | J25: =SUM(J18:J24) -> 20
A27: ** Jumlah SKV dalam sistem E-VetPermit bagi Lembu Tenusu & Lembu Pedaging adalah dalam satu kategori.

Sheet kategori
A1: PENTERNAK DI NEGERI SEMBILAN
A2: TAHUN 2023
A3: PECAHAN MENGIKUT KATEGORI - RUMINAN
A5: DAERAH | B5: Lembu Pedaging | J5: Lembu Tenusu
B6: Kecilan | D6: Semi-Komersil | F6: Komersil | H6: Jumlah | J6: Kecilan | L6: Semi-Komersil | N6: Komersil | P6: Jumlah
B7: Penternak | C7: Ternakan | D7: Penternak | E7: Ternakan | F7: Penternak | G7: Ternakan | H7: Penternak | I7: Ternakan | J7: Penternak | K7: Ternakan | L7: Penternak | M7: Ternakan | N7: Penternak | O7: Ternakan | P7: Penternak | Q7: Ternakan
A8: SEREMBAN | B8: 60 | C8: 2447 | D8: 2 | E8: 289 | F8: 2 | G8: 900 | H8: =+B8+D8+F8 -> 64 | I8: =+C8+E8+G8 -> 3636 | J8: 45 | K8: 1420 | L8: 2 | M8: 201 | N8: 0 | O8: 0 | P8: =+J8+L8+N8 -> 47 | Q8: =+K8+M8+O8 -> 1621
A9: JELEBU | B9: 152 | C9: 3563 | D9: 6 | E9: 980 | F9: 2 | G9: 887 | H9: =+B9+D9+F9 -> 160 | I9: =+C9+E9+G9 -> 5430 | J9: 3 | K9: 130 | L9: 0 | M9: 0 | N9: 0 | O9: 0 | P9: =+J9+L9+N9 -> 3 | Q9: =+K9+M9+O9 -> 130
A10: REMBAU | B10: 118 | C10: 3584 | D10: 5 | E10: 836 | F10: 0 | G10: 0 | H10: =+B10+D10+F10 -> 123 | I10: =+C10+E10+G10 -> 4420 | J10: 3 | K10: 73 | L10: 0 | M10: 0 | N10: 1 | O10: 186 | P10: =+J10+L10+N10 -> 4 | Q10: =+K10+M10+O10 -> 259
A11: KUALA PILAH | B11: 41 | C11: 1342 | D11: 2 | E11: 376 | F11: 0 | G11: 0 | H11: =+B11+D11+F11 -> 43 | I11: =+C11+E11+G11 -> 1718 | J11: 0 | K11: 0 | L11: 0 | M11: 0 | N11: 1 | O11: 558 | P11: =+J11+L11+N11 -> 1 | Q11: =+K11+M11+O11 -> 558
A12: JEMPOL | B12: 146 | C12: 7052 | D12: 29 | E12: 5113 | F12: 13 | G12: 5177 | H12: =+B12+D12+F12 -> 188 | I12: =+C12+E12+G12 -> 17342 | J12: 3 | K12: 75 | L12: 1 | M12: 88 | N12: 0 | O12: 0 | P12: =+J12+L12+N12 -> 4 | Q12: =+K12+M12+O12 -> 163
A13: TAMPIN | B13: 129 | C13: 4656 | D13: 7 | E13: 1141 | F13: 1 | G13: 840 | H13: =+B13+D13+F13 -> 137 | I13: =+C13+E13+G13 -> 6637 | J13: 17 | K13: 381 | L13: 0 | M13: 0 | N13: 0 | O13: 0 | P13: =+J13+L13+N13 -> 17 | Q13: =+K13+M13+O13 -> 381
A14: PORT DICKSON | B14: 143 | C14: 4157 | D14: 0 | E14: 0 | F14: 0 | G14: 0 | H14: =+B14+D14+F14 -> 143 | I14: =+C14+E14+G14 -> 4157 | J14: 22 | K14: 750 | L14: 2 | M14: 196 | N14: 0 | O14: 0 | P14: =+J14+L14+N14 -> 24 | Q14: =+K14+M14+O14 -> 946
A15: JUMLAH | B15: =SUM(B8:B14) -> 789 | C15: =SUM(C8:C14) -> 26801 | D15: =SUM(D8:D14) -> 51 | E15: =SUM(E8:E14) -> 8735 | F15: =SUM(F8:F14) -> 18 | G15: =SUM(G8:G14) -> 7804 | H15: =SUM(H8:H14) -> 858 | I15: =SUM(I8:I14) -> 43340 | ... Q15: =SUM(Q8:Q14) -> 4058
B16: * 28 (PENTERNAK TDK AKTIF) | J16: *7 (PENTERNAK TDK AKTIF)
A18: DAERAH | B18: Kambing | J18: Bebiri
B19: Kecilan | D19: Semi-Komersil | F19: Komersil | H19: Jumlah | J19: Kecilan | L19: Semi-Komersil | N19: Komersil | P19: Jumlah
B20: Penternak | C20: Ternakan | D20: Penternak | E20: Ternakan | F20: Penternak | G20: Ternakan | H20: Penternak | I20: Ternakan | J20: Penternak | K20: Ternakan | L20: Penternak | M20: Ternakan | N20: Penternak | O20: Ternakan | P20: Penternak | Q20: Ternakan
A21: SEREMBAN | B21: 77 | C21: 2357 | D21: 0 | E21: 0 | F21: 0 | G21: 0 | H21: =+B21+D21+F21 -> 77 | I21: =+C21+E21+G21 -> 2357 | J21: 21 | K21: 816 | L21: 0 | M21: 0 | N21: 0 | O21: 0 | P21: =+J21+L21+N21 -> 21 | Q21: =+K21+M21+O21 -> 816
A22: JELEBU | B22: 100 | C22: 1906 | D22: 1 | E22: 325 | F22: 0 | G22: 0 | H22: =+B22+D22+F22 -> 101 | I22: =+C22+E22+G22 -> 2231 | J22: 127 | K22: 3390 | L22: 3 | M22: 1187 | N22: 0 | O22: 0 | P22: =+J22+L22+N22 -> 130 | Q22: =+K22+M22+O22 -> 4577
A23: REMBAU | B23: 68 | C23: 2083 | D23: 0 | E23: 0 | F23: 0 | G23: 0 | H23: =+B23+D23+F23 -> 68 | I23: =+C23+E23+G23 -> 2083 | J23: 40 | K23: 1789 | L23: 0 | M23: 0 | N23: 0 | O23: 0 | P23: =+J23+L23+N23 -> 40 | Q23: =+K23+M23+O23 -> 1789
A24: KUALA PILAH | B24: 113 | C24: 2738 | D24: 0 | E24: 0 | F24: 0 | G24: 0 | H24: =+B24+D24+F24 -> 113 | I24: =+C24+E24+G24 -> 2738 | J24: 99 | K24: 2562 | L24: 0 | M24: 0 | N24: 0 | O24: 0 | P24: =+J24+L24+N24 -> 99 | Q24: =+K24+M24+O24 -> 2562
A25: JEMPOL | B25: 54 | C25: 2025 | D25: 0 | E25: 0 | F25: 0 | G25: 0 | H25: =+B25+D25+F25 -> 54 | I25: =+C25+E25+G25 -> 2025 | J25: 65 | K25: 3389 | L25: 1 | M25: 480 | N25: 0 | O25: 0 | P25: =+J25+L25+N25 -> 66 | Q25: =+K25+M25+O25 -> 3869
A26: TAMPIN | B26: 58 | C26: 1592 | D26: 0 | E26: 0 | F26: 0 | G26: 0 | H26: =+B26+D26+F26 -> 58 | I26: =+C26+E26+G26 -> 1592 | J26: 72 | K26: 2354 | L26: 0 | M26: 0 | N26: 0 | O26: 0 | P26: =+J26+L26+N26 -> 72 | Q26: =+K26+M26+O26 -> 2354
A27: PORT DICKSON | B27: 88 | C27: 2393 | D27: 0 | E27: 0 | F27: 0 | G27: 0 | H27: =+B27+D27+F27 -> 88 | I27: =+C27+E27+G27 -> 2393 | J27: 14 | K27: 351 | L27: 1 | M27: 385 | N27: 0 | O27: 0 | P27: =+J27+L27+N27 -> 15 | Q27: =+K27+M27+O27 -> 736
A28: JUMLAH | B28: =SUM(B21:B27) -> 558 | C28: =SUM(C21:C27) -> 15094 | D28: =SUM(D21:D27) -> 1 | E28: =SUM(E21:E27) -> 325 | F28: 0 | G28: 0 | H28: =SUM(H21:H27) -> 559 | I28: =SUM(I21:I27) -> 15419 | J28: =SUM(J21:J27) -> 438 | K28: =SUM(K21:K27) -> 14651 | L28: =SUM(L21:L27) -> 5 | M28: =SUM(M21:M27) -> 2052 | N28: 0 | O28: 0 | P28: =SUM(P21:P27) -> 443 | Q28: =SUM(Q21:Q27) -> 16703
B29: *22 (PENTERNAK TDK AKTIF) | K29: *15 (PENTERNAK TDK AKTIF)
A31: DAERAH | B31: Kerbau | J31: Rusa
B32: Kecilan | D32: Semi-Komersil | F32: Komersil | H32: Jumlah | J32: Kecilan | L32: Semi-Komersil | N32: Komersil | P32: Jumlah
B33: Penternak | C33: Ternakan | D33: Penternak | E33: Ternakan | F33: Penternak | G33: Ternakan | H33: Penternak | I33: Ternakan | J33: Penternak | K33: Ternakan | L33: Penternak | M33: Ternakan | N33: Penternak | O33: Ternakan | P33: Penternak | Q33: Ternakan
A34: SEREMBAN | B34: 7 | C34: 248 | D34: 0 | E34: 0 | F34: 1 | G34: 280 | H34: =+B34+D34+F34 -> 8 | I34: =+C34+E34+G34 -> 528 | J34: 4 | K34: 260 | L34: 0 | M34: 0 | N34: 0 | O34: 0 | P34: =+J34+L34+N34 -> 4 | Q34: =+K34+M34+O34 -> 260
A35: JELEBU | B35: 8 | C35: 146 | D35: 0 | E35: 0 | F35: 0 | G35: 0 | H35: =+B35+D35+F35 -> 8 | I35: =+C35+E35+G35 -> 146 | J35: 5 | K35: 40 | L35: 0 | M35: 0 | N35: 0 | O35: 0 | P35: =+J35+L35+N35 -> 5 | Q35: =+K35+M35+O35 -> 40
A36: REMBAU | B36: 24 | C36: 671 | D36: 0 | E36: 0 | F36: 0 | G36: 0 | H36: =+B36+D36+F36 -> 24 | I36: =+C36+E36+G36 -> 671 | J36: 2 | K36: 22 | L36: 0 | M36: 0 | N36: 0 | O36: 0 | P36: =+J36+L36+N36 -> 2 | Q36: =+K36+M36+O36 -> 22
A37: KUALA PILAH | B37: 12 | C37: 177 | D37: 0 | E37: 0 | F37: 0 | G37: 0 | H37: =+B37+D37+F37 -> 12 | I37: =+C37+E37+G37 -> 177 | J37: 2 | K37: 8 | L37: 0 | M37: 0 | N37: 0 | O37: 0 | P37: =+J37+L37+N37 -> 2 | Q37: =+K37+M37+O37 -> 8
A38: JEMPOL | B38: 15 | C38: 325 | D38: 1 | E38: 150 | F38: 1 | G38: 320 | H38: =+B38+D38+F38 -> 17 | I38: =+C38+E38+G38 -> 795 | J38: 5 | K38: 64 | L38: 0 | M38: 0 | N38: 0 | O38: 0 | P38: =+J38+L38+N38 -> 5 | Q38: =+K38+M38+O38 -> 64
A39: TAMPIN | B39: 15 | C39: 332 | D39: 0 | E39: 0 | F39: 0 | G39: 0 | H39: =+B39+D39+F39 -> 15 | I39: =+C39+E39+G39 -> 332 | J39: 4 | K39: 59 | L39: 0 | M39: 0 | N39: 0 | O39: 0 | P39: =+J39+L39+N39 -> 4 | Q39: =+K39+M39+O39 -> 59
A40: PORT DICKSON | B40: 2 | C40: 18 | D40: 0 | E40: 0 | F40: 0 | G40: 0 | H40: =+B40+D40+F40 -> 2 | I40: =+C40+E40+G40 -> 18 | J40: 6 | K40: 131 | L40: 0 | M40: 0 | N40: 0 | O40: 0 | P40: =+J40+L40+N40 -> 6 | Q40: =+K40+M40+O40 -> 131
A41: JUMLAH | B41: =SUM(B34:B40) -> 83 | C41: =SUM(C34:C40) -> 1917 | D41: =SUM(D34:D40) -> 1 | E41: =SUM(E34:E40) -> 150 | F41: =SUM(F34:F40) -> 2 | G41: =SUM(G34:G40) -> 600 | H41: =SUM(H34:H40) -> 86 | I41: =SUM(I34:I40) -> 2667 | ... K41: =SUM(K34:K40) -> 584 | L41: 0 | M41: 0 | N41: =SUM(N34:N40) -> 0 | O41: =SUM(O34:O40) -> 0 | P41: =SUM(P34:P40) -> 28 | Q41: =SUM(Q34:Q40) -> 584
C42: * 3 PENTENAK TDK AKTIF
A51: PENTERNAK DI NEGERI SEMBILAN
A52: TAHUN 2023
A53: PECAHAN MENGIKUT KATEGORI - NON-RUMINAN
A56: DAERAH | B56: AYAM DAGING | J56: AYAM PENELUR
B57: Kecilan | D57: Semi-Komersil | F57: Komersil | H57: Jumlah | J57: Kecilan | L57: Semi-Komersil | N57: Komersil | P57: Jumlah
B58: Penternak | C58: Ternakan | D58: Penternak | E58: Ternakan | F58: Penternak | G58: Ternakan | H58: Penternak | I58: Ternakan | J58: Penternak | K58: Ternakan | L58: Penternak | M58: Ternakan | N58: Penternak | O58: Ternakan | P58: Penternak | Q58: Ternakan
A59: SEREMBAN | B59: 2 | C59: 40000 | D59: 12 | E59: 850700 | F59: 4 | G59: 1182000 | H59: =+B59+D59+F59 -> 18 | I59: =+C59+E59+G59 -> 2072700 | J59: 0 | K59: 0 | L59: 0 | M59: 0 | N59: 3 | O59: 1650000 | P59: =+J59+L59+N59 -> 3 | Q59: =+K59+M59+O59 -> 1650000
A60: JELEBU | B60: 2 | C60: 30000 | D60: 12 | E60: 911700 | F60: 6 | G60: 1281200 | H60: =+B60+D60+F60 -> 20 | I60: =+C60+E60+G60 -> 2222900 | J60: 0 | K60: 0 | L60: 0 | M60: 0 | N60: 0 | O60: 0 | P60: =+J60+L60+N60 -> 0 | Q60: =+K60+M60+O60 -> 0
A61: REMBAU | B61: 1 | C61: 24500 | D61: 7 | E61: 476000 | F61: 2 | G61: 370000 | H61: =+B61+D61+F61 -> 10 | I61: =+C61+E61+G61 -> 870500 | J61: 0 | K61: 0 | L61: 0 | M61: 0 | N61: 2 | O61: 1222080 | P61: =+J61+L61+N61 -> 2 | Q61: =+K61+M61+O61 -> 1222080
A62: KUALA PILAH | B62: 0 | C62: 0 | D62: 2 | E62: 160000 | F62: 2 | G62: 552000 | H62: =+B62+D62+F62 -> 4 | I62: =+C62+E62+G62 -> 712000 | J62: 0 | K62: 0 | L62: 0 | M62: 0 | N62: 1 | O62: 800000 | P62: =+J62+L62+N62 -> 1 | Q62: =+K62+M62+O62 -> 800000
A63: JEMPOL | B63: 3 | C63: 52000 | D63: 11 | E63: 666000 | F63: 5 | G63: 1605100 | H63: =+B63+D63+F63 -> 19 | I63: =+C63+E63+G63 -> 2323100 | J63: 0 | K63: 0 | L63: 0 | M63: 0 | N63: 0 | O63: 0 | P63: =+J63+L63+N63 -> 0 | Q63: =+K63+M63+O63 -> 0
A64: TAMPIN | B64: 2 | C64: 26000 | D64: 8 | E64: 603000 | F64: 15 | G64: 7062000 | H64: =+B64+D64+F64 -> 25 | I64: =+C64+E64+G64 -> 7691000 | J64: 0 | K64: 0 | L64: 0 | M64: 0 | N64: 1 | O64: 950000 | P64: =+J64+L64+N64 -> 1 | Q64: =+K64+M64+O64 -> 950000
A65: PORT DICKSON | B65: 25 | C65: 410000 | D65: 25 | E65: 1649000 | F65: 8 | G65: 1974500 | H65: =+B65+D65+F65 -> 58 | I65: =+C65+E65+G65 -> 4033500 | J65: 0 | K65: 0 | L65: 0 | M65: 0 | N65: 2 | O65: 1515936 | P65: =+J65+L65+N65 -> 2 | Q65: =+K65+M65+O65 -> 1515936
A66: JUMLAH | B66: =SUM(B59:B65) -> 35 | C66: =SUM(C59:C65) -> 582500 | D66: =SUM(D59:D65) -> 77 | E66: =SUM(E59:E65) -> 5316400 | F66: =SUM(F59:F65) -> 42 | G66: =SUM(G59:G65) -> 14026800 | H66: =SUM(H59:H65) -> 154 | I66: =SUM(I59:I65) -> 19925700 | ... K66: =SUM(K59:K65) -> 0 | L66: 0 | M66: 0 | N66: =SUM(N59:N65) -> 9 | O66: =SUM(O59:O65) -> 6138016 | P66: =SUM(P59:P65) -> 9 | Q66: =SUM(Q59:Q65) -> 6138016
A69: DAERAH | B69: AYAM BAKA
B70: Kecilan | D70: Semi-Komersil | F70: Komersil | H70: Jumlah
B71: Penternak | C71: Ternakan | D71: Penternak | E71: Ternakan | F71: Penternak | G71: Ternakan | H71: Penternak | I71: Ternakan
A72: SEREMBAN | B72: 0 | C72: 0 | D72: 0 | E72: 0 | F72: 0 | G72: 0 | H72: 0 | I72: 0
A73: JELEBU | B73: 0 | C73: 0 | D73: 0 | E73: 0 | F73: 0 | G73: 0 | H73: 0 | I73: 0
A74: REMBAU | B74: 0 | C74: 0 | D74: 2 | E74: 104120 | F74: 2 | G74: 474400 | H74: =+B74+D74+F74 -> 4 | I74: =+C74+E74+G74 -> 578520
A75: KUALA PILAH | B75: 0 | C75: 0 | D75: 1 | E75: 40000 | F75: 1 | G75: 144000 | H75: =+B75+D75+F75 -> 2 | I75: =+C75+E75+G75 -> 184000
A76: JEMPOL | B76: 0 | C76: 0 | D76: 0 | E76: 0 | F76: 1 | G76: 160000 | H76: =+B76+D76+F76 -> 1 | I76: =+C76+E76+G76 -> 160000
A77: TAMPIN | B77: 0 | C77: 0 | D77: 5 | E77: 447000 | F77: 8 | G77: 1488000 | H77: =+B77+D77+F77 -> 13 | I77: =+C77+E77+G77 -> 1935000
A78: PORT DICKSON | B78: 0 | C78: 0 | D78: 1 | E78: 123000 | F78: 2 | G78: 525512 | H78: =+B78+D78+F78 -> 3 | I78: =+C78+E78+G78 -> 648512
A79: JUMLAH | B79: =SUM(B72:B78) -> 0 | C79: =SUM(C72:C78) -> 0 | D79: =SUM(D72:D78) -> 9 | E79: =SUM(E72:E78) -> 714120 | F79: =SUM(F72:F78) -> 14 | G79: =SUM(G72:G78) -> 2791912 | H79: =SUM(H72:H78) -> 23 | I79: =SUM(I72:I78) -> 3506032
A101: PENTERNAK DI NEGERI SEMBILAN
A102: TAHUN 2023
A103: PECAHAN MENGIKUT KATEGORI - NON-RUMINAN
A106: DAERAH | B106: PUYUH DAGING | J106: PUYUH PENELUR
B107: Kecilan | D107: Semi-Komersil | F107: Komersil | H107: Jumlah | J107: Kecilan | L107: Semi-Komersil | N107: Komersil | P107: Jumlah
B108: Penternak | C108: Ternakan | D108: Penternak | E108: Ternakan | F108: Penternak | G108: Ternakan | H108: Penternak | I108: Ternakan | J108: Penternak | K108: Ternakan | L108: Penternak | M108: Ternakan | N108: Penternak | O108: Ternakan | P108: Penternak | Q108: Ternakan
A109: SEREMBAN | B109: 2 | C109: 1400 | D109: 0 | E109: 0 | F109: 0 | G109: 0 | H109: =+B109+D109+F109 -> 2 | I109: =+C109+E109+G109 -> 1400 | J109: 0 | K109: 0 | L109: 0 | M109: 0 | N109: 0 | O109: 0 | P109: =+J109+L109+N109 -> 0 | Q109: =+K109+M109+O109 -> 0
A110: JELEBU | B110: 0 | C110: 0 | D110: 0 | E110: 0 | F110: 0 | G110: 0 | H110: =+B110+D110+F110 -> 0 | I110: =+C110+E110+G110 -> 0 | J110: 0 | K110: 0 | L110: 0 | M110: 0 | N110: 0 | O110: 0 | P110: =+J110+L110+N110 -> 0 | Q110: =+K110+M110+O110 -> 0
A111: REMBAU | B111: 0 | C111: 0 | D111: 1 | E111: 150000 | F111: 0 | G111: 0 | H111: =+B111+D111+F111 -> 1 | I111: =+C111+E111+G111 -> 150000 | J111: 0 | K111: 0 | L111: 0 | M111: 0 | N111: 0 | O111: 0 | P111: =+J111+L111+N111 -> 0 | Q111: =+K111+M111+O111 -> 0
A112: KUALA PILAH | B112: 0 | C112: 0 | D112: 0 | E112: 0 | F112: 0 | G112: 0 | H112: =+B112+D112+F112 -> 0 | I112: =+C112+E112+G112 -> 0 | J112: 0 | K112: 0 | L112: 0 | M112: 0 | N112: 0 | O112: 0 | P112: =+J112+L112+N112 -> 0 | Q112: =+K112+M112+O112 -> 0
A113: JEMPOL | B113: 1 | C113: 500 | D113: 0 | E113: 0 | F113: 0 | G113: 0 | H113: =+B113+D113+F113 -> 1 | I113: =+C113+E113+G113 -> 500 | J113: 0 | K113: 0 | L113: 0 | M113: 0 | N113: 0 | O113: 0 | P113: =+J113+L113+N113 -> 0 | Q113: =+K113+M113+O113 -> 0
A114: TAMPIN | B114: 0 | C114: 0 | D114: 0 | E114: 0 | F114: 0 | G114: 0 | H114: =+B114+D114+F114 -> 0 | I114: =+C114+E114+G114 -> 0 | J114: 0 | K114: 0 | L114: 0 | M114: 0 | N114: 0 | O114: 0 | P114: =+J114+L114+N114 -> 0 | Q114: =+K114+M114+O114 -> 0
A115: PORT DICKSON | B115: 0 | C115: 0 | D115: 0 | E115: 0 | F115: 0 | G115: 0 | H115: =+B115+D115+F115 -> 0 | I115: =+C115+E115+G115 -> 0 | J115: 0 | K115: 0 | L115: 0 | M115: 0 | N115: 0 | O115: 0 | P115: =+J115+L115+N115 -> 0 | Q115: =+K115+M115+O115 -> 0
A116: JUMLAH | B116: =SUM(B109:B115) -> 3 | C116: =SUM(C109:C115) -> 1900 | D116: =SUM(D109:D115) -> 1 | E116: =SUM(E109:E115) -> 150000 | F116: =SUM(F109:F115) -> 0 | G116: =SUM(G109:G115) -> 0 | H116: =SUM(H109:H115) -> 4 | I116: =SUM(I109:I115) -> 151900 | ... K116: =SUM(K109:K115) -> 0 | L116: 0 | M116: 0 | N116: =SUM(N109:N115) -> 0 | O116: =SUM(O109:O115) -> 0 | P116: =SUM(P109:P115) -> 0 | Q116: =SUM(Q109:Q115) -> 0
A120: DAERAH | B120: PUYUH BAKA
B121: Kecilan | D121: Semi-Komersil | F121: Komersil | H121: Jumlah
B122: Penternak | C122: Ternakan | D122: Penternak | E122: Ternakan | F122: Penternak | G122: Ternakan | H122: Penternak | I122: Ternakan
A123: SEREMBAN | B123: 0 | C123: 0 | D123: 0 | E123: 0 | F123: 0 | G123: 0 | H123: =+B123+D123+F123 -> 0 | I123: =+C123+E123+G123 -> 0
A124: JELEBU | B124: 0 | C124: 0 | D124: 0 | E124: 0 | F124: 0 | G124: 0 | H124: 0 | I124: 0
A125: REMBAU | B125: 0 | C125: 0 | D125: 0 | E125: 0 | F125: 0 | G125: 0 | H125: =+B125+D125+F125 -> 0 | I125: =+C125+E125+G125 -> 0
A126: KUALA PILAH | B126: 0 | C126: 0 | D126: 0 | E126: 0 | F126: 0 | G126: 0 | H126: =+B126+D126+F126 -> 0 | I126: =+C126+E126+G126 -> 0
A127: JEMPOL | B127: 0 | C127: 0 | D127: 0 | E127: 0 | F127: 0 | G127: 0 | H127: =+B127+D127+F127 -> 0 | I127: =+C127+E127+G127 -> 0
A128: TAMPIN | B128: 0 | C128: 0 | D128: 0 | E128: 0 | F128: 0 | G128: 0 | H128: =+B128+D128+F128 -> 0 | I128: =+C128+E128+G128 -> 0
A129: PORT DICKSON | B129: 0 | C129: 0 | D129: 0 | E129: 0 | F129: 0 | G129: 0 | H129: =+B129+D129+F129 -> 0 | I129: =+C129+E129+G129 -> 0
A130: JUMLAH | B130: =SUM(B123:B129) -> 0 | C130: =SUM(C123:C129) -> 0 | D130: =SUM(D123:D129) -> 0 | E130: =SUM(E123:E129) -> 0 | F130: =SUM(F123:F129) -> 0 | G130: =SUM(G123:G129) -> 0 | H130: =SUM(H123:H129) -> 0 | I130: =SUM(I123:I129) -> 0
A155: PENTERNAK DI NEGERI SEMBILAN
A156: TAHUN 2023
A157: PECAHAN MENGIKUT KATEGORI - NON-RUMINAN
A160: DAERAH | B160: ITIK DAGING | J160: ITIK PENELUR
B161: Kecilan | D161: Semi-Komersil | F161: Komersil | H161: Jumlah | J161: Kecilan | L161: Semi-Komersil | N161: Komersil | P161: Jumlah
B162: Penternak | C162: Ternakan | D162: Penternak | E162: Ternakan | F162: Penternak | G162: Ternakan | H162: Penternak | I162: Ternakan | J162: Penternak | K162: Ternakan | L162: Penternak | M162: Ternakan | N162: Penternak | O162: Ternakan | P162: Penternak | Q162: Ternakan
A163: SEREMBAN | B163: 2 | C163: 500 | D163: 0 | E163: 0 | F163: 0 | G163: 0 | H163: =+B163+D163+F163 -> 2 | I163: =+C163+E163+G163 -> 500 | J163: 5 | K163: 1750 | L163: 0 | M163: 0 | N163: 0 | O163: 0 | P163: =+J163+L163+N163 -> 5 | Q163: =+K163+M163+O163 -> 1750
A164: JELEBU | B164: 32 | C164: 1197 | D164: 1 | E164: 30000 | F164: 0 | G164: 0 | H164: =+B164+D164+F164 -> 33 | I164: =+C164+E164+G164 -> 31197 | J164: 10 | K164: 500 | L164: 0 | M164: 0 | N164: 0 | O164: 0 | P164: =+J164+L164+N164 -> 10 | Q164: =+K164+M164+O164 -> 500
A165: REMBAU | B165: 7 | C165: 185 | D165: 0 | E165: 0 | F165: 0 | G165: 0 | H165: =+B165+D165+F165 -> 7 | I165: =+C165+E165+G165 -> 185 | J165: 6 | K165: 1077 | L165: 0 | M165: 0 | N165: 0 | O165: 0 | P165: =+J165+L165+N165 -> 6 | Q165: =+K165+M165+O165 -> 1077
A166: KUALA PILAH | B166: 1 | C166: 120 | D166: 0 | E166: 0 | F166: 0 | G166: 0 | H166: =+B166+D166+F166 -> 1 | I166: =+C166+E166+G166 -> 120 | J166: 9 | K166: 357 | L166: 0 | M166: 0 | N166: 0 | O166: 0 | P166: =+J166+L166+N166 -> 9 | Q166: =+K166+M166+O166 -> 357
A167: JEMPOL | B167: 3 | C167: 365 | D167: 0 | E167: 0 | F167: 0 | G167: 0 | H167: =+B167+D167+F167 -> 3 | I167: =+C167+E167+G167 -> 365 | J167: 4 | K167: 620 | L167: 0 | M167: 0 | N167: 0 | O167: 0 | P167: =+J167+L167+N167 -> 4 | Q167: =+K167+M167+O167 -> 620
...

Sheet kategori ikut komoditi
A1: BILANGAN KATEGORI PENTERNAKAN TAHUN 2023
A3: BIL | B3: KOMIDITI | C3: KATEGORI PENTERNAK
C4: KECIL | D4: SEMIKOMERSIAL | E4: KOMERSIL | F4: JUMLAH
A5: 1 | B5: LEMBU PEDAGING | C5: =+kategori!B15 -> 789 | D5: =+kategori!D15 -> 51 | E5: =+kategori!F15 -> 18 | F5: =SUM(C5:E5) -> 858 | G5: *( 28 PENTERNAK TDK AKTIF)
A6: 2 | B6: LEMBU TENUSU | C6: =+kategori!J15 -> 93 | D6: =+kategori!L15 -> 5 | E6: =+kategori!N15 -> 2 | F6: =SUM(C6:E6) -> 100 | G6: *( 7 PENTERNAK TDK AKTIF)
A7: 3 | B7: KERBAU | C7: =+kategori!B41 -> 83 | D7: =+kategori!D41 -> 1 | E7: =+kategori!F41 -> 2 | F7: =SUM(C7:E7) -> 86 | G7: *( 3 PENTERNAK TDK AKTIF)
A8: 4 | B8: KAMBING | C8: =+kategori!B28 -> 558 | D8: =+kategori!D28 -> 1 | E8: =+kategori!F28 -> 0 | F8: =SUM(C8:E8) -> 559 | G8: *( 22 PENTERNAK TDK AKTIF)
A9: 5 | B9: BEBIRI | C9: =+kategori!J28 -> 438 | D9: =+kategori!L28 -> 5 | E9: =+kategori!N28 -> 0 | F9: =SUM(C9:E9) -> 443 | G9: *( 15 PENTERNAK TDK AKTIF)
B10: JUMLAH BESAR | C10: =SUM(C5:C9) -> 1961 | D10: =SUM(D5:D9) -> 63 | E10: =SUM(E5:E9) -> 22 | F10: =SUM(C10:E10) -> 2046
A12: BILANGAN KATEGORI PENTERNAKAN TAHUN 2023
A14: BIL | B14: KOMIDITI | C14: KATEGORI PENTERNAK
C15: KECIL | D15: SEMIKOMERSIAL | E15: KOMERSIL | F15: JUMLAH
A16: 1 | B16: AYAM PEDAGING | C16: =+kategori!B66 -> 35 | D16: =+kategori!D66 -> 77 | E16: =+kategori!F66 -> 42 | F16: =SUM(C16:E16) -> 154
A17: 2 | B17: AYAM PENELUR | C17: =+kategori!J66 -> 0 | D17: =+kategori!L66 -> 0 | E17: =+kategori!N66 -> 9 | F17: =SUM(C17:E17) -> 9
A18: 3 | B18: AYAM BAKA | C18: =+kategori!B79 -> 0 | D18: =+kategori!D79 -> 9 | E18: =+kategori!F79 -> 14 | F18: =SUM(C18:E18) -> 23
B19: JUMLAH BESAR | C19: =SUM(C16:C18) -> 35 | D19: =SUM(D16:D18) -> 86 | E19: =SUM(E16:E18) -> 65 | F19: =SUM(F16:F18) -> 186

Sheet pen dan ternkn
A1: RINGKASAN BANCIAN PENTERNAK DAN TERNAKAN
A2: TAHUN 2023
A4: DAERAH | B4: Seremban | D4: Jelebu | F4: Rembau | H4: Kuala Pilah | J4: Jempol | L4: Tampin | N4: Port Dickson | P4: Jumlah
B5: Penternak | C5: Ternakan | D5: Penternak | E5: Ternakan | F5: Penternak | G5: Ternakan | H5: Penternak | I5: Ternakan | J5: Penternak | K5: Ternakan | L5: Penternak | M5: Ternakan | N5: Penternak | O5: Ternakan | P5: Penternak | Q5: Ternakan
A6: Lembu Pedaging | B6: 64 | C6: 3636 | D6: 160 | E6: 5430 | F6: 123 | G6: 4420 | H6: 43 | I6: 1718 | J6: 188 | K6: 17342 | L6: 137 | M6: 6637 | N6: 143 | O6: 4157 | P6: =+B6+D6+F6+H6+J6+L6+N6 -> 858 | Q6: =+C6+E6+G6+I6+K6+M6+O6 -> 43340
A7: Lembu Tenusu | B7: 47 | C7: 1621 | D7: 3 | E7: 130 | F7: 4 | G7: 259 | H7: 1 | I7: 558 | J7: 4 | K7: 163 | L7: 17 | M7: 381 | N7: 24 | O7: 946 | P7: =+B7+D7+F7+H7+J7+L7+N7 -> 100 | Q7: =+C7+E7+G7+I7+K7+M7+O7 -> 4058
A8: Kerbau | B8: 8 | C8: 528 | D8: 8 | E8: 146 | F8: 24 | G8: 671 | H8: 12 | I8: 177 | J8: 17 | K8: 795 | L8: 15 | M8: 332 | N8: 2 | O8: 18 | P8: =+B8+D8+F8+H8+J8+L8+N8 -> 86 | Q8: =+C8+E8+G8+I8+K8+M8+O8 -> 2667
A9: Kambing | B9: 77 | C9: 2357 | D9: 101 | E9: 2231 | F9: 68 | G9: 2083 | H9: 113 | I9: 2738 | J9: 54 | K9: 2025 | L9: 58 | M9: 1592 | N9: 88 | O9: 2393 | P9: =+B9+D9+F9+H9+J9+L9+N9 -> 559 | Q9: =+C9+E9+G9+I9+K9+M9+O9 -> 15419
A10: Bebiri | B10: 21 | C10: 816 | D10: 130 | E10: 4577 | F10: 40 | G10: 1789 | H10: 99 | I10: 2562 | J10: 66 | K10: 3869 | L10: 72 | M10: 2354 | N10: 15 | O10: 736 | P10: =+B10+D10+F10+H10+J10+L10+N10 -> 443 | Q10: =+C10+E10+G10+I10+K10+M10+O10 -> 16703
A11: Kambing Tenusu | B11: 1 | C11: 60 | D11: 0 | E11: 0 | F11: 1 | G11: 120 | H11: 0 | I11: 0 | J11: 0 | K11: 0 | L11: 0 | M11: 0 | N11: 4 | O11: 30 | P11: =+B11+D11+F11+H11+J11+L11+N11 -> 6 | Q11: =+C11+E11+G11+I11+K11+M11+O11 -> 210
A12: Rusa | B12: 4 | C12: 260 | D12: 5 | E12: 40 | F12: 2 | G12: 22 | H12: 2 | I12: 8 | J12: 5 | K12: 64 | L12: 4 | M12: 59 | N12: 6 | O12: 131 | P12: =+B12+D12+F12+H12+J12+L12+N12 -> 28 | Q12: =+C12+E12+G12+I12+K12+M12+O12 -> 584
A13: Ayam Baka | B13: 0 | C13: 0 | D13: 0 | E13: 0 | F13: 4 | G13: 578520 | H13: 2 | I13: 184000 | J13: 1 | K13: 160000 | L13: 13 | M13: 1935000 | N13: 3 | O13: 648512 | P13: =+B13+D13+F13+H13+J13+L13+N13 -> 23 | Q13: =+C13+E13+G13+I13+K13+M13+O13 -> 3506032
A14: Ayam Penelur | B14: 3 | C14: 1650000 | D14: 0 | E14: 0 | F14: 2 | G14: 1222080 | H14: 1 | I14: 800000 | J14: 0 | K14: 0 | L14: 1 | M14: 950000 | N14: 2 | O14: 1515936 | P14: =+B14+D14+F14+H14+J14+L14+N14 -> 9 | Q14: =+C14+E14+G14+I14+K14+M14+O14 -> 6138016
A15: Ayam Pedaging | B15: 18 | C15: 2072700 | D15: 20 | E15: 2222900 | F15: 10 | G15: 870500 | H15: 4 | I15: 712000 | J15: 19 | K15: 2323100 | L15: 25 | M15: 7691000 | N15: 58 | O15: 4033500 | P15: =+B15+D15+F15+H15+J15+L15+N15 -> 154 | Q15: =+C15+E15+G15+I15+K15+M15+O15 -> 19925700
A16: Ayam Kampung | B16: 18 | C16: 24720 | D16: 94 | E16: 86489 | F16: 26 | G16: 4556 | H16: 78 | I16: 6926 | J16: 14 | K16: 3185 | L16: 13 | M16: 1645 | N16: 24 | O16: 37427 | P16: =+B16+D16+F16+H16+J16+L16+N16 -> 267 | Q16: =+C16+E16+G16+I16+K16+M16+O16 -> 164948
A17: Itik Pembiak | B17: 0 | C17: 0 | D17: 0 | E17: 0 | F17: 0 | G17: 0 | H17: 0 | I17: 0 | J17: 0 | K17: 0 | L17: 0 | M17: 0 | N17: 0 | O17: 0 | P17: =+B17+D17+F17+H17+J17+L17+N17 -> 0 | Q17: =+C17+E17+G17+I17+K17+M17+O17 -> 0
... A21: Puyuh Penelur | B21: 0 | C21: 0 | D21: 0 | E21: 0 | F21: 0 | G21: 0 | H21: 0 | I21: 0 | J21: 0 | K21: 0 | L21: 0 | M21: 0 | N21: 0 | O21: 0 | P21: =+B21+D21+F21+H21+J21+L21+N21 -> 0 | Q21: =+C21+E21+G21+I21+K21+M21+O21 -> 0
A22: Puyuh Baka | B22: 0 | C22: 0 | D22: 0 | E22: 0 | F22: 0 | G22: 0 | H22: 0 | I22: 0 | J22: 0 | K22: 0 | M22: 0 | N22: 0 | O22: 0 | P22: =+B22+D22+F22+H22+J22+L22+N22 -> 0 | Q22: =+C22+E22+G22+I22+K22+M22+O22 -> 0
A23: Merpati | B23: 0 | C23: 0 | D23: 0 | E23: 0 | F23: 0 | G23: 0 | H23: 0 | I23: 0 | J23: 0 | K23: 0 | L23: 0 | M23: 0 | N23: 0 | O23: 0 | P23: =+B23+D23+F23+H23+J23+L23+N23 -> 0 | Q23: =+C23+E23+G23+I23+K23+M23+O23 -> 0
A24: Ostrich | B24: 1 | C24: 6 | D24: 0 | E24: 0 | F24: 0 | G24: 0 | H24: 1 | I24: 3 | J24: 0 | K24: 0 | L24: 0 | M24: 0 | N24: 3 | O24: 16 | P24: =+B24+D24+F24+H24+J24+L24+N24 -> 5 | Q24: =+C24+E24+G24+I24+K24+M24+O24 -> 25
A25: Katak | B25: 0 | C25: 0 | D25: 0 | E25: 0 | F25: 0 | G25: 0 | H25: 0 | I25: 0 | J25: 0 | K25: 0 | L25: 0 | M25: 0 | N25: 0 | O25: 0 | P25: =+B25+D25+F25+H25+J25+L25+N25 -> 0 | Q25: =+C25+E25+G25+I25+K25+M25+O25 -> 0
A26: Unta | B26: 0 | C26: 0 | D26: 0 | E26: 0 | F26: 0 | G26: 0 | H26: 0 | I26: 0 | J26: 0 | K26: 0 | L26: 0 | M26: 0 | N26: 0 | O26: 0 | P26: =+B26+D26+F26+H26+J26+L26+N26 -> 0 | Q26: =+C26+E26+G26+I26+K26+M26+O26 -> 0
A27: Arnab | B27: 3 | C27: 4680 | D27: 4 | E27: 500 | F27: 3 | G27: 85 | H27: 2 | I27: 30 | J27: 3 | K27: 758 | L27: 1 | M27: 860 | N27: 7 | O27: 388 | P27: =+N27+L27+J27+H27+F27+D27+B27 -> 23 | Q27: =+C27+E27+G27+I27+K27+M27+O27 -> 7301
A28: Babi | B28: 0 | C28: 0 | D28: 0 | E28: 0 | F28: 0 | G28: 0 | H28: 0 | I28: 0 | J28: 0 | K28: 0 | L28: 1 | M28: 380 | N28: 0 | O28: 0 | P28: =+B28+D28+F28+H28+J28+L28+N28 -> 1 | Q28: 380
A29: Kuda | B29: 6 | C29: 72 | D29: 0 | E29: 0 | F29: 4 | G29: 88 | H29: 2 | I29: 20 | J29: 0 | K29: 0 | L29: 0 | M29: 0 | N29: 4 | O29: 22 | P29: =+B29+D29+F29+H29+J29+L29+N29 -> 16 | Q29: =+C29+E29+G29+I29+K29+M29+O29 -> 202
A30: Ayam Api-api | B30: 0 | C30: 0 | D30: 0 | E30: 0 | F30: 0 | G30: 0 | H30: 0 | I30: 0 | J30: 0 | K30: 0 | L30: 0 | M30: 0 | N30: 0 | O30: 0 | P30: =+B30+D30+F30+H30+J30+L30+N30 -> 0 | Q30: =+C30+E30+G30+I30+K30+M30+O30 -> 0
A31: Ayam Selasih | B31: 0 | C31: 0 | D31: 0 | E31: 0 | F31: 0 | G31: 0 | H31: 0 | I31: 0 | J31: 0 | K31: 0 | L31: 0 | M31: 0 | N31: 0 | O31: 0 | P31: =+B31+D31+F31+H31+J31+L31+N31 -> 0 | Q31: =+C31+E31+G31+I31+K31+M31+O31 -> 0
A32: Landak | B32: 0 | C32: 0 | D32: 0 | E32: 0 | F32: 0 | G32: 0 | H32: 0 | I32: 0 | J32: 1 | K32: 10 | L32: 0 | M32: 0 | N32: 0 | O32: 0 | P32: =+B32+D32+F32+H32+J32+L32+N32 -> 1 | Q32: =+C32+E32+G32+I32+K32+M32+O32 -> 10
A33: Ayam Belanda | B33: 0 | C33: 0 | D33: 0 | E33: 0 | F33: 0 | G33: 0 | H33: 0 | I33: 0 | J33: 0 | K33: 0 | L33: 0 | M33: 0 | N33: 0 | O33: 0 | P33: =+B33+D33+F33+H33+J33+L33+N33 -> 0 | Q33: =+C33+E33+G33+I33+K33+M33+O33 -> 0
A34: Ayam Kuang | B34: 0 | C34: 0 | D34: 0 | E34: 0 | F34: 0 | G34: 0 | H34: 0 | I34: 0 | J34: 0 | K34: 0 | L34: 0 | M34: 0 | N34: 0 | O34: 0 | P34: =+B34+D34+F34+H34+J34+L34+N34 -> 0 | Q34: =+C34+E34+G34+I34+K34+M34+O34 -> 0
A35: Ayam Mutiara | B35: 0 | C35: 0 | D35: 0 | E35: 0 | F35: 0 | G35: 0 | H35: 2 | I35: 56 | J35: 1 | K35: 2 | L35: 0 | M35: 0 | N35: 0 | O35: 0 | P35: =+B35+D35+F35+H35+J35+L35+N35 -> 3 | Q35: =+C35+E35+G35+I35+K35+M35+O35 -> 58
A36: Ayam Serama | B36: 0 | C36: 0 | D36: 0 | E36: 0 | F36: 0 | G36: 0 | H36: 0 | I36: 0 | J36: 0 | K36: 0 | L36: 0 | M36: 0 | N36: 0 | O36: 0 | P36: =+B36+D36+F36+H36+J36+L36+N36 -> 0 | Q36: =+C36+E36+G36+I36+K36+M36+O36 -> 0
A37: Ayam Katek | B37: 0 | C37: 0 | D37: 0 | E37: 0 | F37: 0 | G37: 0 | H37: 0 | I37: 0 | J37: 0 | K37: 0 | L37: 0 | M37: 0 | N37: 0 | O37: 0 | P37: =+B37+D37+F37+H37+J37+L37+N37 -> 0 | Q37: =+C37+E37+G37+I37+K37+M37+O37 -> 0
A38: Ayam Turki | B38: 0 | C38: 0 | D38: 0 | E38: 0 | F38: 0 | G38: 0 | H38: 0 | I38: 0 | J38: 0 | K38: 0 | L38: 0 | M38: 0 | N38: 0 | O38: 0 | P38: =+B38+D38+F38+H38+J38+L38+N38 -> 0 | Q38: =+C38+E38+G38+I38+K38+M38+O38 -> 0
A39: Ayam Piru | B39: 4 | C39: 230 | D39: 0 | E39: 0 | F39: 1 | G39: 55 | H39: 0 | I39: 0 | J39: 0 | K39: 0 | L39: 0 | M39: 0 | N39: 2 | O39: 41 | P39: =+B39+D39+F39+H39+J39+L39+N39 -> 7 | Q39: =+C39+E39+G39+I39+K39+M39+O39 -> 326
A40: Labi-Labi | B40: 0 | C40: 0 | D40: 0 | E40: 0 | F40: 0 | G40: 0 | H40: 0 | I40: 0 | J40: 0 | K40: 0 | L40: 0 | M40: 0 | N40: 0 | O40: 0 | P40: =+B40+D40+F40+H40+J40+L40+N40 -> 0 | Q40: =+C40+E40+G40+I40+K40+M40+O40 -> 0
... A43: Burung Walit | B43: 123 | C43: 0 | D43: 13 | E43: 0 | F43: 3 | G43: 0 | H43: 6 | I43: 0 | J43: 102 | K43: 0 | L43: 24 | M43: 0 | N43: 60 | O43: 0 | P43: =+B43+D43+F43+H43+J43+L43+N43 -> 331 | Q43: =+C43+E43+G43+I43+K43+M43+O43 -> 0
A44: JUMLAH | B44: =SUM(B6:B43) -> 411 | C44: =SUM(C6:C43) -> 3766316 | D44: =SUM(D6:D43) -> 581 | E44: =SUM(E6:E43) -> 2354140 | F44: =SUM(F6:F43) -> 335 | G44: =SUM(G6:G43) -> 2836561 | H44: =SUM(H6:H43) -> 380 | I44: =SUM(I6:I43) -> 1711280 | ... Q44: =SUM(Q6:Q43) -> 30056697
M45: JUMLAH PENTERNAK : | P45: =+B44+D44+F44+H44+J44+L44+N44 -> 3056
M46: JUMLAH TERNAKAN : | P46: =+Q44 -> 30056697
